From mboxrd@z Thu Jan 1 00:00:00 1970 Return-Path: Received: from mails.dpdk.org (mails.dpdk.org [217.70.189.124]) by inbox.dpdk.org (Postfix) with ESMTP id 43A9C48937 for ; Tue, 14 Oct 2025 19:45:19 +0200 (CEST) Received: from mails.dpdk.org (localhost [127.0.0.1]) by mails.dpdk.org (Postfix) with ESMTP id 32F8040288; Tue, 14 Oct 2025 19:45:19 +0200 (CEST) Received: from mail-pf1-f226.google.com (mail-pf1-f226.google.com [209.85.210.226]) by mails.dpdk.org (Postfix) with ESMTP id C6DE240288 for ; Tue, 14 Oct 2025 19:45:17 +0200 (CEST) Received: by mail-pf1-f226.google.com with SMTP id d2e1a72fcca58-781ea2cee3fso5416833b3a.0 for ; Tue, 14 Oct 2025 10:45:17 -0700 (PDT) DKIM-Signature: v=1; a=rsa-sha256; c=relaxed/relaxed; d=iol.unh.edu; s=unh-iol; t=1760463917; x=1761068717; darn=dpdk.org; h=references:in-reply-to:cc:to:from:subject:message-id:date:from:to :cc:subject:date:message-id:reply-to; bh=erMMau1jHQzEVmZjbaAo24INl0oPlAt7j3QqOPzW0fk=; b=fipxnMlGEwCNJanpnHr5mMm7ZfOBJODhLzmjsWmqHw5zVsb5g/cdpujbR/kitzkSyz Sw7UErwGMzKk98xFLe+/5XMu+5vXd79AdRYTl/D/RfOdEIXnNwxXRo2ecMxC8mAiYoc9 oZ5g3hVxBjdhrL75vQe566Vtr+71jBUUKQL6U= X-Google-DKIM-Signature: v=1; a=rsa-sha256; c=relaxed/relaxed; d=1e100.net; s=20230601; t=1760463917; x=1761068717; h=references:in-reply-to:cc:to:from:subject:message-id:date :x-gm-message-state:from:to:cc:subject:date:message-id:reply-to; bh=erMMau1jHQzEVmZjbaAo24INl0oPlAt7j3QqOPzW0fk=; b=Agfrpx4l7JpsLfzmgNlsr+nlkufcLzox47dJDLlfcQgqMNok10gY6ainSOZoh1ZAJK 9xj+ajE100HpFQv/Unmp6or58Jd89OxA0jbfaD+8/rE2xRWD8BNgIXHgd1/T2l6d9F+H Xcq234QbtfV6shrsd1e2v/D0Yiisz9GDW2UFg54Ty09AQG/FQtnIpwCTemKavmzyU3xg BG0L6e4Usxy7SpVcAsBiaMhXW8bpMnalhaNHwMOYm0M+/MjS7QoMY4JFi0I/poUyNkgy j01Zc+OVJBEvdMY8oZdf07zhsPQyNlj0jdkoj6gBz2Oq0DNTxYKBOxf+h9x6YhlTbf0n x8Rw== X-Gm-Message-State: AOJu0YzejnuF/ao/AIsnQVFR0jpDbJVxZ/1iG2yfE8XNdRwt3/uOhK2E RwrDyDm4mAvxc5frbfvruyusUoXBUjXdTPIHVIrWjX16qJeawYBzKK6xGoQNhUbysshMdKKhu3n tM+yTFc2ZLyvM783DpXl546gWLCBTBwhKUKtagDvyz3Ts X-Gm-Gg: ASbGncuZxbL35/Zkp+Ce8TAsgjII7hq9zqz5aqg3nRj7YnPrYxCD26sxhBREKq2JeEl U93zEu7vuRTda/eltUDoiX5jllQu4Xaqcrv7PGG7mGhuhqZmego5rsO9MYHRTt/g6ioOI8btNiK cmArwfqBosl20hzu+BCt0T8nq2ow5PkgWlhwsYukY7A/K2IROsFLC5mxsIbvi9Vpl8q326oOjOI DD5S/lln3UnHZYouClBWrEXyQ+CH3DV3kz4vr1ThSotGGzHeJkyYphrkmfFdKa3HoxPqCVJ836g jCk++ACpHXQo0OopCHNOfv5w5OPgTdLP04y2zYOXjVa5njK24F1Q0jyGoJESuW0FBXMDxkRH X-Google-Smtp-Source: AGHT+IGo0+QAMwVqWuCEctKFlG+DU6am48CqX6UsvbmQoz7P+deI5dXjXzj+Oo/obihY3RjbTbnbz80zeEV2 X-Received: by 2002:a05:6a21:33a6:b0:327:1e57:f6d8 with SMTP id adf61e73a8af0-32da81344demr31966236637.7.1760463916720; Tue, 14 Oct 2025 10:45:16 -0700 (PDT) Received: from postal.iol.unh.edu (postal.iol.unh.edu. [132.177.123.84]) by smtp-relay.gmail.com with ESMTPS id d2e1a72fcca58-79930562ba6sm1290317b3a.4.2025.10.14.10.45.16 (version=TLS1_2 cipher=ECDHE-ECDSA-AES128-GCM-SHA256 bits=128/128); Tue, 14 Oct 2025 10:45:16 -0700 (PDT) X-Relaying-Domain: iol.unh.edu Date: Tue, 14 Oct 2025 10:45:16 -0700 (PDT) Message-ID: <68ee8c2c.050a0220.3a5053.07bbSMTPIN_ADDED_MISSING@mx.google.com> Received: from [172.21.0.2] (unknown [172.18.0.240]) by postal.iol.unh.edu (Postfix) with ESMTP id F06826050A61; Tue, 14 Oct 2025 13:45:15 -0400 (EDT) Subject: |SUCCESS| pw157548-157553 [PATCH] [6/6] net/ice: reformat the Rx pat From: dpdklab@iol.unh.edu To: Test Report Cc: dpdk-test-reports@iol.unh.edu, Bruce Richardson In-Reply-To: <20251014084517.1407407-7-ciara.loftus@intel.com> References: <20251014084517.1407407-7-ciara.loftus@intel.com> Content-Type: text/plain X-BeenThere: test-report@dpdk.org X-Mailman-Version: 2.1.29 Precedence: list List-Id: automatic DPDK test reports List-Unsubscribe: , List-Archive: List-Post: List-Help: List-Subscribe: , Errors-To: test-report-bounces@dpdk.org Test-Label: iol-unit-arm64-testing Test-Status: SUCCESS http://dpdk.org/patch/157553 _Testing PASS_ Submitter: Loftus, Ciara Date: Tuesday, October 14 2025 08:45:17 DPDK git baseline: Repo:dpdk-next-net-intel Branch: master CommitID:b26049c00e3c452cb446d688a43c6c7eebbee32e 157548-157553 --> testing pass Upstream job id: Generic-Unit-Test-DPDK#381173 Test environment and result as below: +------------------------------+----------------+------------------------------+--------------+---------------------------+ | Environment | dpdk_unit_test | cryptodev_sw_snow3g_autotest | lpm_autotest | cryptodev_sw_zuc_autotest | +==============================+================+==============================+==============+===========================+ | CentOS Stream 10 | PASS | SKIPPED | SKIPPED | SKIPPED | +------------------------------+----------------+------------------------------+--------------+---------------------------+ | CentOS Stream 9 | PASS | SKIPPED | SKIPPED | SKIPPED | +------------------------------+----------------+------------------------------+--------------+---------------------------+ | Debian GNU/Linux 12 | PASS | SKIPPED | SKIPPED | SKIPPED | +------------------------------+----------------+------------------------------+--------------+---------------------------+ | Fedora Linux 40 | PASS | SKIPPED | SKIPPED | SKIPPED | +------------------------------+----------------+------------------------------+--------------+---------------------------+ | Fedora Linux 41 | PASS | SKIPPED | SKIPPED | SKIPPED | +------------------------------+----------------+------------------------------+--------------+---------------------------+ | Fedora Linux 42 | PASS | SKIPPED | SKIPPED | SKIPPED | +------------------------------+----------------+------------------------------+--------------+---------------------------+ | Ubuntu 22.04 | PASS | SKIPPED | SKIPPED | SKIPPED | +------------------------------+----------------+------------------------------+--------------+---------------------------+ | Red Hat Enterprise Linux 9.5 | PASS | SKIPPED | SKIPPED | SKIPPED | +------------------------------+----------------+------------------------------+--------------+---------------------------+ | Ubuntu 24.04 | PASS | SKIPPED | SKIPPED | SKIPPED | +------------------------------+----------------+------------------------------+--------------+---------------------------+ | Ubuntu 20.04 | PASS | SKIPPED | PASS | SKIPPED | +------------------------------+----------------+------------------------------+--------------+---------------------------+ | Debian 12 (arm) | SKIPPED | PASS | SKIPPED | PASS | +------------------------------+----------------+------------------------------+--------------+---------------------------+ CentOS Stream 10 Kernel: 5.4 Compiler: gcc gcc (GCC) 14.2.1 20250110 (Red Hat 14.2.1-8) CentOS Stream 9 Kernel: 5.4 Compiler: gcc gcc (GCC) 11.5.0 20240719 (Red Hat 11.5.0-11) Debian GNU/Linux 12 Kernel: 5.4 Compiler: gcc gcc (Debian 12.2.0-14+deb12u1) 12.2.0 Fedora Linux 40 Kernel: 5.4 Compiler: gcc gcc (GCC) 14.2.1 20240912 (Red Hat 14.2.1-3) Fedora Linux 41 Kernel: 5.4 Compiler: gcc gcc (GCC) 14.3.1 20250523 (Red Hat 14.3.1-1) Fedora Linux 42 Kernel: 5.4 Compiler: gcc gcc (GCC) 15.2.1 20250808 (Red Hat 15.2.1-1) Ubuntu 22.04 Kernel: 5.4 Compiler: gcc gcc (Ubuntu 11.4.0-1ubuntu1~22.04) 11.4.0 Red Hat Enterprise Linux 9.5 Kernel: 5.4 Compiler: gcc gcc (GCC) 11.5.0 20240719 (Red Hat 11.5.0-2) Ubuntu 24.04 Kernel: 5.4 Compiler: gcc gcc (Ubuntu 13.3.0-6ubuntu2~24.04) 13.3.0 Ubuntu 20.04 Kernel: 5.4 Compiler: gcc gcc (Ubuntu 9.4.0-1ubuntu1~20.04.2) 9.4.0 Debian 12 (arm) Kernel: Depends on container host Compiler: gcc (Debian 12.2.0-14) 12.2.0 To view detailed results, visit: https://lab.dpdk.org/results/dashboard/patchsets/34272/ UNH-IOL DPDK Community Lab To manage your email subscriptions, visit: https://lab.dpdk.org/results/dashboard/preferences/subscriptions/