From mboxrd@z Thu Jan 1 00:00:00 1970 Return-Path: Received: from mails.dpdk.org (mails.dpdk.org [217.70.189.124]) by inbox.dpdk.org (Postfix) with ESMTP id 9889148937 for ; Tue, 14 Oct 2025 19:47:51 +0200 (CEST) Received: from mails.dpdk.org (localhost [127.0.0.1]) by mails.dpdk.org (Postfix) with ESMTP id 7815C40288; Tue, 14 Oct 2025 19:47:51 +0200 (CEST) Received: from mail-io1-f98.google.com (mail-io1-f98.google.com [209.85.166.98]) by mails.dpdk.org (Postfix) with ESMTP id DFBBB40288 for ; Tue, 14 Oct 2025 19:47:50 +0200 (CEST) Received: by mail-io1-f98.google.com with SMTP id ca18e2360f4ac-92c4adc8bfeso494987039f.0 for ; Tue, 14 Oct 2025 10:47:50 -0700 (PDT) DKIM-Signature: v=1; a=rsa-sha256; c=relaxed/relaxed; d=iol.unh.edu; s=unh-iol; t=1760464070; x=1761068870; darn=dpdk.org; h=references:in-reply-to:cc:to:from:subject:message-id:date:from:to :cc:subject:date:message-id:reply-to; bh=I8YTzIM8Q8YvU77PMHxfJtKOZZ4famTUivJGrfv6aoo=; b=d+AviyWPmXNkUpbPWp/g3v0p8WQ/qUd3ykdKeXNGXis3nZ2fKqN6VZorktsh6XPKO4 CSrmRINB0HkYhtPld4Uoszos8AAJsArR4ASoj72glU2mIGBMYTWT4DR9JKrw8eLRWI6p K7BbYId/W5abSOHe6ntOjPQ818TWca2i+EOr8= X-Google-DKIM-Signature: v=1; a=rsa-sha256; c=relaxed/relaxed; d=1e100.net; s=20230601; t=1760464070; x=1761068870; h=references:in-reply-to:cc:to:from:subject:message-id:date :x-gm-message-state:from:to:cc:subject:date:message-id:reply-to; bh=I8YTzIM8Q8YvU77PMHxfJtKOZZ4famTUivJGrfv6aoo=; b=uUQLy5V116YLCCzPpj4BZ2TGrpe2tjUwOsryB8bYXIzFVH41iLfNgEOAnjaFNVDnd+ XLtkaw0QpvQW7nBvGn8GVA9PCdt6y6exNIQUIoymCqcyBc/NjLc8RE6xUDxUh9REANAz Tk0xO7Aa+zE6CiKLRcqGoc5Io+SmEmXe6k5D2EH7GBraRFlVX3Ey6P+1y+N6HvPxStDZ kc/HxypOsE1sF0CGOs/AUiy37XKDIV5jj0k0G/CaMfFVvAdFAg5roDH1vkekOeLichDz UKYVglPDUQMJg9qmzmQhJXx5zkK2XuZMS8XiwmnmgN2qopkcnmL16NozQ+YVzLeQqFWe EecQ== X-Gm-Message-State: AOJu0YzTlspdlX6byO5TA79GDSMgPEda0xRtvlOEJ7dCLM2o+gOqbbJ1 7PsFA6I9r6gTnKNf8xdUZZ5Vn2zEhbS6m/TZun97VLdHlFt/TfRN9cnkwzprgx8wtd2epvek2B7 R4O7laGU0M2c+3ci5sn3XVpAkM+nkge+Dt+Ve4eERTTS+iO2g1e0HSd1tpPvo X-Gm-Gg: ASbGncsmUWxNAQmSiXLfeFyqv3Vckz9GyvzJesYXjvGbobt9MIF4WLAcrlpNI2hN4yi ah7j3OM0qlYfKkARUM8Qx4PlbYFqso3GH6+r4wdudyi/Lwqh8iRIoiYc2idLA54/D4VL6LwROv6 JBzbqY/M5u1WiQs73UNKI1FC0bFaqVg1NeDxb3F47IaVRVkIw8w4OXOhJvB0hfpiRyRu+eNoEPv sKuRW3aI5rKDWlc2dGxYoIVRDYdT9JYT6baeEGU2eA0ZF4hrA2gCny4us/ATO2dAJz5GtjqKlzO O3GuN99EZlzdFN/Ocfz5Dg5+7pRavFn8tWSylxaoLSgl399EMQ== X-Google-Smtp-Source: AGHT+IGNxzomeoiWYga3ZQoSXEfES/Q9Q9eMs4rnk/50q7mYSNQgTAFbWV35f3MM4Lya0qFXSNQxhsAQC++B X-Received: by 2002:a05:6602:2c09:b0:919:629f:9770 with SMTP id ca18e2360f4ac-93bd192916cmr3332339739f.10.1760464070181; Tue, 14 Oct 2025 10:47:50 -0700 (PDT) Received: from postal.iol.unh.edu (postal.iol.unh.edu. [2606:4100:3880:1234::84]) by smtp-relay.gmail.com with ESMTPS id ca18e2360f4ac-93e2594f67csm86059039f.6.2025.10.14.10.47.50 (version=TLS1_2 cipher=ECDHE-ECDSA-AES128-GCM-SHA256 bits=128/128); Tue, 14 Oct 2025 10:47:50 -0700 (PDT) X-Relaying-Domain: iol.unh.edu Date: Tue, 14 Oct 2025 10:47:50 -0700 (PDT) Message-ID: <68ee8cc6.6b0a0220.55359.d22fSMTPIN_ADDED_MISSING@mx.google.com> Received: from [172.21.0.2] (unknown [172.18.0.240]) by postal.iol.unh.edu (Postfix) with ESMTP id B8D806050A61; Tue, 14 Oct 2025 13:47:49 -0400 (EDT) Subject: |SUCCESS| pw157562-157563 [PATCH] [v7,2/2] net/cpfl: added CPFL devI From: dpdklab@iol.unh.edu To: Test Report Cc: dpdk-test-reports@iol.unh.edu, Bruce Richardson In-Reply-To: <20251014104511.459215-3-venkatesh.vemula@intel.com> References: <20251014104511.459215-3-venkatesh.vemula@intel.com> Content-Type: text/plain X-BeenThere: test-report@dpdk.org X-Mailman-Version: 2.1.29 Precedence: list List-Id: automatic DPDK test reports List-Unsubscribe: , List-Archive: List-Post: List-Help: List-Subscribe: , Errors-To: test-report-bounces@dpdk.org Test-Label: iol-compile-amd64-testing Test-Status: SUCCESS http://dpdk.org/patch/157563 _Testing PASS_ Submitter: Vemula, Venkatesh Date: Tuesday, October 14 2025 10:45:11 DPDK git baseline: Repo:dpdk-next-net-intel Branch: master CommitID:b26049c00e3c452cb446d688a43c6c7eebbee32e 157562-157563 --> testing pass Upstream job id: Windows-Compile-DPDK-Native#31613 Test environment and result as below: +-------------------------------+--------------------+-------------------+------------------+-------------------+-------------------------+ | Environment | dpdk_meson_compile | dpdk_compile_spdk | dpdk_compile_ovs | dpdk_msvc_compile | dpdk_llvm_clang_compile | +===============================+====================+===================+==================+===================+=========================+ | Ubuntu 20.04 | PASS | SKIPPED | SKIPPED | SKIPPED | SKIPPED | +-------------------------------+--------------------+-------------------+------------------+-------------------+-------------------------+ | FreeBSD 14.2 | PASS | SKIPPED | SKIPPED | SKIPPED | SKIPPED | +-------------------------------+--------------------+-------------------+------------------+-------------------+-------------------------+ | CentOS Stream 9 | PASS | PASS | SKIPPED | SKIPPED | SKIPPED | +-------------------------------+--------------------+-------------------+------------------+-------------------+-------------------------+ | CentOS Stream 10 | PASS | SKIPPED | SKIPPED | SKIPPED | SKIPPED | +-------------------------------+--------------------+-------------------+------------------+-------------------+-------------------------+ | Debian GNU/Linux 12 | PASS | PASS | SKIPPED | SKIPPED | SKIPPED | +-------------------------------+--------------------+-------------------+------------------+-------------------+-------------------------+ | Fedora Linux 42 | PASS | PASS | PASS | SKIPPED | SKIPPED | +-------------------------------+--------------------+-------------------+------------------+-------------------+-------------------------+ | openSUSE Leap 15.6 | PASS | SKIPPED | SKIPPED | SKIPPED | SKIPPED | +-------------------------------+--------------------+-------------------+------------------+-------------------+-------------------------+ | Red Hat Enterprise Linux 8.10 | PASS | SKIPPED | SKIPPED | SKIPPED | SKIPPED | +-------------------------------+--------------------+-------------------+------------------+-------------------+-------------------------+ | Red Hat Enterprise Linux 9.5 | PASS | SKIPPED | SKIPPED | SKIPPED | SKIPPED | +-------------------------------+--------------------+-------------------+------------------+-------------------+-------------------------+ | Ubuntu 22.04 | PASS | PASS | SKIPPED | SKIPPED | SKIPPED | +-------------------------------+--------------------+-------------------+------------------+-------------------+-------------------------+ | Ubuntu 24.04 | PASS | PASS | PASS | SKIPPED | SKIPPED | +-------------------------------+--------------------+-------------------+------------------+-------------------+-------------------------+ | Alpine Linux 3.22.0 | PASS | SKIPPED | SKIPPED | SKIPPED | SKIPPED | +-------------------------------+--------------------+-------------------+------------------+-------------------+-------------------------+ | Windows Server 2022 | SKIPPED | SKIPPED | SKIPPED | PASS | PASS | +-------------------------------+--------------------+-------------------+------------------+-------------------+-------------------------+ Ubuntu 20.04 Kernel: 4.19 Compiler: gcc gcc (Ubuntu 9.4.0-1ubuntu1~20.04.2) 9.4.0 FreeBSD 14.2 Kernel: 14.2-RELEASE Compiler: clang 18.1.6 CentOS Stream 9 Kernel: 5.15 Compiler: gcc gcc (GCC) 11.5.0 20240719 (Red Hat 11.5.0-11) CentOS Stream 10 Kernel: 5.15 Compiler: gcc gcc (GCC) 14.2.1 20250110 (Red Hat 14.2.1-8) Debian GNU/Linux 12 Kernel: 5.15 Compiler: gcc gcc (Debian 12.2.0-14+deb12u1) 12.2.0 Fedora Linux 42 Kernel: 5.15 Compiler: clang gcc (GCC) 15.2.1 20250808 (Red Hat 15.2.1-1) openSUSE Leap 15.6 Kernel: 5.15 Compiler: gcc gcc (SUSE Linux) 7.5.0 Red Hat Enterprise Linux 8.10 Kernel: 5.15 Compiler: gcc gcc (GCC) 8.5.0 20210514 (Red Hat 8.5.0-22) Red Hat Enterprise Linux 9.5 Kernel: 5.15 Compiler: gcc gcc (GCC) 11.5.0 20240719 (Red Hat 11.5.0-2) Ubuntu 22.04 Kernel: 5.15 Compiler: gcc gcc (Ubuntu 11.4.0-1ubuntu1~22.04) 11.4.0 Ubuntu 24.04 Kernel: 5.15 Compiler: gcc gcc (Ubuntu 13.3.0-6ubuntu2~24.04) 13.3.0 Alpine Linux 3.22.0 Kernel: 5.15 Compiler: gcc gcc (Alpine 14.2.0) 14.2.0 Windows Server 2022 Kernel: 10.0.20348.2031 Compiler: clang 15.0.7, gcc 14.1.0 (MinGW), and MSVC VS 19.39.33521 To view detailed results, visit: https://lab.dpdk.org/results/dashboard/patchsets/34275/ UNH-IOL DPDK Community Lab To manage your email subscriptions, visit: https://lab.dpdk.org/results/dashboard/preferences/subscriptions/