From mboxrd@z Thu Jan 1 00:00:00 1970 Return-Path: Received: from mails.dpdk.org (mails.dpdk.org [217.70.189.124]) by inbox.dpdk.org (Postfix) with ESMTP id 0E18048937 for ; Tue, 14 Oct 2025 19:52:32 +0200 (CEST) Received: from mails.dpdk.org (localhost [127.0.0.1]) by mails.dpdk.org (Postfix) with ESMTP id E041540288; Tue, 14 Oct 2025 19:52:31 +0200 (CEST) Received: from mail-il1-f226.google.com (mail-il1-f226.google.com [209.85.166.226]) by mails.dpdk.org (Postfix) with ESMTP id 18B9440288 for ; Tue, 14 Oct 2025 19:52:31 +0200 (CEST) Received: by mail-il1-f226.google.com with SMTP id e9e14a558f8ab-4259247208aso39683235ab.3 for ; Tue, 14 Oct 2025 10:52:31 -0700 (PDT) DKIM-Signature: v=1; a=rsa-sha256; c=relaxed/relaxed; d=iol.unh.edu; s=unh-iol; t=1760464350; x=1761069150; darn=dpdk.org; h=references:in-reply-to:cc:to:from:subject:message-id:date:from:to :cc:subject:date:message-id:reply-to; bh=ztSM1+FYsnRfGeQoFFFW/iuVyYRf3XcsF10RJFAjXuE=; b=OhZNF/o9EvLmwwxaXt4Ki7kvRoVOHnrshMLH44zXnhcld5F7/UAJLVWUFPz9qsG9ET bQOEEirtgpnLgIspRkXM5UDED8kLgGQcsUQV5qlsvuUjlQwBicKf9WLGkbTZPu4QhvXz Zo48yvE6wEAZZFrcfPF55aUSFmmzeOc1cX38w= X-Google-DKIM-Signature: v=1; a=rsa-sha256; c=relaxed/relaxed; d=1e100.net; s=20230601; t=1760464350; x=1761069150; h=references:in-reply-to:cc:to:from:subject:message-id:date :x-gm-message-state:from:to:cc:subject:date:message-id:reply-to; bh=ztSM1+FYsnRfGeQoFFFW/iuVyYRf3XcsF10RJFAjXuE=; b=RQbVC486hMsZGNju2Xowe4qK746Flno8uBgs2r6pfbkvKwMJDUf/OtZ8JFEdGeFZ2K SZNTPK2cHNJPSwi03qunV3Uyr06+0wNGrTlDdiV0SgL56tOyqp4O6K5ch2sY2b9YI/nm 5FOOFA5d3g25vZBhPdgkkEYLamD2HkKyq6aLd2IKlUks+XMpQP6sP842cisGgKrAaqq5 gFQkXBiPepY91anXS/9cH6u4CmlMSABwctNO6kGhbmicnuikok8qQOTn4Q4A8DmP8vqA li9ujJUznlzbDNaL1m/3BfM57o5zjCrfmEOtINcj3G71cPhhl4eP+YTTcFqnb1EG/A/C otOA== X-Gm-Message-State: AOJu0YziIJ5IjvlvdS4Z38OtCemlmmB+C3dA4AwyibAXazE5v+sbI8fS FDZkdhYlRz3tsLBlpz8SbdQKfNF9Lw5sWc9DN6f6PK3dFLZDoWnWidD/9imCD9ZgPOVIVE2UPmV u6w5bEze3OqY0c6ev9I0OzFKmdDXpelc7nO0pAYcRX2jF X-Gm-Gg: ASbGncvnIXXm1Mha++HJczN3aXB6EPj1FxQOnIWNhOvaCXHvN6o+Ca6eW12i1PwIDh8 Tm4YKBtIaHUrolUVDwJU6tZOlbpP2IzAml9Vy7vokEFtLgFdL3PIDb5mc7ZAwXmzt83/ystQuV5 OCT9HDISD/DZ23M7Xr8MVi9xnbjcl6Fr0Y1WrrrjDYuCx2tjpQxNDSNMJs9Yw6TIKBo2cOG2Xcv f4fCm4Ew6n+ltmGpNc4ei3ApBFLxiX92XGgrKIpOP0B+u/BhnLpLcO5KETWIzmipBeYTO1RJt2/ eqNdL3b1V+iW4V/qaXfaMdkyzp24aKwtTQuA+rtA12NOnkMoIo2X8E6ba1UjAAJyrHuE/nRm X-Google-Smtp-Source: AGHT+IHxuxJ/vSYnVIRWiwGykRcCPXa08EigDn96jiQmBeHvepXYfIPKN4C94WmCsTF6MeljKeYnbgnt0Qop X-Received: by 2002:a05:6e02:1a43:b0:430:a5cc:c8e8 with SMTP id e9e14a558f8ab-430a5ccc9e1mr29801815ab.28.1760464350259; Tue, 14 Oct 2025 10:52:30 -0700 (PDT) Received: from postal.iol.unh.edu (postal.iol.unh.edu. [132.177.123.84]) by smtp-relay.gmail.com with ESMTPS id 8926c6da1cb9f-58f726e7713sm1154838173.49.2025.10.14.10.52.30 (version=TLS1_2 cipher=ECDHE-ECDSA-AES128-GCM-SHA256 bits=128/128); Tue, 14 Oct 2025 10:52:30 -0700 (PDT) X-Relaying-Domain: iol.unh.edu Date: Tue, 14 Oct 2025 10:52:30 -0700 (PDT) Message-ID: <68ee8dde.050a0220.376297.8f31SMTPIN_ADDED_MISSING@mx.google.com> Received: from [172.21.0.2] (unknown [172.18.0.240]) by postal.iol.unh.edu (Postfix) with ESMTP id C886E6050A61; Tue, 14 Oct 2025 13:52:29 -0400 (EDT) Subject: |SUCCESS| pw157564-157565 [PATCH] [v4,2/2] net/iavf: add reinit comm From: dpdklab@iol.unh.edu To: Test Report Cc: dpdk-test-reports@iol.unh.edu, Bruce Richardson In-Reply-To: <20251014123624.1413473-2-ciara.loftus@intel.com> References: <20251014123624.1413473-2-ciara.loftus@intel.com> Content-Type: text/plain X-BeenThere: test-report@dpdk.org X-Mailman-Version: 2.1.29 Precedence: list List-Id: automatic DPDK test reports List-Unsubscribe: , List-Archive: List-Post: List-Help: List-Subscribe: , Errors-To: test-report-bounces@dpdk.org Test-Label: iol-compile-amd64-testing Test-Status: SUCCESS http://dpdk.org/patch/157565 _Testing PASS_ Submitter: Loftus, Ciara Date: Tuesday, October 14 2025 12:36:24 DPDK git baseline: Repo:dpdk-next-net-intel Branch: master CommitID:1e879dc01992b715b57f9f1a062ed9dee788c316 157564-157565 --> testing pass Upstream job id: Windows-Compile-DPDK-Native#31615 Test environment and result as below: +-------------------------------+--------------------+-------------------+------------------+-------------------+-------------------------+ | Environment | dpdk_meson_compile | dpdk_compile_spdk | dpdk_compile_ovs | dpdk_msvc_compile | dpdk_llvm_clang_compile | +===============================+====================+===================+==================+===================+=========================+ | CentOS Stream 9 | PASS | PASS | SKIPPED | SKIPPED | SKIPPED | +-------------------------------+--------------------+-------------------+------------------+-------------------+-------------------------+ | CentOS Stream 10 | PASS | SKIPPED | SKIPPED | SKIPPED | SKIPPED | +-------------------------------+--------------------+-------------------+------------------+-------------------+-------------------------+ | Fedora Linux 42 | PASS | PASS | PASS | SKIPPED | SKIPPED | +-------------------------------+--------------------+-------------------+------------------+-------------------+-------------------------+ | Ubuntu 20.04 | PASS | SKIPPED | SKIPPED | SKIPPED | SKIPPED | +-------------------------------+--------------------+-------------------+------------------+-------------------+-------------------------+ | openSUSE Leap 15.6 | PASS | SKIPPED | SKIPPED | SKIPPED | SKIPPED | +-------------------------------+--------------------+-------------------+------------------+-------------------+-------------------------+ | Ubuntu 22.04 | PASS | PASS | SKIPPED | SKIPPED | SKIPPED | +-------------------------------+--------------------+-------------------+------------------+-------------------+-------------------------+ | Debian GNU/Linux 12 | PASS | PASS | SKIPPED | SKIPPED | SKIPPED | +-------------------------------+--------------------+-------------------+------------------+-------------------+-------------------------+ | FreeBSD 14.2 | PASS | SKIPPED | SKIPPED | SKIPPED | SKIPPED | +-------------------------------+--------------------+-------------------+------------------+-------------------+-------------------------+ | Ubuntu 24.04 | PASS | PASS | PASS | SKIPPED | SKIPPED | +-------------------------------+--------------------+-------------------+------------------+-------------------+-------------------------+ | Red Hat Enterprise Linux 8.10 | PASS | SKIPPED | SKIPPED | SKIPPED | SKIPPED | +-------------------------------+--------------------+-------------------+------------------+-------------------+-------------------------+ | Red Hat Enterprise Linux 9.5 | PASS | SKIPPED | SKIPPED | SKIPPED | SKIPPED | +-------------------------------+--------------------+-------------------+------------------+-------------------+-------------------------+ | Alpine Linux 3.22.0 | PASS | SKIPPED | SKIPPED | SKIPPED | SKIPPED | +-------------------------------+--------------------+-------------------+------------------+-------------------+-------------------------+ | Windows Server 2022 | SKIPPED | SKIPPED | SKIPPED | PASS | PASS | +-------------------------------+--------------------+-------------------+------------------+-------------------+-------------------------+ CentOS Stream 9 Kernel: 5.15 Compiler: gcc gcc (GCC) 11.5.0 20240719 (Red Hat 11.5.0-11) CentOS Stream 10 Kernel: 5.15 Compiler: gcc gcc (GCC) 14.2.1 20250110 (Red Hat 14.2.1-8) Fedora Linux 42 Kernel: 5.15 Compiler: clang gcc (GCC) 15.2.1 20250808 (Red Hat 15.2.1-1) Ubuntu 20.04 Kernel: 4.19 Compiler: gcc gcc (Ubuntu 9.4.0-1ubuntu1~20.04.2) 9.4.0 openSUSE Leap 15.6 Kernel: 5.15 Compiler: gcc gcc (SUSE Linux) 7.5.0 Ubuntu 22.04 Kernel: 5.15 Compiler: gcc gcc (Ubuntu 11.4.0-1ubuntu1~22.04) 11.4.0 Debian GNU/Linux 12 Kernel: 5.15 Compiler: gcc gcc (Debian 12.2.0-14+deb12u1) 12.2.0 FreeBSD 14.2 Kernel: 14.2-RELEASE Compiler: clang 18.1.6 Ubuntu 24.04 Kernel: 5.15 Compiler: gcc gcc (Ubuntu 13.3.0-6ubuntu2~24.04) 13.3.0 Red Hat Enterprise Linux 8.10 Kernel: 5.15 Compiler: gcc gcc (GCC) 8.5.0 20210514 (Red Hat 8.5.0-22) Red Hat Enterprise Linux 9.5 Kernel: 5.15 Compiler: gcc gcc (GCC) 11.5.0 20240719 (Red Hat 11.5.0-2) Alpine Linux 3.22.0 Kernel: 5.15 Compiler: gcc gcc (Alpine 14.2.0) 14.2.0 Windows Server 2022 Kernel: 10.0.20348.2031 Compiler: clang 15.0.7, gcc 14.1.0 (MinGW), and MSVC VS 19.39.33521 To view detailed results, visit: https://lab.dpdk.org/results/dashboard/patchsets/34276/ UNH-IOL DPDK Community Lab To manage your email subscriptions, visit: https://lab.dpdk.org/results/dashboard/preferences/subscriptions/