From mboxrd@z Thu Jan 1 00:00:00 1970 Return-Path: Received: from mails.dpdk.org (mails.dpdk.org [217.70.189.124]) by inbox.dpdk.org (Postfix) with ESMTP id 16E3548937 for ; Tue, 14 Oct 2025 19:53:58 +0200 (CEST) Received: from mails.dpdk.org (localhost [127.0.0.1]) by mails.dpdk.org (Postfix) with ESMTP id 1264440288; Tue, 14 Oct 2025 19:53:58 +0200 (CEST) Received: from mail-yw1-f227.google.com (mail-yw1-f227.google.com [209.85.128.227]) by mails.dpdk.org (Postfix) with ESMTP id 9A02540288 for ; Tue, 14 Oct 2025 19:53:57 +0200 (CEST) Received: by mail-yw1-f227.google.com with SMTP id 00721157ae682-71d6014810fso56200367b3.0 for ; Tue, 14 Oct 2025 10:53:57 -0700 (PDT) DKIM-Signature: v=1; a=rsa-sha256; c=relaxed/relaxed; d=iol.unh.edu; s=unh-iol; t=1760464437; x=1761069237; darn=dpdk.org; h=references:in-reply-to:cc:to:from:subject:message-id:date:from:to :cc:subject:date:message-id:reply-to; bh=0BNLZeeAniDh8pdDGu2/w8jX2XmT/XjB0K1EJoj2td0=; b=E+NP6ZiF95cqfup1s7+EH2nNFrvlUj3yS9dSu/hlWEZo3KPLkEAzvtiSO+j+oGr+Dd a5VPXFRDRhmZhdSQXACRsSIOZ6RTyL1fHgsE/7+trTA8rcJHFAzjUhxk5TiAxm1oWsVc knAkztCJsTQPuvM2bSLg+CporJY249L6Jkalk= X-Google-DKIM-Signature: v=1; a=rsa-sha256; c=relaxed/relaxed; d=1e100.net; s=20230601; t=1760464437; x=1761069237; h=references:in-reply-to:cc:to:from:subject:message-id:date :x-gm-message-state:from:to:cc:subject:date:message-id:reply-to; bh=0BNLZeeAniDh8pdDGu2/w8jX2XmT/XjB0K1EJoj2td0=; b=O4KEP4oxlneGBqUiNHcPlTbUnQu6mcG3Gvt8YAu1D0w9f6vPgfNnBjy6P/mc0afoqr ufXf05oVhKOFgHLlD0xd8UQ7axTcjVnx9jtf7OvLKAh+/HCa+IShUU4BfUwt/R0iN9GS vH07P7dFa4PUHCEUjgeOThp93te29JTOlJHaeYY8/2oysQCPAe6sV5ELwSTe5kpN45kv 2jaVkzhptb7n7Uxheem5Sqz05/ws1/OJzewHONeyzGD1nqUNSce+XgzNfVS+KsMaLCbi rDmpJavVv/k+k9y1hsPXTqOIPudBFC0u0RmiQfGvKN5yIJazKQRp7APxh+9LPoLjTdkx QBDA== X-Gm-Message-State: AOJu0Yy2n7c6vEgndnkqAXC1fuqrO+XaZ9F+3RT66ko52tBVDNDKgZun d6+0LKCyBgiruOWLX2hqEGv78Ql1uCzU9OLoTbQdl6nR7KVK0AIrTM2v13owOklOLvcg6QoLjXq dE4JhZVycHiHXRPqqFFqahB1cZES0t8XUPOHbmXKHyZKs+ZmPV0ArqkUV3HPn X-Gm-Gg: ASbGncvEz9yjdRj1+1d7gokefHMUOiK2FuCVEVvmgiCFRtP7zwv1FHT2H/jI1Pu/kI2 Qe26VCdO6XNfR9FBSO2Z0gK/uISAyZy5Xs2Oy0Q3/l9GaOzUks5A0MnmlD2k6eUWqM5pDKS2ouT PZxf0hCPurEPfz/UI8ylRrJdVd04/p5yTMxJ+ZOvpNPSEmw2EHwIIX0D6B2HsO+tYwpbM1WtKcF muq7cldjnWcCAKeNwgBrtFbplKD1bde5aFFRBTa+OuxKLL80nY+2MbxmjrJ4s+oPxQhySSRkhwF ILo15UXVfmp09rUEJoKmvWTRI6LkD+z3enAQZz1Nx12d3WcYDg== X-Google-Smtp-Source: AGHT+IHnxdpkj+pFjwI70qPtSomigUMpeRm8t9iuP5fP7KlciLwwQjX9Y2TAu7/v9HsMamWZv8FPUPwZoMN3 X-Received: by 2002:a05:690c:6702:b0:781:64f:2b51 with SMTP id 00721157ae682-781064f385dmr169348217b3.64.1760464436918; Tue, 14 Oct 2025 10:53:56 -0700 (PDT) Received: from postal.iol.unh.edu (postal.iol.unh.edu. [2606:4100:3880:1234::84]) by smtp-relay.gmail.com with ESMTPS id 00721157ae682-78106d01091sm8179667b3.1.2025.10.14.10.53.56 (version=TLS1_2 cipher=ECDHE-ECDSA-AES128-GCM-SHA256 bits=128/128); Tue, 14 Oct 2025 10:53:56 -0700 (PDT) X-Relaying-Domain: iol.unh.edu Date: Tue, 14 Oct 2025 10:53:56 -0700 (PDT) Message-ID: <68ee8e34.050a0220.30539e.81d9SMTPIN_ADDED_MISSING@mx.google.com> Received: from [172.21.0.3] (unknown [172.18.0.240]) by postal.iol.unh.edu (Postfix) with ESMTP id 98D166050A61; Tue, 14 Oct 2025 13:53:56 -0400 (EDT) Subject: |SUCCESS| pw157564-157565 [PATCH] [v4,2/2] net/iavf: add reinit comm From: dpdklab@iol.unh.edu To: Test Report Cc: dpdk-test-reports@iol.unh.edu, Bruce Richardson In-Reply-To: <20251014123624.1413473-2-ciara.loftus@intel.com> References: <20251014123624.1413473-2-ciara.loftus@intel.com> Content-Type: text/plain X-BeenThere: test-report@dpdk.org X-Mailman-Version: 2.1.29 Precedence: list List-Id: automatic DPDK test reports List-Unsubscribe: , List-Archive: List-Post: List-Help: List-Subscribe: , Errors-To: test-report-bounces@dpdk.org Test-Label: iol-compile-amd64-testing Test-Status: SUCCESS http://dpdk.org/patch/157565 _Testing PASS_ Submitter: Loftus, Ciara Date: Tuesday, October 14 2025 12:36:24 DPDK git baseline: Repo:dpdk-next-net-intel Branch: master CommitID:1e879dc01992b715b57f9f1a062ed9dee788c316 157564-157565 --> testing pass Upstream job id: Windows-Compile-DPDK-Native#31616 Test environment and result as below: +-------------------------------+--------------------+-------------------+------------------+-------------------+-------------------------+----------------------+ | Environment | dpdk_meson_compile | dpdk_compile_spdk | dpdk_compile_ovs | dpdk_msvc_compile | dpdk_llvm_clang_compile | dpdk_mingw64_compile | +===============================+====================+===================+==================+===================+=========================+======================+ | CentOS Stream 9 | PASS | PASS | SKIPPED | SKIPPED | SKIPPED | SKIPPED | +-------------------------------+--------------------+-------------------+------------------+-------------------+-------------------------+----------------------+ | CentOS Stream 10 | PASS | SKIPPED | SKIPPED | SKIPPED | SKIPPED | SKIPPED | +-------------------------------+--------------------+-------------------+------------------+-------------------+-------------------------+----------------------+ | Fedora Linux 42 | PASS | PASS | PASS | SKIPPED | SKIPPED | SKIPPED | +-------------------------------+--------------------+-------------------+------------------+-------------------+-------------------------+----------------------+ | Ubuntu 20.04 | PASS | SKIPPED | SKIPPED | SKIPPED | SKIPPED | SKIPPED | +-------------------------------+--------------------+-------------------+------------------+-------------------+-------------------------+----------------------+ | openSUSE Leap 15.6 | PASS | SKIPPED | SKIPPED | SKIPPED | SKIPPED | SKIPPED | +-------------------------------+--------------------+-------------------+------------------+-------------------+-------------------------+----------------------+ | Ubuntu 22.04 | PASS | PASS | SKIPPED | SKIPPED | SKIPPED | SKIPPED | +-------------------------------+--------------------+-------------------+------------------+-------------------+-------------------------+----------------------+ | Debian GNU/Linux 12 | PASS | PASS | SKIPPED | SKIPPED | SKIPPED | SKIPPED | +-------------------------------+--------------------+-------------------+------------------+-------------------+-------------------------+----------------------+ | FreeBSD 14.2 | PASS | SKIPPED | SKIPPED | SKIPPED | SKIPPED | SKIPPED | +-------------------------------+--------------------+-------------------+------------------+-------------------+-------------------------+----------------------+ | Ubuntu 24.04 | PASS | PASS | PASS | SKIPPED | SKIPPED | SKIPPED | +-------------------------------+--------------------+-------------------+------------------+-------------------+-------------------------+----------------------+ | Red Hat Enterprise Linux 8.10 | PASS | SKIPPED | SKIPPED | SKIPPED | SKIPPED | SKIPPED | +-------------------------------+--------------------+-------------------+------------------+-------------------+-------------------------+----------------------+ | Red Hat Enterprise Linux 9.5 | PASS | SKIPPED | SKIPPED | SKIPPED | SKIPPED | SKIPPED | +-------------------------------+--------------------+-------------------+------------------+-------------------+-------------------------+----------------------+ | Alpine Linux 3.22.0 | PASS | SKIPPED | SKIPPED | SKIPPED | SKIPPED | SKIPPED | +-------------------------------+--------------------+-------------------+------------------+-------------------+-------------------------+----------------------+ | Windows Server 2022 | SKIPPED | SKIPPED | SKIPPED | PASS | PASS | PASS | +-------------------------------+--------------------+-------------------+------------------+-------------------+-------------------------+----------------------+ CentOS Stream 9 Kernel: 5.15 Compiler: gcc gcc (GCC) 11.5.0 20240719 (Red Hat 11.5.0-11) CentOS Stream 10 Kernel: 5.15 Compiler: gcc gcc (GCC) 14.2.1 20250110 (Red Hat 14.2.1-8) Fedora Linux 42 Kernel: 5.15 Compiler: clang gcc (GCC) 15.2.1 20250808 (Red Hat 15.2.1-1) Ubuntu 20.04 Kernel: 4.19 Compiler: gcc gcc (Ubuntu 9.4.0-1ubuntu1~20.04.2) 9.4.0 openSUSE Leap 15.6 Kernel: 5.15 Compiler: gcc gcc (SUSE Linux) 7.5.0 Ubuntu 22.04 Kernel: 5.15 Compiler: gcc gcc (Ubuntu 11.4.0-1ubuntu1~22.04) 11.4.0 Debian GNU/Linux 12 Kernel: 5.15 Compiler: gcc gcc (Debian 12.2.0-14+deb12u1) 12.2.0 FreeBSD 14.2 Kernel: 14.2-RELEASE Compiler: clang 18.1.6 Ubuntu 24.04 Kernel: 5.15 Compiler: gcc gcc (Ubuntu 13.3.0-6ubuntu2~24.04) 13.3.0 Red Hat Enterprise Linux 8.10 Kernel: 5.15 Compiler: gcc gcc (GCC) 8.5.0 20210514 (Red Hat 8.5.0-22) Red Hat Enterprise Linux 9.5 Kernel: 5.15 Compiler: gcc gcc (GCC) 11.5.0 20240719 (Red Hat 11.5.0-2) Alpine Linux 3.22.0 Kernel: 5.15 Compiler: gcc gcc (Alpine 14.2.0) 14.2.0 Windows Server 2022 Kernel: 10.0.20348.2031 Compiler: clang 15.0.7, gcc 14.1.0 (MinGW), and MSVC VS 19.39.33521 To view detailed results, visit: https://lab.dpdk.org/results/dashboard/patchsets/34276/ UNH-IOL DPDK Community Lab To manage your email subscriptions, visit: https://lab.dpdk.org/results/dashboard/preferences/subscriptions/