From mboxrd@z Thu Jan 1 00:00:00 1970 Return-Path: Received: from mails.dpdk.org (mails.dpdk.org [217.70.189.124]) by inbox.dpdk.org (Postfix) with ESMTP id 8DC2248937 for ; Tue, 14 Oct 2025 19:57:51 +0200 (CEST) Received: from mails.dpdk.org (localhost [127.0.0.1]) by mails.dpdk.org (Postfix) with ESMTP id 6427B40288; Tue, 14 Oct 2025 19:57:51 +0200 (CEST) Received: from mail-ua1-f100.google.com (mail-ua1-f100.google.com [209.85.222.100]) by mails.dpdk.org (Postfix) with ESMTP id 4D04E40288 for ; Tue, 14 Oct 2025 19:57:50 +0200 (CEST) Received: by mail-ua1-f100.google.com with SMTP id a1e0cc1a2514c-8eafd5a7a23so66359241.1 for ; Tue, 14 Oct 2025 10:57:50 -0700 (PDT) DKIM-Signature: v=1; a=rsa-sha256; c=relaxed/relaxed; d=iol.unh.edu; s=unh-iol; t=1760464669; x=1761069469; darn=dpdk.org; h=references:in-reply-to:cc:to:from:subject:message-id:date:from:to :cc:subject:date:message-id:reply-to; bh=e+lwJxAG9ZVUSEGgQbbibIAbJMldoBQMXbCnWXamhOM=; b=ZJwNF4JmbAFGIPuUgIVOqlF/PnI2TQ+F0D6MZZXwBfkHrNuOINcOiVV1X4B2WzjAZv 1CXRnI4Aey1uJ6ZX2lkrJQS82S4pJ2QxyxS3zR8GMq2yKHnhl9WqkWRAiGheZbGIdX4K HT2Qg/ToXE97r5s5pXl6Er1rI7d+NxSAU0mok= X-Google-DKIM-Signature: v=1; a=rsa-sha256; c=relaxed/relaxed; d=1e100.net; s=20230601; t=1760464669; x=1761069469; h=references:in-reply-to:cc:to:from:subject:message-id:date :x-gm-message-state:from:to:cc:subject:date:message-id:reply-to; bh=e+lwJxAG9ZVUSEGgQbbibIAbJMldoBQMXbCnWXamhOM=; b=C/Zon/4iLld1X2TXxNn7LbYJ+r47yY/3TozOGf5y4Zk1tF2src6oVgHlsvr+McAU5f 5Fj0kGfbQr1QorjTw9t+F/O4Uve2h3uJhVfLP5mU85LMrMWXhEMujHhv25RzG38gGqxu EpoP98aprJ/fDhrhzoeom/5t8PnSdkv+ojhFQMqBNVjpPUQ3njT2Yk19JlpeJZQ9q14m W7yXl0HV6AewuFYDKaPvcPUmXktn5xYgeLDKlN0Zf2VKRQ8FHXP/bfdlKoKLEZ0i0Tu6 KNqCroCl+C5Jgwhhi7n+jpO23aThNeopr3JiBdSCgD+KbcpiflwRPHoFTKfoMTv73Cdv TOBw== X-Gm-Message-State: AOJu0YwQDXqceZgx6QZSDbhHpyn7TjdHLryVo3+DW2yYZ/xy6qcmh9Ww X8RrZD33+BxqVSpeoM8FJuCEJnmI6v82kunLaVPEd7RmV5HWHWI5mzX9eOA65wmm78epFML6p9I 2p6CFdhbwGvF+H8kfGSSERLb875VCjRli85ZrKPAeqT4I X-Gm-Gg: ASbGncsnLrzgPvOekJVNkBH5zsJr+r778JbmJYHVSUsTOJA5ie6vqjHnHOEnxCA4Kea qrAevkT27SN6Dfo06vTj0FxqlUHuxuO0cqZL2wJgC7xuyVrHmcauOAwQFcf/E7ux5As1xVrRdbA IVjNe9QSYGIT3TqolAGEha/T3ptlOpjQj8W2uolSqFDCpuIll/84wdYGSM7zXDNKdKZYjGRAKDs MVXErxGYzALKKbXQojck4PYQC9isRuTvsuZ1ZPYxTOO4EzapSTwK/pOCo3vnBgCKcDn4ntflt+z KD8JAn5AoG56n9aMoAbREH6ZhnY0Ne4Iybd2k2gG37Ai+QLn4960aAK1oZyjL21+t3RSDvkq X-Google-Smtp-Source: AGHT+IHa0lTlZK73IOpw4xgwP7p5gCtijEEY4hErthB5MFnZfyrCRfkg5pTm+sXLnypZB8pAq6sJviXn+UES X-Received: by 2002:a05:6102:4b05:b0:530:f657:c2e with SMTP id ada2fe7eead31-5d5e265d911mr12564988137.13.1760464669572; Tue, 14 Oct 2025 10:57:49 -0700 (PDT) Received: from postal.iol.unh.edu (postal.iol.unh.edu. [132.177.123.84]) by smtp-relay.gmail.com with ESMTPS id ada2fe7eead31-5d5fc4d87cfsm1696336137.0.2025.10.14.10.57.49 (version=TLS1_2 cipher=ECDHE-ECDSA-AES128-GCM-SHA256 bits=128/128); Tue, 14 Oct 2025 10:57:49 -0700 (PDT) X-Relaying-Domain: iol.unh.edu Date: Tue, 14 Oct 2025 10:57:49 -0700 (PDT) Message-ID: <68ee8f1d.050a0220.2f413a.343dSMTPIN_ADDED_MISSING@mx.google.com> Received: from [172.21.0.2] (unknown [172.18.0.240]) by postal.iol.unh.edu (Postfix) with ESMTP id 46DF0604D420; Tue, 14 Oct 2025 13:57:49 -0400 (EDT) Subject: |SUCCESS| pw157566-157572 [PATCH] [v6,7/7] usertools/mbuf: parse mbu From: dpdklab@iol.unh.edu To: Test Report Cc: dpdk-test-reports@iol.unh.edu In-Reply-To: <20251014124046.1032293-8-thomas@monjalon.net> References: <20251014124046.1032293-8-thomas@monjalon.net> Content-Type: text/plain X-BeenThere: test-report@dpdk.org X-Mailman-Version: 2.1.29 Precedence: list List-Id: automatic DPDK test reports List-Unsubscribe: , List-Archive: List-Post: List-Help: List-Subscribe: , Errors-To: test-report-bounces@dpdk.org Test-Label: iol-compile-amd64-testing Test-Status: SUCCESS http://dpdk.org/patch/157572 _Testing PASS_ Submitter: Thomas Monjalon Date: Tuesday, October 14 2025 12:33:40 DPDK git baseline: Repo:dpdk Branch: master CommitID:2b403dd8fb37d0ba13723e44ffc7ee2c2795f838 157566-157572 --> testing pass Upstream job id: Windows-Compile-DPDK-Native#31617 Test environment and result as below: +-------------------------------+--------------------+-------------------+------------------+-------------------+-------------------------+ | Environment | dpdk_meson_compile | dpdk_compile_spdk | dpdk_compile_ovs | dpdk_msvc_compile | dpdk_llvm_clang_compile | +===============================+====================+===================+==================+===================+=========================+ | Ubuntu 20.04 | PASS | SKIPPED | SKIPPED | SKIPPED | SKIPPED | +-------------------------------+--------------------+-------------------+------------------+-------------------+-------------------------+ | FreeBSD 14.2 | PASS | SKIPPED | SKIPPED | SKIPPED | SKIPPED | +-------------------------------+--------------------+-------------------+------------------+-------------------+-------------------------+ | CentOS Stream 9 | PASS | PASS | SKIPPED | SKIPPED | SKIPPED | +-------------------------------+--------------------+-------------------+------------------+-------------------+-------------------------+ | CentOS Stream 10 | PASS | SKIPPED | SKIPPED | SKIPPED | SKIPPED | +-------------------------------+--------------------+-------------------+------------------+-------------------+-------------------------+ | Debian GNU/Linux 12 | PASS | PASS | SKIPPED | SKIPPED | SKIPPED | +-------------------------------+--------------------+-------------------+------------------+-------------------+-------------------------+ | Fedora Linux 42 | PASS | PASS | PASS | SKIPPED | SKIPPED | +-------------------------------+--------------------+-------------------+------------------+-------------------+-------------------------+ | openSUSE Leap 15.6 | PASS | SKIPPED | SKIPPED | SKIPPED | SKIPPED | +-------------------------------+--------------------+-------------------+------------------+-------------------+-------------------------+ | Red Hat Enterprise Linux 8.10 | PASS | SKIPPED | SKIPPED | SKIPPED | SKIPPED | +-------------------------------+--------------------+-------------------+------------------+-------------------+-------------------------+ | Red Hat Enterprise Linux 9.5 | PASS | SKIPPED | SKIPPED | SKIPPED | SKIPPED | +-------------------------------+--------------------+-------------------+------------------+-------------------+-------------------------+ | Ubuntu 22.04 | PASS | PASS | SKIPPED | SKIPPED | SKIPPED | +-------------------------------+--------------------+-------------------+------------------+-------------------+-------------------------+ | Ubuntu 24.04 | PASS | PASS | PASS | SKIPPED | SKIPPED | +-------------------------------+--------------------+-------------------+------------------+-------------------+-------------------------+ | Alpine Linux 3.22.0 | PASS | SKIPPED | SKIPPED | SKIPPED | SKIPPED | +-------------------------------+--------------------+-------------------+------------------+-------------------+-------------------------+ | Windows Server 2022 | SKIPPED | SKIPPED | SKIPPED | PASS | PASS | +-------------------------------+--------------------+-------------------+------------------+-------------------+-------------------------+ Ubuntu 20.04 Kernel: 4.19 Compiler: gcc gcc (Ubuntu 9.4.0-1ubuntu1~20.04.2) 9.4.0 FreeBSD 14.2 Kernel: 14.2-RELEASE Compiler: clang 18.1.6 CentOS Stream 9 Kernel: 5.15 Compiler: gcc gcc (GCC) 11.5.0 20240719 (Red Hat 11.5.0-11) CentOS Stream 10 Kernel: 5.15 Compiler: gcc gcc (GCC) 14.2.1 20250110 (Red Hat 14.2.1-8) Debian GNU/Linux 12 Kernel: 5.15 Compiler: gcc gcc (Debian 12.2.0-14+deb12u1) 12.2.0 Fedora Linux 42 Kernel: 5.15 Compiler: clang gcc (GCC) 15.2.1 20250808 (Red Hat 15.2.1-1) openSUSE Leap 15.6 Kernel: 5.15 Compiler: gcc gcc (SUSE Linux) 7.5.0 Red Hat Enterprise Linux 8.10 Kernel: 5.15 Compiler: gcc gcc (GCC) 8.5.0 20210514 (Red Hat 8.5.0-22) Red Hat Enterprise Linux 9.5 Kernel: 5.15 Compiler: gcc gcc (GCC) 11.5.0 20240719 (Red Hat 11.5.0-2) Ubuntu 22.04 Kernel: 5.15 Compiler: gcc gcc (Ubuntu 11.4.0-1ubuntu1~22.04) 11.4.0 Ubuntu 24.04 Kernel: 5.15 Compiler: gcc gcc (Ubuntu 13.3.0-6ubuntu2~24.04) 13.3.0 Alpine Linux 3.22.0 Kernel: 5.15 Compiler: gcc gcc (Alpine 14.2.0) 14.2.0 Windows Server 2022 Kernel: 10.0.20348.2031 Compiler: clang 15.0.7, gcc 14.1.0 (MinGW), and MSVC VS 19.39.33521 To view detailed results, visit: https://lab.dpdk.org/results/dashboard/patchsets/34277/ UNH-IOL DPDK Community Lab To manage your email subscriptions, visit: https://lab.dpdk.org/results/dashboard/preferences/subscriptions/