From mboxrd@z Thu Jan 1 00:00:00 1970 Return-Path: Received: from mails.dpdk.org (mails.dpdk.org [217.70.189.124]) by inbox.dpdk.org (Postfix) with ESMTP id 21C4748938 for ; Tue, 14 Oct 2025 20:03:18 +0200 (CEST) Received: from mails.dpdk.org (localhost [127.0.0.1]) by mails.dpdk.org (Postfix) with ESMTP id E35C140288; Tue, 14 Oct 2025 20:03:17 +0200 (CEST) Received: from mail-oi1-f226.google.com (mail-oi1-f226.google.com [209.85.167.226]) by mails.dpdk.org (Postfix) with ESMTP id CC1C740288 for ; Tue, 14 Oct 2025 20:03:16 +0200 (CEST) Received: by mail-oi1-f226.google.com with SMTP id 5614622812f47-43f86ddb3f4so2051741b6e.2 for ; Tue, 14 Oct 2025 11:03:16 -0700 (PDT) DKIM-Signature: v=1; a=rsa-sha256; c=relaxed/relaxed; d=iol.unh.edu; s=unh-iol; t=1760464995; x=1761069795; darn=dpdk.org; h=references:in-reply-to:cc:to:from:subject:message-id:date:from:to :cc:subject:date:message-id:reply-to; bh=BVLamFYwzEcxGnt0ZoHcS+lxnC8U+NN09XeS0/7gEKI=; b=P5c+pxsLXQNSNdNiMx7AOp1osOecXRMWBYaxq0YDEsCIOu3yVW4NA0pfALUGWzQL0i d3kdjzsk4BEyOwZTg0q5+DqCK0YY2oS1BPoTMA6zLDVOHqZz4aIm4VhcjitgUVwUGodX UphWl3dz8UwA99X/oKW2FIsNdX1mU5L3efQzM= X-Google-DKIM-Signature: v=1; a=rsa-sha256; c=relaxed/relaxed; d=1e100.net; s=20230601; t=1760464995; x=1761069795; h=references:in-reply-to:cc:to:from:subject:message-id:date :x-gm-message-state:from:to:cc:subject:date:message-id:reply-to; bh=BVLamFYwzEcxGnt0ZoHcS+lxnC8U+NN09XeS0/7gEKI=; b=l9/Wb6SBi2tI4bpPmNVY6502fLQ8g8WxtKlDGgyqQM+DqdsaNNKTccSnyC3+DfcAa/ xX+SwOt7TNqYjQSLTH84W3o0IuFU4OpNPgNtsCY8shmxaF6RATICStsIIUqYYL7F2USR w9P71mGwsanwS4PTfFMTYP9Qw2a3n9xAWFYodBq88JR4Gs2FvQLC19G/yX+xqP5qH1vJ wm6lQUpDjwA58epGBii6fFD04wHuud2rlMHU2g2LQ5FuoU9JrRAB8ZnaO8H/s0HGQz2e jpC7jK+YnY/THThuzF3MluGuh2785ZI6I5oSpz7hM/W8cKMJzh9V+eAmx6MKGj3X+89v g89g== X-Gm-Message-State: AOJu0Yz80kgF3gZ9t2N1X85PzC88QorB+IisQ+pzGu/lxleZud2MK+PV XHkmcK7qKh6OXG7bM8WcOizdcXJ2Yj6jckOnPmestd3Bu0PhvWPaMupaYSqlus1u+HOUN/7FbDc 7iD2JdxrxqXVSoJDoXuagf+fJ0lCQCq30LHNeZ92rJgFecJzTsOgttzb3J5jy X-Gm-Gg: ASbGncuyM3C9Ec2K5MdqR76b1oV+3iY6GUeUnnU6I4XZ1ja7Uciipw8EZF5kt20ROP+ wNtZdmkLi/ozSwast7ooNPi7Id8h9P3Rn+AMYdcFfw0+tVpp7rlqBPsWu1aXIOWnZrs21dS9H+b T4vLRGuCXUPtUv9c3V77qpdIM/e34PV7JR7Y7SzYRTbXJsm08YhS1HwjswP4PlfphlxbH2ues9O ak4yFstH82zZwo1GpQZ1QXD9JRi6UbM9FwpazgZb74vrIBOGHzUh+wIwb7icnyY6LQvcl516Tq3 fW2X1tNpmKUlgZkOf7uCIg2C08OoZeY0qayxMErDNlnM3lN7eA== X-Google-Smtp-Source: AGHT+IF+fi+nMwQB8MMwsxQzXDzNQ9AOYNYcLq/nnt7QX1juIYKnEfmEMcWBrXWYB+suTR56zCpyPbX14EM3 X-Received: by 2002:a05:6808:3991:b0:437:f573:b175 with SMTP id 5614622812f47-4417b3b39afmr10863934b6e.31.1760464994817; Tue, 14 Oct 2025 11:03:14 -0700 (PDT) Received: from postal.iol.unh.edu (postal.iol.unh.edu. [2606:4100:3880:1234::84]) by smtp-relay.gmail.com with ESMTPS id 6a1803df08f44-87c012a218esm333116d6.25.2025.10.14.11.03.14 (version=TLS1_2 cipher=ECDHE-ECDSA-AES128-GCM-SHA256 bits=128/128); Tue, 14 Oct 2025 11:03:14 -0700 (PDT) X-Relaying-Domain: iol.unh.edu Date: Tue, 14 Oct 2025 11:03:14 -0700 (PDT) Message-ID: <68ee9062.050a0220.19277d.1aacSMTPIN_ADDED_MISSING@mx.google.com> Received: from [172.21.0.2] (unknown [172.18.0.240]) by postal.iol.unh.edu (Postfix) with ESMTP id 7968C604D420; Tue, 14 Oct 2025 14:03:14 -0400 (EDT) Subject: |SUCCESS| pw157566-157572 [PATCH] [v6,7/7] usertools/mbuf: parse mbu From: dpdklab@iol.unh.edu To: Test Report Cc: dpdk-test-reports@iol.unh.edu In-Reply-To: <20251014124046.1032293-8-thomas@monjalon.net> References: <20251014124046.1032293-8-thomas@monjalon.net> Content-Type: text/plain X-BeenThere: test-report@dpdk.org X-Mailman-Version: 2.1.29 Precedence: list List-Id: automatic DPDK test reports List-Unsubscribe: , List-Archive: List-Post: List-Help: List-Subscribe: , Errors-To: test-report-bounces@dpdk.org Test-Label: iol-compile-amd64-testing Test-Status: SUCCESS http://dpdk.org/patch/157572 _Testing PASS_ Submitter: Thomas Monjalon Date: Tuesday, October 14 2025 12:33:40 DPDK git baseline: Repo:dpdk Branch: master CommitID:2b403dd8fb37d0ba13723e44ffc7ee2c2795f838 157566-157572 --> testing pass Upstream job id: Windows-Compile-DPDK-Native#31618 Test environment and result as below: +-------------------------------+--------------------+-------------------+------------------+-------------------+-------------------------+----------------------+ | Environment | dpdk_meson_compile | dpdk_compile_spdk | dpdk_compile_ovs | dpdk_msvc_compile | dpdk_llvm_clang_compile | dpdk_mingw64_compile | +===============================+====================+===================+==================+===================+=========================+======================+ | Ubuntu 20.04 | PASS | SKIPPED | SKIPPED | SKIPPED | SKIPPED | SKIPPED | +-------------------------------+--------------------+-------------------+------------------+-------------------+-------------------------+----------------------+ | FreeBSD 14.2 | PASS | SKIPPED | SKIPPED | SKIPPED | SKIPPED | SKIPPED | +-------------------------------+--------------------+-------------------+------------------+-------------------+-------------------------+----------------------+ | CentOS Stream 9 | PASS | PASS | SKIPPED | SKIPPED | SKIPPED | SKIPPED | +-------------------------------+--------------------+-------------------+------------------+-------------------+-------------------------+----------------------+ | CentOS Stream 10 | PASS | SKIPPED | SKIPPED | SKIPPED | SKIPPED | SKIPPED | +-------------------------------+--------------------+-------------------+------------------+-------------------+-------------------------+----------------------+ | Debian GNU/Linux 12 | PASS | PASS | SKIPPED | SKIPPED | SKIPPED | SKIPPED | +-------------------------------+--------------------+-------------------+------------------+-------------------+-------------------------+----------------------+ | Fedora Linux 42 | PASS | PASS | PASS | SKIPPED | SKIPPED | SKIPPED | +-------------------------------+--------------------+-------------------+------------------+-------------------+-------------------------+----------------------+ | openSUSE Leap 15.6 | PASS | SKIPPED | SKIPPED | SKIPPED | SKIPPED | SKIPPED | +-------------------------------+--------------------+-------------------+------------------+-------------------+-------------------------+----------------------+ | Red Hat Enterprise Linux 8.10 | PASS | SKIPPED | SKIPPED | SKIPPED | SKIPPED | SKIPPED | +-------------------------------+--------------------+-------------------+------------------+-------------------+-------------------------+----------------------+ | Red Hat Enterprise Linux 9.5 | PASS | SKIPPED | SKIPPED | SKIPPED | SKIPPED | SKIPPED | +-------------------------------+--------------------+-------------------+------------------+-------------------+-------------------------+----------------------+ | Ubuntu 22.04 | PASS | PASS | SKIPPED | SKIPPED | SKIPPED | SKIPPED | +-------------------------------+--------------------+-------------------+------------------+-------------------+-------------------------+----------------------+ | Ubuntu 24.04 | PASS | PASS | PASS | SKIPPED | SKIPPED | SKIPPED | +-------------------------------+--------------------+-------------------+------------------+-------------------+-------------------------+----------------------+ | Alpine Linux 3.22.0 | PASS | SKIPPED | SKIPPED | SKIPPED | SKIPPED | SKIPPED | +-------------------------------+--------------------+-------------------+------------------+-------------------+-------------------------+----------------------+ | Windows Server 2022 | SKIPPED | SKIPPED | SKIPPED | PASS | PASS | PASS | +-------------------------------+--------------------+-------------------+------------------+-------------------+-------------------------+----------------------+ Ubuntu 20.04 Kernel: 4.19 Compiler: gcc gcc (Ubuntu 9.4.0-1ubuntu1~20.04.2) 9.4.0 FreeBSD 14.2 Kernel: 14.2-RELEASE Compiler: clang 18.1.6 CentOS Stream 9 Kernel: 5.15 Compiler: gcc gcc (GCC) 11.5.0 20240719 (Red Hat 11.5.0-11) CentOS Stream 10 Kernel: 5.15 Compiler: gcc gcc (GCC) 14.2.1 20250110 (Red Hat 14.2.1-8) Debian GNU/Linux 12 Kernel: 5.15 Compiler: gcc gcc (Debian 12.2.0-14+deb12u1) 12.2.0 Fedora Linux 42 Kernel: 5.15 Compiler: clang gcc (GCC) 15.2.1 20250808 (Red Hat 15.2.1-1) openSUSE Leap 15.6 Kernel: 5.15 Compiler: gcc gcc (SUSE Linux) 7.5.0 Red Hat Enterprise Linux 8.10 Kernel: 5.15 Compiler: gcc gcc (GCC) 8.5.0 20210514 (Red Hat 8.5.0-22) Red Hat Enterprise Linux 9.5 Kernel: 5.15 Compiler: gcc gcc (GCC) 11.5.0 20240719 (Red Hat 11.5.0-2) Ubuntu 22.04 Kernel: 5.15 Compiler: gcc gcc (Ubuntu 11.4.0-1ubuntu1~22.04) 11.4.0 Ubuntu 24.04 Kernel: 5.15 Compiler: gcc gcc (Ubuntu 13.3.0-6ubuntu2~24.04) 13.3.0 Alpine Linux 3.22.0 Kernel: 5.15 Compiler: gcc gcc (Alpine 14.2.0) 14.2.0 Windows Server 2022 Kernel: 10.0.20348.2031 Compiler: clang 15.0.7, gcc 14.1.0 (MinGW), and MSVC VS 19.39.33521 To view detailed results, visit: https://lab.dpdk.org/results/dashboard/patchsets/34277/ UNH-IOL DPDK Community Lab To manage your email subscriptions, visit: https://lab.dpdk.org/results/dashboard/preferences/subscriptions/