From mboxrd@z Thu Jan 1 00:00:00 1970 Return-Path: Received: from mails.dpdk.org (mails.dpdk.org [217.70.189.124]) by inbox.dpdk.org (Postfix) with ESMTP id D158B48938 for ; Tue, 14 Oct 2025 20:48:05 +0200 (CEST) Received: from mails.dpdk.org (localhost [127.0.0.1]) by mails.dpdk.org (Postfix) with ESMTP id CDC1940288; Tue, 14 Oct 2025 20:48:05 +0200 (CEST) Received: from mail-yw1-f227.google.com (mail-yw1-f227.google.com [209.85.128.227]) by mails.dpdk.org (Postfix) with ESMTP id AEA1940288 for ; Tue, 14 Oct 2025 20:48:04 +0200 (CEST) Received: by mail-yw1-f227.google.com with SMTP id 00721157ae682-781014f4e12so58934367b3.1 for ; Tue, 14 Oct 2025 11:48:04 -0700 (PDT) DKIM-Signature: v=1; a=rsa-sha256; c=relaxed/relaxed; d=iol.unh.edu; s=unh-iol; t=1760467684; x=1761072484; darn=dpdk.org; h=references:in-reply-to:cc:to:from:subject:message-id:date:from:to :cc:subject:date:message-id:reply-to; bh=EpXZKqFdUrGwSqFkLTMy7pkQ3lBI/iqGh5cZELTcVZE=; b=hNZkqYpo9brrhzY7DJpjA63cmi/+1uvcmo1HbUCVjgjicacMKS4Q0RspJ+nFPNLZ9v A3uke30P58RDyKZxylWjxW6AZDURn9pqdRW6b+es5/BMJR6eUZlnQSOItgFM29+0oI6b GvObmi4za6hyNcr+FpiyuhTU2xn01oFAsbmfk= X-Google-DKIM-Signature: v=1; a=rsa-sha256; c=relaxed/relaxed; d=1e100.net; s=20230601; t=1760467684; x=1761072484; h=references:in-reply-to:cc:to:from:subject:message-id:date :x-gm-message-state:from:to:cc:subject:date:message-id:reply-to; bh=EpXZKqFdUrGwSqFkLTMy7pkQ3lBI/iqGh5cZELTcVZE=; b=KFr3bvPBMe0huZkCLgO3/IiLJQDIAYF0JBtcoq8yWDKGNVgxaf6eMTaBuSf/kn4U7H zzlUHkqcNVhMQNWNjYrY3uTmpUn0B9ikqKoSFT1FgH6X6Amys0outueDq5O/MW9c69pv wbqZ6msZvOkZO9vUD+AmD0X7k5BZf7G0d4RLRMO4CY+OpEUv4cI9Ozz1/FZW0t0O30rl IgTI2qALixLf767pDcpxyNEYfGmSA0/YAydELL08f0KjCK6dk+bN0DPe1VTzEH/EQ3dr S4PwniwPsOawXCdsDBUPIxkJethbkNMJ0rPwi97rd4t5pJhTEsTqu2fDJGX4eYsCUVfA IWGg== X-Gm-Message-State: AOJu0YzcafHD48Woh2Jbdo9ixLy+ShivBGoxma0ZvkoYE5D8N8XIGZFG 1oWGNkLEgT0lcCZHk8ykknVtfqKfdME86Xe4OpABDbTZtTrkPDcblSgP/RM2ejwnR9JSI8pZZOL UEWUXlwlov4tz3hi7aZ49HCGCACj1c3DZ5RZ73XnlfZKtiDcO2Izo/5un8QU3 X-Gm-Gg: ASbGncvjNs3VtPd0cbwKdYVnd8A2bs6FLcZiLW7S55gKSMOxJMGGNt9Wgy5esWZ77h1 UkgKPCp3RAfkFsdptvNInOKenicdtvH9InHwep9ibTRf44r5MGoWC3kQx+VD/2LWdPSo/O0kP2M HscxpMK++Ys3HjHiDHAyq4U+So6g1DAl7QJdaPsgGVv0Xiq9mU3xyKIm3oXiQ1p4cfJtQ4CKfte pnN6I1ZQo4owYMjqOoHohnoukHuqyN6LvXG9kxRnYtgYCfFEffa+Rsy3B2etyGPetjhiVKYjZVA RAccefNSal3xKny6xweAsV6Y5BJ4M4HnKaBFJBbqBPlao8JROA== X-Google-Smtp-Source: AGHT+IHBgIfWtob9wzM69SjFlg7bqLhFRghxz9InbkfXKw+rM4u10z4xJNG4GuXGH+z0ZGdY9h/3VVf9T/Yt X-Received: by 2002:a05:690e:5c6:b0:638:7df:7009 with SMTP id 956f58d0204a3-63ccb8ec67bmr17320398d50.28.1760467683952; Tue, 14 Oct 2025 11:48:03 -0700 (PDT) Received: from postal.iol.unh.edu (postal.iol.unh.edu. [2606:4100:3880:1234::84]) by smtp-relay.gmail.com with ESMTPS id 956f58d0204a3-63cec049c26sm743703d50.11.2025.10.14.11.48.03 (version=TLS1_2 cipher=ECDHE-ECDSA-AES128-GCM-SHA256 bits=128/128); Tue, 14 Oct 2025 11:48:03 -0700 (PDT) X-Relaying-Domain: iol.unh.edu Date: Tue, 14 Oct 2025 11:48:03 -0700 (PDT) Message-ID: <68ee9ae3.050a0220.23df43.4387SMTPIN_ADDED_MISSING@mx.google.com> Received: from [172.21.0.3] (unknown [172.18.0.240]) by postal.iol.unh.edu (Postfix) with ESMTP id 6ED2C604D420; Tue, 14 Oct 2025 14:48:03 -0400 (EDT) Subject: |SUCCESS| pw157562-157563 [PATCH] [v7,2/2] net/cpfl: added CPFL devI From: dpdklab@iol.unh.edu To: Test Report Cc: dpdk-test-reports@iol.unh.edu, Bruce Richardson In-Reply-To: <20251014104511.459215-3-venkatesh.vemula@intel.com> References: <20251014104511.459215-3-venkatesh.vemula@intel.com> Content-Type: text/plain X-BeenThere: test-report@dpdk.org X-Mailman-Version: 2.1.29 Precedence: list List-Id: automatic DPDK test reports List-Unsubscribe: , List-Archive: List-Post: List-Help: List-Subscribe: , Errors-To: test-report-bounces@dpdk.org Test-Label: iol-compile-arm64-testing Test-Status: SUCCESS http://dpdk.org/patch/157563 _Testing PASS_ Submitter: Vemula, Venkatesh Date: Tuesday, October 14 2025 10:45:11 DPDK git baseline: Repo:dpdk-next-net-intel Branch: master CommitID:b26049c00e3c452cb446d688a43c6c7eebbee32e 157562-157563 --> testing pass Upstream job id: Generic-DPDK-Compile-Meson#434148 Test environment and result as below: +------------------------------+--------------------+ | Environment | dpdk_meson_compile | +==============================+====================+ | Red Hat Enterprise Linux 9.5 | PASS | +------------------------------+--------------------+ | Ubuntu 20.04 | PASS | +------------------------------+--------------------+ | Debian GNU/Linux 12 | PASS | +------------------------------+--------------------+ | Fedora Linux 42 | PASS | +------------------------------+--------------------+ | Ubuntu 22.04 | PASS | +------------------------------+--------------------+ | Ubuntu 24.04 | PASS | +------------------------------+--------------------+ | CentOS Stream 9 | PASS | +------------------------------+--------------------+ | CentOS Stream 10 | PASS | +------------------------------+--------------------+ Red Hat Enterprise Linux 9.5 Kernel: 5.4 Compiler: gcc gcc (GCC) 11.5.0 20240719 (Red Hat 11.5.0-2) Ubuntu 20.04 Kernel: 5.4 Compiler: gcc gcc (Ubuntu 9.4.0-1ubuntu1~20.04.2) 9.4.0 Debian GNU/Linux 12 Kernel: 5.4 Compiler: gcc gcc (Debian 12.2.0-14+deb12u1) 12.2.0 Fedora Linux 42 Kernel: 5.4 Compiler: gcc gcc (GCC) 15.2.1 20250808 (Red Hat 15.2.1-1) Ubuntu 22.04 Kernel: 5.4 Compiler: gcc gcc (Ubuntu 11.4.0-1ubuntu1~22.04) 11.4.0 Ubuntu 24.04 Kernel: 5.4 Compiler: gcc gcc (Ubuntu 13.3.0-6ubuntu2~24.04) 13.3.0 CentOS Stream 9 Kernel: 5.4 Compiler: gcc gcc (GCC) 11.5.0 20240719 (Red Hat 11.5.0-11) CentOS Stream 10 Kernel: 5.4 Compiler: gcc gcc (GCC) 14.2.1 20250110 (Red Hat 14.2.1-8) To view detailed results, visit: https://lab.dpdk.org/results/dashboard/patchsets/34275/ UNH-IOL DPDK Community Lab To manage your email subscriptions, visit: https://lab.dpdk.org/results/dashboard/preferences/subscriptions/