From mboxrd@z Thu Jan 1 00:00:00 1970 Return-Path: Received: from mails.dpdk.org (mails.dpdk.org [217.70.189.124]) by inbox.dpdk.org (Postfix) with ESMTP id ED81948938 for ; Tue, 14 Oct 2025 20:48:57 +0200 (CEST) Received: from mails.dpdk.org (localhost [127.0.0.1]) by mails.dpdk.org (Postfix) with ESMTP id E711C40288; Tue, 14 Oct 2025 20:48:57 +0200 (CEST) Received: from mail-qv1-f99.google.com (mail-qv1-f99.google.com [209.85.219.99]) by mails.dpdk.org (Postfix) with ESMTP id 7669740288 for ; Tue, 14 Oct 2025 20:48:56 +0200 (CEST) Received: by mail-qv1-f99.google.com with SMTP id 6a1803df08f44-78f30dac856so81134806d6.2 for ; Tue, 14 Oct 2025 11:48:56 -0700 (PDT) DKIM-Signature: v=1; a=rsa-sha256; c=relaxed/relaxed; d=iol.unh.edu; s=unh-iol; t=1760467736; x=1761072536; darn=dpdk.org; h=references:in-reply-to:cc:to:from:subject:message-id:date:from:to :cc:subject:date:message-id:reply-to; bh=QMsW0wRvUgDDhj1cuQgbwTS5Xu/iiCRqMJjv13D4TvU=; b=hQC5vdjMqz2RswjQeAi0tnbfroylnFhKrP81xwzQeNv7LZeKOxmeWAQ0suVerGUZfp EDfMczUw5bYZ7WB/jrSWSmfyr3/RyzZ9DsaUYYLlviQR7uOQEAET7HQIpiR/rhgDxVO+ uXyJn3yNy4IMLDc0jZwOjOYpab7q9PKQfpIXM= X-Google-DKIM-Signature: v=1; a=rsa-sha256; c=relaxed/relaxed; d=1e100.net; s=20230601; t=1760467736; x=1761072536; h=references:in-reply-to:cc:to:from:subject:message-id:date :x-gm-message-state:from:to:cc:subject:date:message-id:reply-to; bh=QMsW0wRvUgDDhj1cuQgbwTS5Xu/iiCRqMJjv13D4TvU=; b=EQR6PnurKMtoyikYCkuyEAZJKXQ2YicqgnNox9Hv1bDY+gsS+QIUoZKD20Q/78Yum+ H8+6pmmrOOhYAs77w9LDVRIfc8eCXZBMk94bdK8hP0DR/h0h+UmQenf+Fb4g6eEdE1t7 2zX71vTkVA8qXthYRC+4g4HeMpBSlIVAU5QAskYqIGY9s0RM7CUtAlWM5JpH9qlEt1wT PeyDfj1mNeHOEzIJLzJ+lvqdukWrF4WDmp54qTWUx7PEKbFDngSfy0Eb1eWd49nFPWLi 3xP0Ikw/v78+KkNQzHX81dxenfUsYg86pZc973JOD9yHLY0qzcREibBJ+nKdAJrjAVDE 8gig== X-Gm-Message-State: AOJu0YxkDYeQ1Go8D9xgBZYmcEOG7PF8IsRRLa3X30mzi6oBDT/F2VBE 5ilmGGnDJaKOOmeL5MiPCYH8wcabumJZW3yIwp3WShHxwk1ZIzlggZZI1L4IGXIF+wal2MzNom5 v6fc99lAG6JYyIaJOf68pNa6g7VaoEiIIVqM/JnDWn67GoRqpC2YkpsyM40qH X-Gm-Gg: ASbGncsw7lMH9KU9rB/0WbFnq+LQ0McgnXTKWGG6tkIYwUyVxIalL0S4UO2Nfn7l4Vu kEpeIJkm07gEpPMrv/19IIp6mrW/+9U8xgYMFudOgf8z+qepcd6ljgy68028Sq4h07emu0CTipk rMWMDMDu7PnQsPZ7izkgh1P5yoHlYiLqyrzLv5ARkIXffVGaN2TqdMUNgz4dLYmLOhtsW7cnCys N4TkfXChu7alkD7qK1AeS+cMh473nJvWuLQLkVRWhnUkSyz7usKZxwTO9bltK+yEm8gtkSzFvbb XCINq7qMUlghmPxn95S8PmnnQaRBA6xAGvuy0kt9UvjahReyPA== X-Google-Smtp-Source: AGHT+IGCV0q3OO3jgUiBzn5PLhDdAQi81fLMGO+zbMqRV+yuw1yAnV/cnHsNQl7Arta8+rN7E/ioxRQvH/aD X-Received: by 2002:a05:6214:76d:b0:81c:6455:ec77 with SMTP id 6a1803df08f44-87b2efb9b08mr297469636d6.40.1760467735831; Tue, 14 Oct 2025 11:48:55 -0700 (PDT) Received: from postal.iol.unh.edu (postal.iol.unh.edu. [2606:4100:3880:1234::84]) by smtp-relay.gmail.com with ESMTPS id 6a1803df08f44-87c0120fbd4sm421436d6.8.2025.10.14.11.48.55 (version=TLS1_2 cipher=ECDHE-ECDSA-AES128-GCM-SHA256 bits=128/128); Tue, 14 Oct 2025 11:48:55 -0700 (PDT) X-Relaying-Domain: iol.unh.edu Date: Tue, 14 Oct 2025 11:48:55 -0700 (PDT) Message-ID: <68ee9b17.050a0220.11f86f.243eSMTPIN_ADDED_MISSING@mx.google.com> Received: from [172.21.0.5] (unknown [172.18.0.240]) by postal.iol.unh.edu (Postfix) with ESMTP id 8E987604D420; Tue, 14 Oct 2025 14:48:55 -0400 (EDT) Subject: |SUCCESS| pw157564-157565 [PATCH] [v4,2/2] net/iavf: add reinit comm From: dpdklab@iol.unh.edu To: Test Report Cc: dpdk-test-reports@iol.unh.edu, Bruce Richardson In-Reply-To: <20251014123624.1413473-2-ciara.loftus@intel.com> References: <20251014123624.1413473-2-ciara.loftus@intel.com> Content-Type: text/plain X-BeenThere: test-report@dpdk.org X-Mailman-Version: 2.1.29 Precedence: list List-Id: automatic DPDK test reports List-Unsubscribe: , List-Archive: List-Post: List-Help: List-Subscribe: , Errors-To: test-report-bounces@dpdk.org Test-Label: iol-compile-arm64-testing Test-Status: SUCCESS http://dpdk.org/patch/157565 _Testing PASS_ Submitter: Loftus, Ciara Date: Tuesday, October 14 2025 12:36:24 DPDK git baseline: Repo:dpdk-next-net-intel Branch: master CommitID:1e879dc01992b715b57f9f1a062ed9dee788c316 157564-157565 --> testing pass Upstream job id: Generic-DPDK-Compile-Meson#434187 Test environment and result as below: +------------------------------+--------------------+ | Environment | dpdk_meson_compile | +==============================+====================+ | Ubuntu 22.04 | PASS | +------------------------------+--------------------+ | Ubuntu 20.04 | PASS | +------------------------------+--------------------+ | Red Hat Enterprise Linux 9.5 | PASS | +------------------------------+--------------------+ | Debian GNU/Linux 12 | PASS | +------------------------------+--------------------+ | Ubuntu 24.04 | PASS | +------------------------------+--------------------+ | Fedora Linux 42 | PASS | +------------------------------+--------------------+ | CentOS Stream 10 | PASS | +------------------------------+--------------------+ | CentOS Stream 9 | PASS | +------------------------------+--------------------+ Ubuntu 22.04 Kernel: 5.4 Compiler: gcc gcc (Ubuntu 11.4.0-1ubuntu1~22.04) 11.4.0 Ubuntu 20.04 Kernel: 5.4 Compiler: gcc gcc (Ubuntu 9.4.0-1ubuntu1~20.04.2) 9.4.0 Red Hat Enterprise Linux 9.5 Kernel: 5.4 Compiler: gcc gcc (GCC) 11.5.0 20240719 (Red Hat 11.5.0-2) Debian GNU/Linux 12 Kernel: 5.4 Compiler: gcc gcc (Debian 12.2.0-14+deb12u1) 12.2.0 Ubuntu 24.04 Kernel: 5.4 Compiler: gcc gcc (Ubuntu 13.3.0-6ubuntu2~24.04) 13.3.0 Fedora Linux 42 Kernel: 5.4 Compiler: gcc gcc (GCC) 15.2.1 20250808 (Red Hat 15.2.1-1) CentOS Stream 10 Kernel: 5.4 Compiler: gcc gcc (GCC) 14.2.1 20250110 (Red Hat 14.2.1-8) CentOS Stream 9 Kernel: 5.4 Compiler: gcc gcc (GCC) 11.5.0 20240719 (Red Hat 11.5.0-11) To view detailed results, visit: https://lab.dpdk.org/results/dashboard/patchsets/34276/ UNH-IOL DPDK Community Lab To manage your email subscriptions, visit: https://lab.dpdk.org/results/dashboard/preferences/subscriptions/