From mboxrd@z Thu Jan 1 00:00:00 1970 Return-Path: Received: from mails.dpdk.org (mails.dpdk.org [217.70.189.124]) by inbox.dpdk.org (Postfix) with ESMTP id AE3C948938 for ; Tue, 14 Oct 2025 21:11:26 +0200 (CEST) Received: from mails.dpdk.org (localhost [127.0.0.1]) by mails.dpdk.org (Postfix) with ESMTP id A8E8040288; Tue, 14 Oct 2025 21:11:26 +0200 (CEST) Received: from mail-pg1-f225.google.com (mail-pg1-f225.google.com [209.85.215.225]) by mails.dpdk.org (Postfix) with ESMTP id 749EF40288 for ; Tue, 14 Oct 2025 21:11:25 +0200 (CEST) Received: by mail-pg1-f225.google.com with SMTP id 41be03b00d2f7-b550a522a49so4734861a12.2 for ; Tue, 14 Oct 2025 12:11:25 -0700 (PDT) DKIM-Signature: v=1; a=rsa-sha256; c=relaxed/relaxed; d=iol.unh.edu; s=unh-iol; t=1760469084; x=1761073884; darn=dpdk.org; h=references:in-reply-to:cc:to:from:subject:message-id:date:from:to :cc:subject:date:message-id:reply-to; bh=r3PAxBK99FC5WbQq3MwMNBu3BcDi0Who4+XHJxL75dA=; b=bHYpv9e/NOGHwkTnqfmeufV8JJTXhQMT7qEluaeiXgr4K98zWz1saDM8r2B1I9xB0B JUHxmdgvG4EODFLvoGVO/ySsmog7lFt0c3OkK1e0pt8TsztYr3eON62MbY9vq3Bv67jc gYAMhLKSv5oAzEcXERwNsY0tEgYVdTKE5V6l8= X-Google-DKIM-Signature: v=1; a=rsa-sha256; c=relaxed/relaxed; d=1e100.net; s=20230601; t=1760469084; x=1761073884; h=references:in-reply-to:cc:to:from:subject:message-id:date :x-gm-message-state:from:to:cc:subject:date:message-id:reply-to; bh=r3PAxBK99FC5WbQq3MwMNBu3BcDi0Who4+XHJxL75dA=; b=lQvE3FqVPc3qpaWcGl9O1Dvuw1dcjhFKJrOoE16cI6wQJVlD4s2q3RUH16ghJAyMvE du3whc26p8G+akYWkIMpAXpE/jsF2OsXkATjb//8BS08dW+3CzICZE/bOceqaAqnd5fK fC3+nUdr3Y41ab0sH+XJabbzLf+LksUnEfzrKbT6Ekq5XmwFQt6jPKBGTCIvdWmEaF81 ux/uHgay5/TiLlSuSG5jP7NVx+67Z1vmQ6sWZeDPwMb0fREUm6/MIt6fzgQxRuGswSWs x5xjRYU9V8Ai5U6F/xKyhxax5GxQ9jEVOZx34fcK2AHnXAiW/k8naeoZaAUpUy9PPelu Z0Nw== X-Gm-Message-State: AOJu0Yw8jf0TWE4dwATY91uSumljAnAv9A6nXKbnoB/lFtFVlCY/0a0J fymXK4H1Qw6vqGtPk16NlvCoqmTHgKLgb04HWz2lFpZvcSZIXvWxLaQa6bSEK/QDwdFQWg5/XOb C0cDf9MF6qfehaFwMjF0+fuKVFO43/2E5kBQWhIWyO6xwi+oCQo1sm3yJrRLe X-Gm-Gg: ASbGncuGyHkrfqOr8SgA7TajhHySCu0B9kmnyAmoK21A8+J6FyT8/Iy/R8KSYb7JGvb VLGX06a+BhTBAbeYmMgdysRrgDB1VBG3Idsfg/uuWmhVLi5gH4ZbG9AL0tZLUqMxNzxyzdcYRf2 YSmXdKCY7zfynB3z+lrIHoW2u1pYCU6qMr4MwPzPx2EWx4+C+EkY9VAIXeN7gwdMjYhRdEsdhW9 D/KdW5j8FPhX4eb5MVrT8dj6IEiiOOZDPNamLxUbqXP3HfWD9LBA9M7lzDTrM7mkFLvnQM04WMi V+A5b7zZS8zJPwPuWgKuC51f2F+0WWTsFagXcryxTkmGU+KHkg== X-Google-Smtp-Source: AGHT+IEiWtGSyevdIUTVkw4ELtJaMGXGmf8zjgbcnvtgP/IKCOi3kGVhnjQqzBgl8J0axMamQR2/0IAVGDNv X-Received: by 2002:a17:903:a90:b0:27e:f201:ec90 with SMTP id d9443c01a7336-29027264d78mr325217185ad.25.1760469084340; Tue, 14 Oct 2025 12:11:24 -0700 (PDT) Received: from postal.iol.unh.edu (postal.iol.unh.edu. [2606:4100:3880:1234::84]) by smtp-relay.gmail.com with ESMTPS id d9443c01a7336-29034e4fd9bsm14047435ad.31.2025.10.14.12.11.24 (version=TLS1_2 cipher=ECDHE-ECDSA-AES128-GCM-SHA256 bits=128/128); Tue, 14 Oct 2025 12:11:24 -0700 (PDT) X-Relaying-Domain: iol.unh.edu Date: Tue, 14 Oct 2025 12:11:24 -0700 (PDT) Message-ID: <68eea05c.170a0220.284550.6443SMTPIN_ADDED_MISSING@mx.google.com> Received: from [172.21.0.2] (unknown [172.18.0.240]) by postal.iol.unh.edu (Postfix) with ESMTP id 7A456604D420; Tue, 14 Oct 2025 15:11:23 -0400 (EDT) Subject: |SUCCESS| pw157554-157556 [PATCH] [v4,3/3] bbdev: fix build with Min From: dpdklab@iol.unh.edu To: Test Report Cc: dpdk-test-reports@iol.unh.edu In-Reply-To: <20251014091528.936405-4-thomas@monjalon.net> References: <20251014091528.936405-4-thomas@monjalon.net> Content-Type: text/plain X-BeenThere: test-report@dpdk.org X-Mailman-Version: 2.1.29 Precedence: list List-Id: automatic DPDK test reports List-Unsubscribe: , List-Archive: List-Post: List-Help: List-Subscribe: , Errors-To: test-report-bounces@dpdk.org Test-Label: iol-unit-arm64-testing Test-Status: SUCCESS http://dpdk.org/patch/157556 _Testing PASS_ Submitter: Thomas Monjalon Date: Tuesday, October 14 2025 09:14:01 DPDK git baseline: Repo:dpdk Branch: master CommitID:2b403dd8fb37d0ba13723e44ffc7ee2c2795f838 157554-157556 --> testing pass Upstream job id: Generic-Unit-Test-DPDK#381197 Test environment and result as below: +------------------------------+----------------+---------------------------+------------------------------+--------------+ | Environment | dpdk_unit_test | cryptodev_sw_zuc_autotest | cryptodev_sw_snow3g_autotest | lpm_autotest | +==============================+================+===========================+==============================+==============+ | CentOS Stream 9 | PASS | SKIPPED | SKIPPED | SKIPPED | +------------------------------+----------------+---------------------------+------------------------------+--------------+ | CentOS Stream 10 | PASS | SKIPPED | SKIPPED | SKIPPED | +------------------------------+----------------+---------------------------+------------------------------+--------------+ | Debian GNU/Linux 12 | PASS | SKIPPED | SKIPPED | SKIPPED | +------------------------------+----------------+---------------------------+------------------------------+--------------+ | Fedora Linux 40 | PASS | SKIPPED | SKIPPED | SKIPPED | +------------------------------+----------------+---------------------------+------------------------------+--------------+ | Fedora Linux 41 | PASS | SKIPPED | SKIPPED | SKIPPED | +------------------------------+----------------+---------------------------+------------------------------+--------------+ | Fedora Linux 42 | PASS | SKIPPED | SKIPPED | SKIPPED | +------------------------------+----------------+---------------------------+------------------------------+--------------+ | Red Hat Enterprise Linux 9.5 | PASS | SKIPPED | SKIPPED | SKIPPED | +------------------------------+----------------+---------------------------+------------------------------+--------------+ | Ubuntu 24.04 | PASS | SKIPPED | SKIPPED | SKIPPED | +------------------------------+----------------+---------------------------+------------------------------+--------------+ | Ubuntu 22.04 | PASS | SKIPPED | SKIPPED | SKIPPED | +------------------------------+----------------+---------------------------+------------------------------+--------------+ | Ubuntu 20.04 | PASS | SKIPPED | SKIPPED | PASS | +------------------------------+----------------+---------------------------+------------------------------+--------------+ | Debian 12 (arm) | SKIPPED | PASS | PASS | SKIPPED | +------------------------------+----------------+---------------------------+------------------------------+--------------+ CentOS Stream 9 Kernel: 5.4 Compiler: gcc gcc (GCC) 11.5.0 20240719 (Red Hat 11.5.0-11) CentOS Stream 10 Kernel: 5.4 Compiler: gcc gcc (GCC) 14.2.1 20250110 (Red Hat 14.2.1-8) Debian GNU/Linux 12 Kernel: 5.4 Compiler: gcc gcc (Debian 12.2.0-14+deb12u1) 12.2.0 Fedora Linux 40 Kernel: 5.4 Compiler: gcc gcc (GCC) 14.2.1 20240912 (Red Hat 14.2.1-3) Fedora Linux 41 Kernel: 5.4 Compiler: gcc gcc (GCC) 14.3.1 20250523 (Red Hat 14.3.1-1) Fedora Linux 42 Kernel: 5.4 Compiler: gcc gcc (GCC) 15.2.1 20250808 (Red Hat 15.2.1-1) Red Hat Enterprise Linux 9.5 Kernel: 5.4 Compiler: gcc gcc (GCC) 11.5.0 20240719 (Red Hat 11.5.0-2) Ubuntu 24.04 Kernel: 5.4 Compiler: gcc gcc (Ubuntu 13.3.0-6ubuntu2~24.04) 13.3.0 Ubuntu 22.04 Kernel: 5.4 Compiler: gcc gcc (Ubuntu 11.4.0-1ubuntu1~22.04) 11.4.0 Ubuntu 20.04 Kernel: 5.4 Compiler: gcc gcc (Ubuntu 9.4.0-1ubuntu1~20.04.2) 9.4.0 Debian 12 (arm) Kernel: Depends on container host Compiler: gcc (Debian 12.2.0-14) 12.2.0 To view detailed results, visit: https://lab.dpdk.org/results/dashboard/patchsets/34273/ UNH-IOL DPDK Community Lab To manage your email subscriptions, visit: https://lab.dpdk.org/results/dashboard/preferences/subscriptions/