From mboxrd@z Thu Jan 1 00:00:00 1970 Return-Path: Received: from mails.dpdk.org (mails.dpdk.org [217.70.189.124]) by inbox.dpdk.org (Postfix) with ESMTP id 1A96248938 for ; Tue, 14 Oct 2025 21:25:40 +0200 (CEST) Received: from mails.dpdk.org (localhost [127.0.0.1]) by mails.dpdk.org (Postfix) with ESMTP id 14F5B40288; Tue, 14 Oct 2025 21:25:40 +0200 (CEST) Received: from mail-oi1-f227.google.com (mail-oi1-f227.google.com [209.85.167.227]) by mails.dpdk.org (Postfix) with ESMTP id 001C740288 for ; Tue, 14 Oct 2025 21:25:38 +0200 (CEST) Received: by mail-oi1-f227.google.com with SMTP id 5614622812f47-43fac2df7d4so2457027b6e.3 for ; Tue, 14 Oct 2025 12:25:38 -0700 (PDT) DKIM-Signature: v=1; a=rsa-sha256; c=relaxed/relaxed; d=iol.unh.edu; s=unh-iol; t=1760469938; x=1761074738; darn=dpdk.org; h=references:in-reply-to:cc:to:from:subject:message-id:date:from:to :cc:subject:date:message-id:reply-to; bh=zKcF9FNGXk69OiuIoAIq6VQNY8ACyCXbF6735ju53gc=; b=BzNshFaFKY8Ww9Mz440VoTwgTZpwJb4HUYys5LBZyHTzrR9RUjnaN31JuooNOeXRjU Wn6w4wdLbe4QFKSA6Antx3J1FVorfCFm72xmHECW9f+DHM8T8xu2cK0PoT7OPHllePbo m3gs26QY60O1RnPDFkIHHeeQ84XuPJR1hHzFE= X-Google-DKIM-Signature: v=1; a=rsa-sha256; c=relaxed/relaxed; d=1e100.net; s=20230601; t=1760469938; x=1761074738; h=references:in-reply-to:cc:to:from:subject:message-id:date :x-gm-message-state:from:to:cc:subject:date:message-id:reply-to; bh=zKcF9FNGXk69OiuIoAIq6VQNY8ACyCXbF6735ju53gc=; b=oUHTMNiRmzJiATZdf7oGnKQH4dVYpGogZteDmJGxuWkbUwl1zH++B8abgqv1lAm3Lq KjDdZfZhstNYAw13R6TOcE8BmK72g4LXr4rck8DW52q7XaXJ0vXdB9ECEj0XW6VOkqya zg/nVxif1B2SjlDt5AJ2Xl8Y9LDo6Q8SgpUO1EVj3T9Q61zKkyR3Qk/4okyffSKPdgMN wlP/t/dQAWRgJ146R1y1+QEpfpfiLWFRufJIrsxIsLlH+F8QJ7N1KOcuoxO/naHMRNEK x7PthjTmpgmWpK8gcxc2/hJ7wQC4dUE6G8iBSkYVs1M+AMEmzJ8pEG64v2F41HHrN8+u 1pQA== X-Gm-Message-State: AOJu0YxyhACyHwabbgtvZuWyzf7IOLFoErG/3Ejt2ILuCuWWcFO9nfYr 3qkypDPXgL7wkkM4otfBDS7Tp9Q1XZzoFo0chTxp1ZfR9oy5KHOPgOZwtPYpFSMRisGxohtHnoE VKRiMrdBvWzC9SeMajUjZbGDGYv/NNRbpTd43FWrgUZcz X-Gm-Gg: ASbGncumMSGRFN0bW3hF4AObo1TnAYkKEMcWImRevYInDPbSE+52TgQ3l/qj6lNJRw0 uyGgMDSGiI3dydRSATxmlVkFmt8fRBiNgbRMLnzH2Qu2hXhcajIEMA1vv4GzKmh6jCnlWjwYtul qJjkHgIIZp+BF2ldXrPiVHs40UwOQrALRSJg5zA7YU1W8NKbKXAiuhzSyOsrEXfbH6CAz20vb3R 9/Rl00eLgWlHvWc/V4K5yJAYIU2NRn4eSFznqd40dRqduqYin00k1aRQvFeaCly9+Q2HcuCp/8h ogY25hqyfhXYgOiZNOBICB2A8JGtrO8YOtApTYmPjgWxvW/Uhd053WxN3iLmEX9sq6uSwORD X-Google-Smtp-Source: AGHT+IEl4uHe0+fRxeUNsBj5Sr97cQ0KNRIAInUGcA339evysyPp9cSflddMrG8IaS4ZX7Yl6dkF4jqE2CYm X-Received: by 2002:a05:6808:33cb:b0:441:8f74:f19 with SMTP id 5614622812f47-441eded1176mr834609b6e.67.1760469938162; Tue, 14 Oct 2025 12:25:38 -0700 (PDT) Received: from postal.iol.unh.edu (postal.iol.unh.edu. [132.177.123.84]) by smtp-relay.gmail.com with ESMTPS id 006d021491bc7-65018151dc8sm243352eaf.6.2025.10.14.12.25.38 (version=TLS1_2 cipher=ECDHE-ECDSA-AES128-GCM-SHA256 bits=128/128); Tue, 14 Oct 2025 12:25:38 -0700 (PDT) X-Relaying-Domain: iol.unh.edu Date: Tue, 14 Oct 2025 12:25:38 -0700 (PDT) Message-ID: <68eea3b2.050a0220.177fd0.bce1SMTPIN_ADDED_MISSING@mx.google.com> Received: from [172.21.0.2] (unknown [172.18.0.240]) by postal.iol.unh.edu (Postfix) with ESMTP id 3CCA9604D420; Tue, 14 Oct 2025 15:25:37 -0400 (EDT) Subject: |SUCCESS| pw157574-157575 [PATCH] [2/2] fib6: fix tbl8 allocation ch From: dpdklab@iol.unh.edu To: Test Report Cc: dpdk-test-reports@iol.unh.edu In-Reply-To: <20251014181755.114300-2-vladimir.medvedkin@intel.com> References: <20251014181755.114300-2-vladimir.medvedkin@intel.com> Content-Type: text/plain X-BeenThere: test-report@dpdk.org X-Mailman-Version: 2.1.29 Precedence: list List-Id: automatic DPDK test reports List-Unsubscribe: , List-Archive: List-Post: List-Help: List-Subscribe: , Errors-To: test-report-bounces@dpdk.org Test-Label: iol-compile-amd64-testing Test-Status: SUCCESS http://dpdk.org/patch/157575 _Testing PASS_ Submitter: Vladimir Medvedkin Date: Tuesday, October 14 2025 18:17:55 DPDK git baseline: Repo:dpdk Branch: master CommitID:7cacb5b3f6cc89785f9383ac9544e61dc971897d 157574-157575 --> testing pass Upstream job id: Windows-Compile-DPDK-Native#31622 Test environment and result as below: +-------------------------------+--------------------+-------------------+-------------------------+------------------+-------------------+----------------------+ | Environment | dpdk_meson_compile | dpdk_compile_spdk | dpdk_llvm_clang_compile | dpdk_compile_ovs | dpdk_msvc_compile | dpdk_mingw64_compile | +===============================+====================+===================+=========================+==================+===================+======================+ | CentOS Stream 9 | PASS | PASS | SKIPPED | SKIPPED | SKIPPED | SKIPPED | +-------------------------------+--------------------+-------------------+-------------------------+------------------+-------------------+----------------------+ | CentOS Stream 10 | PASS | SKIPPED | SKIPPED | SKIPPED | SKIPPED | SKIPPED | +-------------------------------+--------------------+-------------------+-------------------------+------------------+-------------------+----------------------+ | Debian GNU/Linux 12 | PASS | PASS | SKIPPED | SKIPPED | SKIPPED | SKIPPED | +-------------------------------+--------------------+-------------------+-------------------------+------------------+-------------------+----------------------+ | FreeBSD 14.2 | PASS | SKIPPED | SKIPPED | SKIPPED | SKIPPED | SKIPPED | +-------------------------------+--------------------+-------------------+-------------------------+------------------+-------------------+----------------------+ | Ubuntu 20.04 | PASS | SKIPPED | SKIPPED | SKIPPED | SKIPPED | SKIPPED | +-------------------------------+--------------------+-------------------+-------------------------+------------------+-------------------+----------------------+ | Fedora Linux 42 | PASS | PASS | SKIPPED | PASS | SKIPPED | SKIPPED | +-------------------------------+--------------------+-------------------+-------------------------+------------------+-------------------+----------------------+ | openSUSE Leap 15.6 | PASS | SKIPPED | SKIPPED | SKIPPED | SKIPPED | SKIPPED | +-------------------------------+--------------------+-------------------+-------------------------+------------------+-------------------+----------------------+ | Red Hat Enterprise Linux 8.10 | PASS | SKIPPED | SKIPPED | SKIPPED | SKIPPED | SKIPPED | +-------------------------------+--------------------+-------------------+-------------------------+------------------+-------------------+----------------------+ | Red Hat Enterprise Linux 9.5 | PASS | SKIPPED | SKIPPED | SKIPPED | SKIPPED | SKIPPED | +-------------------------------+--------------------+-------------------+-------------------------+------------------+-------------------+----------------------+ | Ubuntu 24.04 | PASS | PASS | SKIPPED | PASS | SKIPPED | SKIPPED | +-------------------------------+--------------------+-------------------+-------------------------+------------------+-------------------+----------------------+ | Ubuntu 22.04 | PASS | PASS | SKIPPED | SKIPPED | SKIPPED | SKIPPED | +-------------------------------+--------------------+-------------------+-------------------------+------------------+-------------------+----------------------+ | Alpine Linux 3.22.0 | PASS | SKIPPED | SKIPPED | SKIPPED | SKIPPED | SKIPPED | +-------------------------------+--------------------+-------------------+-------------------------+------------------+-------------------+----------------------+ | Windows Server 2022 | SKIPPED | SKIPPED | PASS | SKIPPED | PASS | PASS | +-------------------------------+--------------------+-------------------+-------------------------+------------------+-------------------+----------------------+ CentOS Stream 9 Kernel: 5.15 Compiler: gcc gcc (GCC) 11.5.0 20240719 (Red Hat 11.5.0-11) CentOS Stream 10 Kernel: 5.15 Compiler: gcc gcc (GCC) 14.2.1 20250110 (Red Hat 14.2.1-8) Debian GNU/Linux 12 Kernel: 5.15 Compiler: gcc gcc (Debian 12.2.0-14+deb12u1) 12.2.0 FreeBSD 14.2 Kernel: 14.2-RELEASE Compiler: clang 18.1.6 Ubuntu 20.04 Kernel: 4.19 Compiler: gcc gcc (Ubuntu 9.4.0-1ubuntu1~20.04.2) 9.4.0 Fedora Linux 42 Kernel: 5.15 Compiler: clang gcc (GCC) 15.2.1 20250808 (Red Hat 15.2.1-1) openSUSE Leap 15.6 Kernel: 5.15 Compiler: gcc gcc (SUSE Linux) 7.5.0 Red Hat Enterprise Linux 8.10 Kernel: 5.15 Compiler: gcc gcc (GCC) 8.5.0 20210514 (Red Hat 8.5.0-22) Red Hat Enterprise Linux 9.5 Kernel: 5.15 Compiler: gcc gcc (GCC) 11.5.0 20240719 (Red Hat 11.5.0-2) Ubuntu 24.04 Kernel: 5.15 Compiler: gcc gcc (Ubuntu 13.3.0-6ubuntu2~24.04) 13.3.0 Ubuntu 22.04 Kernel: 5.15 Compiler: gcc gcc (Ubuntu 11.4.0-1ubuntu1~22.04) 11.4.0 Alpine Linux 3.22.0 Kernel: 5.15 Compiler: gcc gcc (Alpine 14.2.0) 14.2.0 Windows Server 2022 Kernel: 10.0.20348.2031 Compiler: clang 15.0.7, gcc 14.1.0 (MinGW), and MSVC VS 19.39.33521 To view detailed results, visit: https://lab.dpdk.org/results/dashboard/patchsets/34279/ UNH-IOL DPDK Community Lab To manage your email subscriptions, visit: https://lab.dpdk.org/results/dashboard/preferences/subscriptions/