From mboxrd@z Thu Jan 1 00:00:00 1970 Return-Path: Received: from mails.dpdk.org (mails.dpdk.org [217.70.189.124]) by inbox.dpdk.org (Postfix) with ESMTP id 6A91748938 for ; Tue, 14 Oct 2025 21:29:00 +0200 (CEST) Received: from mails.dpdk.org (localhost [127.0.0.1]) by mails.dpdk.org (Postfix) with ESMTP id 64B2B40288; Tue, 14 Oct 2025 21:29:00 +0200 (CEST) Received: from mail-pl1-f226.google.com (mail-pl1-f226.google.com [209.85.214.226]) by mails.dpdk.org (Postfix) with ESMTP id CC88D40288 for ; Tue, 14 Oct 2025 21:28:58 +0200 (CEST) Received: by mail-pl1-f226.google.com with SMTP id d9443c01a7336-28a5b8b12a1so51764855ad.0 for ; Tue, 14 Oct 2025 12:28:58 -0700 (PDT) DKIM-Signature: v=1; a=rsa-sha256; c=relaxed/relaxed; d=iol.unh.edu; s=unh-iol; t=1760470138; x=1761074938; darn=dpdk.org; h=references:in-reply-to:cc:to:from:subject:message-id:date:from:to :cc:subject:date:message-id:reply-to; bh=O+taYV3P6KGK4idlaJCqXM+N462c45BntWCXQeAn0ds=; b=Fa7kgcjlhMrtYoQMKd3/owdnKNLXLiSq43w8Y4rL/+yZ5Iu6QC72hOrRpf77xsglci jQLu9aW3QVFKkQ12FR7b2KUR61r9AGcuxXugtnEci2MSLjmvcdL9eLzOXtppIRQUMBVs G3Um2QYWnhbyJuQHBVr1nNMnhfBi48ybREYAw= X-Google-DKIM-Signature: v=1; a=rsa-sha256; c=relaxed/relaxed; d=1e100.net; s=20230601; t=1760470138; x=1761074938; h=references:in-reply-to:cc:to:from:subject:message-id:date :x-gm-message-state:from:to:cc:subject:date:message-id:reply-to; bh=O+taYV3P6KGK4idlaJCqXM+N462c45BntWCXQeAn0ds=; b=ArtARDW1VIAo7X8rHh0tSIA/MIToqInIOg/DsdtXmqTcM2OWOsYosvcWQVDOU3y0+u zP6lLw8Ika3HxnVlu7+ZmocKZ8/Q5ZnZMzFuKKJxr2h+xPF2Ac76AcKjuDYccsmuT8NU AB6sFJAF3e+JvCBtFf3mEPCE8CbQTXMov8E31/ybMJv5QHw6xkKjhT8U8NQf7ZF1npUh 3yjrbjOfl7+/ZLvk8Rf/YIv7XMV8NBN4sVl8NuCgFiAGrMuI5QNbotHxErFpu+W6ZU9r B7Y8dMQaVtZCKSHpiDnCPMP7aj76+ABSq5XnaTdtMtv8XidLRy4H0VVQE5AYADcLmc25 uOFw== X-Gm-Message-State: AOJu0YzDGER+NFNSBR1o3ZfVV/7IClA5OipXQwy6J9GZRyz/+hsZjcKW 1D1i+B8tdmOVO6Cw5jV1iwrUA1yXOYhWWjz65FrEmVZ1VZhgmbby3zbSY21FzGAi7iHVay0zzb+ E9Qh+KfatlIQ0vbWXyb7x9vOkU4p85s5qflLnU713Xu3V X-Gm-Gg: ASbGnctRXjS4eXOo4Xf52ht1/b9bi1ZqXVCbWPCWG3qRy8pBcOAnZ2g4F/NfkFijNn4 qhpDIwjGGGxwIuGS92WAn8VsBLCgaA0wk8gMuUqPigLc4TiUu4AM2t/JioR8gWp49qhoPKF9IsL 9vL9zwSE0sv2pYWCzJEqKjScuEKIZMR42Ht7NDx5n5PTakgcp3p31235fjVXHGQAVkNbfGSeSxF 5sj1x96PrRyYU5/WoCbaKPAILLWkwi+L2mqDApoH+jzfJj1X/XS3nj2AzDXvXEVy1vFI7d8A1nT alcHYwHMSFg6I+aiK70/9E+yj7IUEv2hN9H+MUc3PNUCBB5UFpN/eBPr+gZPiXMElv1Re3SG X-Google-Smtp-Source: AGHT+IHsE1NMfSoWVKQ18kc1imiJRT642/wWZBf2cVdfDXBXn3eCbgVFVs1MP8NOyB4xqBb9+rgVN003zqJl X-Received: by 2002:a17:902:f68d:b0:25e:5d83:2ddd with SMTP id d9443c01a7336-290273ffe3dmr365328235ad.45.1760470138006; Tue, 14 Oct 2025 12:28:58 -0700 (PDT) Received: from postal.iol.unh.edu (postal.iol.unh.edu. [132.177.123.84]) by smtp-relay.gmail.com with ESMTPS id d9443c01a7336-29034f79a81sm14197095ad.72.2025.10.14.12.28.57 (version=TLS1_2 cipher=ECDHE-ECDSA-AES128-GCM-SHA256 bits=128/128); Tue, 14 Oct 2025 12:28:58 -0700 (PDT) X-Relaying-Domain: iol.unh.edu Date: Tue, 14 Oct 2025 12:28:58 -0700 (PDT) Message-ID: <68eea47a.170a0220.1a377f.64c2SMTPIN_ADDED_MISSING@mx.google.com> Received: from [172.21.0.2] (unknown [172.18.0.240]) by postal.iol.unh.edu (Postfix) with ESMTP id 4991F604D420; Tue, 14 Oct 2025 15:28:57 -0400 (EDT) Subject: |SUCCESS| pw157574-157575 [PATCH] [2/2] fib6: fix tbl8 allocation ch From: dpdklab@iol.unh.edu To: Test Report Cc: dpdk-test-reports@iol.unh.edu In-Reply-To: <20251014181755.114300-2-vladimir.medvedkin@intel.com> References: <20251014181755.114300-2-vladimir.medvedkin@intel.com> Content-Type: text/plain X-BeenThere: test-report@dpdk.org X-Mailman-Version: 2.1.29 Precedence: list List-Id: automatic DPDK test reports List-Unsubscribe: , List-Archive: List-Post: List-Help: List-Subscribe: , Errors-To: test-report-bounces@dpdk.org Test-Label: iol-unit-amd64-testing Test-Status: SUCCESS http://dpdk.org/patch/157575 _Testing PASS_ Submitter: Vladimir Medvedkin Date: Tuesday, October 14 2025 18:17:55 DPDK git baseline: Repo:dpdk Branch: master CommitID:7cacb5b3f6cc89785f9383ac9544e61dc971897d 157574-157575 --> testing pass Upstream job id: Generic-VM-Unit-Test-DPDK#31793 Test environment and result as below: +-------------------------------+----------------+ | Environment | dpdk_unit_test | +===============================+================+ | CentOS Stream 9 | PASS | +-------------------------------+----------------+ | CentOS Stream 10 | PASS | +-------------------------------+----------------+ | Fedora Linux 42 | PASS | +-------------------------------+----------------+ | Fedora Linux 40 | PASS | +-------------------------------+----------------+ | Debian GNU/Linux 12 | PASS | +-------------------------------+----------------+ | Red Hat Enterprise Linux 8.10 | PASS | +-------------------------------+----------------+ | Windows Server 2022 | PASS | +-------------------------------+----------------+ | Red Hat Enterprise Linux 9.5 | PASS | +-------------------------------+----------------+ | Ubuntu 22.04 | PASS | +-------------------------------+----------------+ | Ubuntu 20.04 | PASS | +-------------------------------+----------------+ | Fedora Linux 41 | PASS | +-------------------------------+----------------+ | Ubuntu 24.04 | PASS | +-------------------------------+----------------+ CentOS Stream 9 Kernel: 5.15 Compiler: gcc gcc (GCC) 11.5.0 20240719 (Red Hat 11.5.0-11) CentOS Stream 10 Kernel: 5.15 Compiler: gcc gcc (GCC) 14.2.1 20250110 (Red Hat 14.2.1-8) Fedora Linux 42 Kernel: 5.15 Compiler: clang gcc (GCC) 15.2.1 20250808 (Red Hat 15.2.1-1) Fedora Linux 40 Kernel: 5.15 Compiler: clang gcc (GCC) 14.2.1 20240912 (Red Hat 14.2.1-3) Debian GNU/Linux 12 Kernel: 5.15 Compiler: gcc gcc (Debian 12.2.0-14+deb12u1) 12.2.0 Red Hat Enterprise Linux 8.10 Kernel: 5.15 Compiler: gcc gcc (GCC) 8.5.0 20210514 (Red Hat 8.5.0-22) Windows Server 2022 Kernel: 10.0.20348.2031 Compiler: clang 15.0.7, gcc 14.1.0 (MinGW), and MSVC VS 19.39.33521 Red Hat Enterprise Linux 9.5 Kernel: 5.15 Compiler: gcc gcc (GCC) 11.5.0 20240719 (Red Hat 11.5.0-2) Ubuntu 22.04 Kernel: 5.15 Compiler: gcc gcc (Ubuntu 11.4.0-1ubuntu1~22.04) 11.4.0 Ubuntu 20.04 Kernel: 5.15 Compiler: gcc gcc (Ubuntu 9.4.0-1ubuntu1~20.04.2) 9.4.0 Fedora Linux 41 Kernel: 5.15 Compiler: clang gcc (GCC) 14.3.1 20250523 (Red Hat 14.3.1-1) Ubuntu 24.04 Kernel: 5.15 Compiler: gcc gcc (Ubuntu 13.3.0-6ubuntu2~24.04) 13.3.0 To view detailed results, visit: https://lab.dpdk.org/results/dashboard/patchsets/34279/ UNH-IOL DPDK Community Lab To manage your email subscriptions, visit: https://lab.dpdk.org/results/dashboard/preferences/subscriptions/