From mboxrd@z Thu Jan 1 00:00:00 1970 Return-Path: Received: from mails.dpdk.org (mails.dpdk.org [217.70.189.124]) by inbox.dpdk.org (Postfix) with ESMTP id CFEB348939 for ; Tue, 14 Oct 2025 23:51:51 +0200 (CEST) Received: from mails.dpdk.org (localhost [127.0.0.1]) by mails.dpdk.org (Postfix) with ESMTP id C9E2B40288; Tue, 14 Oct 2025 23:51:51 +0200 (CEST) Received: from mail-il1-f228.google.com (mail-il1-f228.google.com [209.85.166.228]) by mails.dpdk.org (Postfix) with ESMTP id 0A3C840288 for ; Tue, 14 Oct 2025 23:51:50 +0200 (CEST) Received: by mail-il1-f228.google.com with SMTP id e9e14a558f8ab-428551be643so48161835ab.3 for ; Tue, 14 Oct 2025 14:51:49 -0700 (PDT) DKIM-Signature: v=1; a=rsa-sha256; c=relaxed/relaxed; d=iol.unh.edu; s=unh-iol; t=1760478709; x=1761083509; darn=dpdk.org; h=references:in-reply-to:cc:to:from:subject:message-id:date:from:to :cc:subject:date:message-id:reply-to; bh=MHp0tuAZmuuAPb33R2dxhBVow8IYUUCxa8i9SCe7r+U=; b=jGhExC2m51vR97KY/Yvbet3tzlcLPpnHW4KuN2YiHYwGTVfsfoBfYEXR7rHfPGsc/d Phhv1jmJdP8qsUP3mUjRzh/7rcnLr77/1FrMqzv9aLxDqmOh5rlDdq5+/X02+t86IeM/ nf33a3/YFE/wM1zvy3E28FcccnsmAbVx8vuLs= X-Google-DKIM-Signature: v=1; a=rsa-sha256; c=relaxed/relaxed; d=1e100.net; s=20230601; t=1760478709; x=1761083509; h=references:in-reply-to:cc:to:from:subject:message-id:date :x-gm-message-state:from:to:cc:subject:date:message-id:reply-to; bh=MHp0tuAZmuuAPb33R2dxhBVow8IYUUCxa8i9SCe7r+U=; b=sZT1Hn4DlwVgWpMFojdLRJBW4N0crPdemEZycjx9FOYRolu504vC1ORqQNA3bt6Kma WHa9YNDxsdgQ5Ur1re+UdWsPZh7/tY0tpM+e1Jzudn49Adr6ivOLpde1slI2y2q1TafE ACcdb4JdRg2KBoEiZsnONphNdShjde91VO3DRNP0K16BRMRPn/Ks5eWSLZ6YxYz2pg2j xLnuaHmx5AqhopWReJAFUOzAeEqJ79Gl08HK5EBBU/hvrd6Y5NoA00VIni23BQSKHYZ7 9ptEMDpGS4Yui/OJji6+4K+qydQtIlJgPDuoHP4QY5rDty/P7KLVr9Y9P5kTmZ/vaD33 mGYA== X-Gm-Message-State: AOJu0Yy6PyQ4vb9y13UL9mX3v5HN7XXxyHcC++Q1eodULx6yvI5uA4uh irewk6LMGeKQV+MDB1Naa71CgsAW4fN2FqfD5M2jOE0/FMShVDoLaJ5O4g0LubrY4OZEK2+bM5M efdc9G39HH/Juwm1drt3YlprZzVSZEuu/Sn1DEETp08/5 X-Gm-Gg: ASbGncuIe8t43HBe0von6FCPOOozCzJc7UvGZRmKXn5oSBuTXoOP8UaBcNP7h3iK36O a3jfSLoFKpC4wOJRjHG+t/FIA4q18ro3Wbe3Vo1Qx6eGhKDHb5FC5yvZrU7/F8MT/pzHMlrs973 sSq1nxeztcyCrht1CWUMDLJ+dksfvPc/lDuJcO8yK7YsEIykQm/UPwfdPr+OXlhjpGC6ZW1vnR9 d2rqw8ibCPJEHZv2cVh9h40Fc3q7N+htx71WmB6TOV4L9WXIuSois2XmiRht6QF6Ld/5LVqZcdl 0lvYzrdte0mCMl6OR3eNP1hmxm1AVRbPcX14HlkW4NlCAcxlpLnjM4ZOt6GeOiguWgfhgvlF X-Google-Smtp-Source: AGHT+IHVWhQxhiWRhmwcXHzHCs1T1Vt1coKcaopQeJG8EhszG2TvtPWbyRfVB6Rx3STLcdtEuiVQERoEimiD X-Received: by 2002:a05:6e02:180e:b0:42d:86f3:a2d1 with SMTP id e9e14a558f8ab-42f873fa208mr288915125ab.25.1760478709397; Tue, 14 Oct 2025 14:51:49 -0700 (PDT) Received: from postal.iol.unh.edu (postal.iol.unh.edu. [132.177.123.84]) by smtp-relay.gmail.com with ESMTPS id e9e14a558f8ab-42f9031307esm11253125ab.17.2025.10.14.14.51.49 (version=TLS1_2 cipher=ECDHE-ECDSA-AES128-GCM-SHA256 bits=128/128); Tue, 14 Oct 2025 14:51:49 -0700 (PDT) X-Relaying-Domain: iol.unh.edu Date: Tue, 14 Oct 2025 14:51:49 -0700 (PDT) Message-ID: <68eec5f5.920a0220.1b7822.8da3SMTPIN_ADDED_MISSING@mx.google.com> Received: from [172.21.0.2] (unknown [172.18.0.240]) by postal.iol.unh.edu (Postfix) with ESMTP id F3A236051830; Tue, 14 Oct 2025 17:51:48 -0400 (EDT) Subject: |SUCCESS| pw157566-157572 [PATCH] [v6,7/7] usertools/mbuf: parse mbu From: dpdklab@iol.unh.edu To: Test Report Cc: dpdk-test-reports@iol.unh.edu In-Reply-To: <20251014124046.1032293-8-thomas@monjalon.net> References: <20251014124046.1032293-8-thomas@monjalon.net> Content-Type: text/plain X-BeenThere: test-report@dpdk.org X-Mailman-Version: 2.1.29 Precedence: list List-Id: automatic DPDK test reports List-Unsubscribe: , List-Archive: List-Post: List-Help: List-Subscribe: , Errors-To: test-report-bounces@dpdk.org Test-Label: iol-compile-arm64-testing Test-Status: SUCCESS http://dpdk.org/patch/157572 _Testing PASS_ Submitter: Thomas Monjalon Date: Tuesday, October 14 2025 12:33:40 DPDK git baseline: Repo:dpdk Branch: master CommitID:2b403dd8fb37d0ba13723e44ffc7ee2c2795f838 157566-157572 --> testing pass Upstream job id: Generic-DPDK-Compile-Meson#434219 Test environment and result as below: +------------------------------+--------------------+ | Environment | dpdk_meson_compile | +==============================+====================+ | Red Hat Enterprise Linux 9.5 | PASS | +------------------------------+--------------------+ | Ubuntu 20.04 | PASS | +------------------------------+--------------------+ | Debian GNU/Linux 12 | PASS | +------------------------------+--------------------+ | Fedora Linux 42 | PASS | +------------------------------+--------------------+ | Ubuntu 22.04 | PASS | +------------------------------+--------------------+ | Ubuntu 24.04 | PASS | +------------------------------+--------------------+ | CentOS Stream 9 | PASS | +------------------------------+--------------------+ | CentOS Stream 10 | PASS | +------------------------------+--------------------+ Red Hat Enterprise Linux 9.5 Kernel: 5.4 Compiler: gcc gcc (GCC) 11.5.0 20240719 (Red Hat 11.5.0-2) Ubuntu 20.04 Kernel: 5.15 Compiler: aarch64-linux-gnu-gcc gcc (Ubuntu 9.4.0-1ubuntu1~20.04.2) 9.4.0 Debian GNU/Linux 12 Kernel: 5.4 Compiler: gcc gcc (Debian 12.2.0-14+deb12u1) 12.2.0 Fedora Linux 42 Kernel: 5.4 Compiler: gcc gcc (GCC) 15.2.1 20250808 (Red Hat 15.2.1-1) Ubuntu 22.04 Kernel: 5.4 Compiler: gcc gcc (Ubuntu 11.4.0-1ubuntu1~22.04) 11.4.0 Ubuntu 24.04 Kernel: 5.4 Compiler: gcc gcc (Ubuntu 13.3.0-6ubuntu2~24.04) 13.3.0 CentOS Stream 9 Kernel: 5.4 Compiler: gcc gcc (GCC) 11.5.0 20240719 (Red Hat 11.5.0-11) CentOS Stream 10 Kernel: 5.4 Compiler: gcc gcc (GCC) 14.2.1 20250110 (Red Hat 14.2.1-8) To view detailed results, visit: https://lab.dpdk.org/results/dashboard/patchsets/34277/ UNH-IOL DPDK Community Lab To manage your email subscriptions, visit: https://lab.dpdk.org/results/dashboard/preferences/subscriptions/