From mboxrd@z Thu Jan 1 00:00:00 1970 Return-Path: Received: from mails.dpdk.org (mails.dpdk.org [217.70.189.124]) by inbox.dpdk.org (Postfix) with ESMTP id 5304448939 for ; Wed, 15 Oct 2025 00:05:04 +0200 (CEST) Received: from mails.dpdk.org (localhost [127.0.0.1]) by mails.dpdk.org (Postfix) with ESMTP id 4D51240288; Wed, 15 Oct 2025 00:05:04 +0200 (CEST) Received: from mail-il1-f226.google.com (mail-il1-f226.google.com [209.85.166.226]) by mails.dpdk.org (Postfix) with ESMTP id F19A140288 for ; Wed, 15 Oct 2025 00:05:03 +0200 (CEST) Received: by mail-il1-f226.google.com with SMTP id e9e14a558f8ab-42f3acb1744so26516615ab.0 for ; Tue, 14 Oct 2025 15:05:03 -0700 (PDT) DKIM-Signature: v=1; a=rsa-sha256; c=relaxed/relaxed; d=iol.unh.edu; s=unh-iol; t=1760479503; x=1761084303; darn=dpdk.org; h=references:in-reply-to:cc:to:from:subject:message-id:date:from:to :cc:subject:date:message-id:reply-to; bh=iGfwKOgzs13zFVW7lFvDynfa0A66KPzq5/53NNXJcIw=; b=jh2hBOjSAlzLF31i/W7GSwnmTX7eEjK8b15B4aBze4Iuoc75pv+7KBDclrqjliKDVW hM2f76awAlUN/KEioVFKmh6NDs+p/r2TG8eRP0i734maomTBHgj68pyyIsmlzyH5hCoN L8jtvChWscJN/ZDoDzif0C0XHsFdc79nv8GbI= X-Google-DKIM-Signature: v=1; a=rsa-sha256; c=relaxed/relaxed; d=1e100.net; s=20230601; t=1760479503; x=1761084303; h=references:in-reply-to:cc:to:from:subject:message-id:date :x-gm-message-state:from:to:cc:subject:date:message-id:reply-to; bh=iGfwKOgzs13zFVW7lFvDynfa0A66KPzq5/53NNXJcIw=; b=jchi6twV+27Qmyl+CAkMUfyJsXEat3VYhNIbkbi6DgNX95Y2GzXZZPHn9s4+JL+3P+ fw2Yweh1T/B1cWHILN0hOo7gogKDn0gBI9rTY5Iw1V+jEOdPrpLGqlnSXJt6WANOB0md wy8rUOkTE6qTsajUpqx8idU+OuhGEe/T2xgsrBSF+X3S7MzN/FGuUQc++zBCMxXJHDBI CFAf//MlsmNqUuMcktrq6XppKNUYO0mVgZVRZnkCuDvJbnPOT2t+MswHQ/StJ+d9YYto O5Kk2FmCBgxM7xy1t0ulIEPDX8d6bDeWZZSYP4u7wWF5w1leZKZ/JG+iea3bGDiGVCwX rPzg== X-Gm-Message-State: AOJu0YxZ4yMMjxh9XbfZwmrb8WxJUqayhd7KctWGgcePSJ9hszcs7CS0 Yh7zE6pHjIRI9KygTpBCzzd6Kl+gg5HaPshmVYirwvX9DEyY5mi3es4O74xUHU755OJezhGsYWp 1dK2osYaskkAKn9hkdJD1I9wG6mPnVkoIDM/k47twaPvdUkMfi/qoKT9QIcho X-Gm-Gg: ASbGnctIdN8L2M/CXCiDm4OTItc1pV2a0fETYW+rhEFW9lUE2cmvhR7qbB84Gu9GPdp 29FwLxoUrubPMx7+4E6r8ZomEGo1kAmjiYdq4s8G8qXs1KgGb2ZGfbfQWUTBNaDRDdS3eL2NnIt nSKu8vJA6hQkGZG9bOiPYLsK1SOGcpF+jsYSMXIwMXwsVWrJBNrkM80xn5Wq6MYS94ytSmaZkAp s/Zx+cNZuHaZg5uqhNQH0DP5XpqZUAygqXSXVVhuQWoHdIsY/OCb1+4TU7HedrEKo7gVhf5JR5g qlwKyYfXAc1JucatC/H7ju30ptAb+HZIjC3uu6m2APKZhhPfBA== X-Google-Smtp-Source: AGHT+IEorzIv0srMUfzVMzPVPRSVSMiSnLtMHDJlBsJiJfTRyBcl2whfnAJFhuFSIuRKttCU7KsIyjtzKRmX X-Received: by 2002:a05:6e02:160d:b0:430:ac27:c26d with SMTP id e9e14a558f8ab-430ac27f483mr8346585ab.12.1760479503305; Tue, 14 Oct 2025 15:05:03 -0700 (PDT) Received: from postal.iol.unh.edu (postal.iol.unh.edu. [2606:4100:3880:1234::84]) by smtp-relay.gmail.com with ESMTPS id 8926c6da1cb9f-58f71e1b95asm1174411173.36.2025.10.14.15.05.03 (version=TLS1_2 cipher=ECDHE-ECDSA-AES128-GCM-SHA256 bits=128/128); Tue, 14 Oct 2025 15:05:03 -0700 (PDT) X-Relaying-Domain: iol.unh.edu Date: Tue, 14 Oct 2025 15:05:03 -0700 (PDT) Message-ID: <68eec90f.050a0220.3721b5.a38bSMTPIN_ADDED_MISSING@mx.google.com> Received: from [172.21.0.2] (unknown [172.18.0.240]) by postal.iol.unh.edu (Postfix) with ESMTP id D9AE06051830; Tue, 14 Oct 2025 18:05:02 -0400 (EDT) Subject: |SUCCESS| pw157557-157561 [PATCH] [v3,5/5] net/dpaa: fix resource le From: dpdklab@iol.unh.edu To: Test Report Cc: dpdk-test-reports@iol.unh.edu, Stephen Hemminger In-Reply-To: <20251014101716.2885563-6-g.singh@nxp.com> References: <20251014101716.2885563-6-g.singh@nxp.com> Content-Type: text/plain X-BeenThere: test-report@dpdk.org X-Mailman-Version: 2.1.29 Precedence: list List-Id: automatic DPDK test reports List-Unsubscribe: , List-Archive: List-Post: List-Help: List-Subscribe: , Errors-To: test-report-bounces@dpdk.org Test-Label: iol-unit-arm64-testing Test-Status: SUCCESS http://dpdk.org/patch/157561 _Testing PASS_ Submitter: Gagandeep Singh Date: Tuesday, October 14 2025 10:17:16 DPDK git baseline: Repo:dpdk-next-net Branch: master CommitID:c04bbd131b2c14b3049bf86d3ef367b34e6fdf1e 157557-157561 --> testing pass Upstream job id: Generic-Unit-Test-DPDK#381249 Test environment and result as below: +------------------------------+--------------+---------------------------+------------------------------+----------------+ | Environment | lpm_autotest | cryptodev_sw_zuc_autotest | cryptodev_sw_snow3g_autotest | dpdk_unit_test | +==============================+==============+===========================+==============================+================+ | Ubuntu 20.04 | PASS | SKIPPED | SKIPPED | PASS | +------------------------------+--------------+---------------------------+------------------------------+----------------+ | Debian 12 (arm) | SKIPPED | PASS | PASS | SKIPPED | +------------------------------+--------------+---------------------------+------------------------------+----------------+ | CentOS Stream 9 | SKIPPED | SKIPPED | SKIPPED | PASS | +------------------------------+--------------+---------------------------+------------------------------+----------------+ | Debian GNU/Linux 12 | SKIPPED | SKIPPED | SKIPPED | PASS | +------------------------------+--------------+---------------------------+------------------------------+----------------+ | Fedora Linux 40 | SKIPPED | SKIPPED | SKIPPED | PASS | +------------------------------+--------------+---------------------------+------------------------------+----------------+ | CentOS Stream 10 | SKIPPED | SKIPPED | SKIPPED | PASS | +------------------------------+--------------+---------------------------+------------------------------+----------------+ | Fedora Linux 41 | SKIPPED | SKIPPED | SKIPPED | PASS | +------------------------------+--------------+---------------------------+------------------------------+----------------+ | Fedora Linux 42 | SKIPPED | SKIPPED | SKIPPED | PASS | +------------------------------+--------------+---------------------------+------------------------------+----------------+ | Ubuntu 22.04 | SKIPPED | SKIPPED | SKIPPED | PASS | +------------------------------+--------------+---------------------------+------------------------------+----------------+ | Red Hat Enterprise Linux 9.5 | SKIPPED | SKIPPED | SKIPPED | PASS | +------------------------------+--------------+---------------------------+------------------------------+----------------+ | Ubuntu 24.04 | SKIPPED | SKIPPED | SKIPPED | PASS | +------------------------------+--------------+---------------------------+------------------------------+----------------+ Ubuntu 20.04 Kernel: 5.4 Compiler: gcc gcc (Ubuntu 9.4.0-1ubuntu1~20.04.2) 9.4.0 Debian 12 (arm) Kernel: Depends on container host Compiler: gcc (Debian 12.2.0-14) 12.2.0 CentOS Stream 9 Kernel: 5.4 Compiler: gcc gcc (GCC) 11.5.0 20240719 (Red Hat 11.5.0-11) Debian GNU/Linux 12 Kernel: 5.4 Compiler: gcc gcc (Debian 12.2.0-14+deb12u1) 12.2.0 Fedora Linux 40 Kernel: 5.4 Compiler: gcc gcc (GCC) 14.2.1 20240912 (Red Hat 14.2.1-3) CentOS Stream 10 Kernel: 5.4 Compiler: gcc gcc (GCC) 14.2.1 20250110 (Red Hat 14.2.1-8) Fedora Linux 41 Kernel: 5.4 Compiler: clang gcc (GCC) 14.3.1 20250523 (Red Hat 14.3.1-1) Fedora Linux 42 Kernel: 5.4 Compiler: gcc gcc (GCC) 15.2.1 20250808 (Red Hat 15.2.1-1) Ubuntu 22.04 Kernel: 5.4 Compiler: gcc gcc (Ubuntu 11.4.0-1ubuntu1~22.04) 11.4.0 Red Hat Enterprise Linux 9.5 Kernel: 5.4 Compiler: gcc gcc (GCC) 11.5.0 20240719 (Red Hat 11.5.0-2) Ubuntu 24.04 Kernel: 5.4 Compiler: gcc gcc (Ubuntu 13.3.0-6ubuntu2~24.04) 13.3.0 To view detailed results, visit: https://lab.dpdk.org/results/dashboard/patchsets/34274/ UNH-IOL DPDK Community Lab To manage your email subscriptions, visit: https://lab.dpdk.org/results/dashboard/preferences/subscriptions/