From mboxrd@z Thu Jan 1 00:00:00 1970 Return-Path: Received: from mails.dpdk.org (mails.dpdk.org [217.70.189.124]) by inbox.dpdk.org (Postfix) with ESMTP id 6C8AE48939 for ; Wed, 15 Oct 2025 00:39:19 +0200 (CEST) Received: from mails.dpdk.org (localhost [127.0.0.1]) by mails.dpdk.org (Postfix) with ESMTP id 4B4C240288; Wed, 15 Oct 2025 00:39:19 +0200 (CEST) Received: from mail-pf1-f226.google.com (mail-pf1-f226.google.com [209.85.210.226]) by mails.dpdk.org (Postfix) with ESMTP id ED3C340288 for ; Wed, 15 Oct 2025 00:39:17 +0200 (CEST) Received: by mail-pf1-f226.google.com with SMTP id d2e1a72fcca58-781206cce18so368995b3a.0 for ; Tue, 14 Oct 2025 15:39:17 -0700 (PDT) DKIM-Signature: v=1; a=rsa-sha256; c=relaxed/relaxed; d=iol.unh.edu; s=unh-iol; t=1760481557; x=1761086357; darn=dpdk.org; h=cc:to:from:subject:message-id:date:from:to:cc:subject:date :message-id:reply-to; bh=p11Y8g1b/DWVT5leLLfqPgFucuyVxJDVFYTKh2BO9Kg=; b=GNKEu3e2xhGhA7Z1HLN0UybzDzxPpGcpbX6HdJeQBgA3Dy8uBFDucuSknGRQ1ikviF GA4kZh7hd14nxqHI/x9B6oVEXWZvZllhcszKfcLwuIzKwxvt4oDXnI3+3FCzB4H/Eivx BR6tz4cAd9eTIW114sUKlMPmzag7W4WwYOFbk= X-Google-DKIM-Signature: v=1; a=rsa-sha256; c=relaxed/relaxed; d=1e100.net; s=20230601; t=1760481557; x=1761086357; h=cc:to:from:subject:message-id:date:x-gm-message-state:from:to:cc :subject:date:message-id:reply-to; bh=p11Y8g1b/DWVT5leLLfqPgFucuyVxJDVFYTKh2BO9Kg=; b=Ry4LQjnQ+qDeXwYjurQfbxNhhrRncK8idfhq9MP8dGdVoY0f7O/DoGprwP2oxdMDel WLr8N7k4LZ2xVzpuH5SCVXt+7qsQfl6ZCS9jE5uHcXdDJAGR6eDkzsnNDYIsu79wnLd3 udcARh49YeBqmHOIn59g4/ZKEypVF6hx0x8qD5j60DONrthrjO51uJTPOr12Sm4hJqHe HN/HzR/rrgYDL0S2b2PGkKCLwMWEmCUYQH0J/FBzL45A2pn2YqoQkpX3tDdbbtYe4EcI S8/NXAM+1SaiEOx46C5923L6bID+p31enkUEUMe+Rrq+n75DTCbGPae9bHVdwNva2TEJ dvFg== X-Gm-Message-State: AOJu0YwSEnb7mb9Lio3sbXJnNKs42y07NjknlHO/rMakLTCTjnPa/mkY S6kJwwKUopEE0z5FC7dxKGLsAnjX40y76P/qVKzI1cgtB1QffPCF7ySa8gp89HmgL087NTHyZpJ 7GhMuJHRfQvM57utXYg82xqn6OgHkJtmjk8vZOsPftOEqM5QEx42Kdv3loBWN X-Gm-Gg: ASbGncsLDiS1KDnnuaOgxu/GcbYncQ8ocQBoU544z8O2EKp00Is6ZoTvRs5v9o8kGQT fABncFLLHLN6AvIn0lx8MIhQAvcvpvpxOuxGockxbq63qNfL+tYSiiO6irDlQ6+Wlng+B0yi6oF j8PE/ez7siDVwOPGbBpztDYX0x6pbQmnFnvcY+B+ddk0RlisnNFZlF3a+HZmxrG552v2+n9dGGx aOjqlU/ULKmdZGC36VrQvafSQE5MJPLc5yzj5jxfXr728EXRUmMPwWmeCcUI6tH97yWlvG4+rL3 ZDzeLry3LbuVN53TToRE4ra9a7CtJlFb/3SaambZbkm/F69u1A== X-Google-Smtp-Source: AGHT+IG46sAnv8KsCF20GBrcvtNSXiHz8EfHHpBsxYOV3n8i6sZa4TbLg7oYuTxFFCyv9vtPYyu59l5Z9VpJ X-Received: by 2002:a05:6a00:987:b0:781:1110:f175 with SMTP id d2e1a72fcca58-793992757eemr32751950b3a.14.1760481556993; Tue, 14 Oct 2025 15:39:16 -0700 (PDT) Received: from postal.iol.unh.edu (postal.iol.unh.edu. [2606:4100:3880:1234::84]) by smtp-relay.gmail.com with ESMTPS id d2e1a72fcca58-79933310e6csm1412675b3a.9.2025.10.14.15.39.16 (version=TLS1_2 cipher=ECDHE-ECDSA-AES128-GCM-SHA256 bits=128/128); Tue, 14 Oct 2025 15:39:16 -0700 (PDT) X-Relaying-Domain: iol.unh.edu Date: Tue, 14 Oct 2025 15:39:16 -0700 (PDT) Message-ID: <68eed114.050a0220.3ced5c.548cSMTPIN_ADDED_MISSING@mx.google.com> Received: from [172.21.0.3] (unknown [172.18.0.240]) by postal.iol.unh.edu (Postfix) with ESMTP id 2749560003EA; Tue, 14 Oct 2025 18:39:16 -0400 (EDT) Subject: |SUCCESS| [GIT MASTER] b26049c00e3c452cb446d688a43c6c7eebbee32e From: dpdklab@iol.unh.edu To: Test Report Cc: dpdk-test-reports@iol.unh.edu, Bruce Richardson Content-Type: text/plain X-BeenThere: test-report@dpdk.org X-Mailman-Version: 2.1.29 Precedence: list List-Id: automatic DPDK test reports List-Unsubscribe: , List-Archive: List-Post: List-Help: List-Subscribe: , Errors-To: test-report-bounces@dpdk.org _Testing PASS_ Branch: dpdk-next-net-intel b26049c00e3c452cb446d688a43c6c7eebbee32e --> testing pass Upstream job id: Generic-Unit-Test-DPDK#381279 Test environment and result as below: +------------------------------+----------------+--------------+------------------------------+---------------------------+ | Environment | dpdk_unit_test | lpm_autotest | cryptodev_sw_snow3g_autotest | cryptodev_sw_zuc_autotest | +==============================+================+==============+==============================+===========================+ | CentOS Stream 9 | PASS | SKIPPED | SKIPPED | SKIPPED | +------------------------------+----------------+--------------+------------------------------+---------------------------+ | Debian GNU/Linux 12 | PASS | SKIPPED | SKIPPED | SKIPPED | +------------------------------+----------------+--------------+------------------------------+---------------------------+ | Fedora Linux 41 | PASS | SKIPPED | SKIPPED | SKIPPED | +------------------------------+----------------+--------------+------------------------------+---------------------------+ | CentOS Stream 10 | PASS | SKIPPED | SKIPPED | SKIPPED | +------------------------------+----------------+--------------+------------------------------+---------------------------+ | Fedora Linux 40 | PASS | SKIPPED | SKIPPED | SKIPPED | +------------------------------+----------------+--------------+------------------------------+---------------------------+ | Fedora Linux 42 | PASS | SKIPPED | SKIPPED | SKIPPED | +------------------------------+----------------+--------------+------------------------------+---------------------------+ | Red Hat Enterprise Linux 9.5 | PASS | SKIPPED | SKIPPED | SKIPPED | +------------------------------+----------------+--------------+------------------------------+---------------------------+ | Ubuntu 22.04 | PASS | SKIPPED | SKIPPED | SKIPPED | +------------------------------+----------------+--------------+------------------------------+---------------------------+ | Ubuntu 20.04 | PASS | PASS | SKIPPED | SKIPPED | +------------------------------+----------------+--------------+------------------------------+---------------------------+ | Ubuntu 24.04 | PASS | SKIPPED | SKIPPED | SKIPPED | +------------------------------+----------------+--------------+------------------------------+---------------------------+ | Debian 12 (arm) | SKIPPED | SKIPPED | PASS | PASS | +------------------------------+----------------+--------------+------------------------------+---------------------------+ CentOS Stream 9 Kernel: 5.4 Compiler: gcc gcc (GCC) 11.5.0 20240719 (Red Hat 11.5.0-11) Debian GNU/Linux 12 Kernel: 5.4 Compiler: gcc gcc (Debian 12.2.0-14+deb12u1) 12.2.0 Fedora Linux 41 Kernel: 5.4 Compiler: gcc gcc (GCC) 14.3.1 20250523 (Red Hat 14.3.1-1) CentOS Stream 10 Kernel: 5.4 Compiler: gcc gcc (GCC) 14.2.1 20250110 (Red Hat 14.2.1-8) Fedora Linux 40 Kernel: 5.4 Compiler: gcc gcc (GCC) 14.2.1 20240912 (Red Hat 14.2.1-3) Fedora Linux 42 Kernel: 5.4 Compiler: clang gcc (GCC) 15.2.1 20250808 (Red Hat 15.2.1-1) Red Hat Enterprise Linux 9.5 Kernel: 5.4 Compiler: gcc gcc (GCC) 11.5.0 20240719 (Red Hat 11.5.0-2) Ubuntu 22.04 Kernel: 5.4 Compiler: gcc gcc (Ubuntu 11.4.0-1ubuntu1~22.04) 11.4.0 Ubuntu 20.04 Kernel: 5.4 Compiler: gcc gcc (Ubuntu 9.4.0-1ubuntu1~20.04.2) 9.4.0 Ubuntu 24.04 Kernel: 5.4 Compiler: gcc gcc (Ubuntu 13.3.0-6ubuntu2~24.04) 13.3.0 Debian 12 (arm) Kernel: Depends on container host Compiler: gcc (Debian 12.2.0-14) 12.2.0 To view detailed results, visit: https://lab.dpdk.org/results/dashboard/tarballs/35203/ UNH-IOL DPDK Community Lab To manage your email subscriptions, visit: https://lab.dpdk.org/results/dashboard/preferences/subscriptions/