From mboxrd@z Thu Jan 1 00:00:00 1970 Return-Path: Received: from mails.dpdk.org (mails.dpdk.org [217.70.189.124]) by inbox.dpdk.org (Postfix) with ESMTP id 6818548939 for ; Wed, 15 Oct 2025 00:39:55 +0200 (CEST) Received: from mails.dpdk.org (localhost [127.0.0.1]) by mails.dpdk.org (Postfix) with ESMTP id 6267C40288; Wed, 15 Oct 2025 00:39:55 +0200 (CEST) Received: from mail-pf1-f228.google.com (mail-pf1-f228.google.com [209.85.210.228]) by mails.dpdk.org (Postfix) with ESMTP id 3D89740288 for ; Wed, 15 Oct 2025 00:39:54 +0200 (CEST) Received: by mail-pf1-f228.google.com with SMTP id d2e1a72fcca58-789fb76b466so5422630b3a.0 for ; Tue, 14 Oct 2025 15:39:54 -0700 (PDT) DKIM-Signature: v=1; a=rsa-sha256; c=relaxed/relaxed; d=iol.unh.edu; s=unh-iol; t=1760481593; x=1761086393; darn=dpdk.org; h=references:in-reply-to:cc:to:from:subject:message-id:date:from:to :cc:subject:date:message-id:reply-to; bh=tJZSxYMHBg/lTW/ylt5hnWRMWNeiQgFDj/ZDKGoOZTs=; b=ZgNhAcfcb84fsjiUZxlKgyUaCJm6E5eiHVQWZ6m8T6EO/hiYRG1oDtoxHe7nxnp7N1 7/+KMxKucsjVBIqFt6bVw5dVwSoLA6HtFlAuKMRGrUtgni3unilUFOB/7Dn7khsSKQFY 266WUrKJ81/A2y1Pv94XJUqVHtMf02KzWhtUM= X-Google-DKIM-Signature: v=1; a=rsa-sha256; c=relaxed/relaxed; d=1e100.net; s=20230601; t=1760481593; x=1761086393; h=references:in-reply-to:cc:to:from:subject:message-id:date :x-gm-message-state:from:to:cc:subject:date:message-id:reply-to; bh=tJZSxYMHBg/lTW/ylt5hnWRMWNeiQgFDj/ZDKGoOZTs=; b=QcwWxUSCuKTKkujkbv8u9snvrDav6YYC/Z/+l+yYOknjslCwjJc05W+L+r5LwBaNV4 q8aWESqRgT4OPbuM3O3fH9/kmkUCNUbp6yCmwZIvMIz961NjxagcPWanzOPpjilVnRuJ mHUsJdnX++mFqWPGHcFyICcCN7/In+juweDuQiKo0snNIhBwp77Qmx7rzZ9KNJs0oX2h 4hyDLNSUthosy1CUFP07XUh6yeAXsfRmq8p+Di31s6iE8KDUcuPtYtbaAjWInmSpFImk qq5iYf9Tt8wVvyt+rkq1igva+Hg+L4q+D4ZPfV7pXrX84LVB3Piey823xn5VHtp1MS64 +D8g== X-Gm-Message-State: AOJu0YwgA4yUD9nmL2DWxndw1UQPtg/ZJVZf3ddi48eC4nIm307oXQJY kCd8oJDrlV0uiZnm7j/BRLJKDvvkfq9dbPdEQINHIy63OJRsXxZyJ1sac3l0DcYwBHB6VrFy0Wg yDyMhaw5RVV3lDJJ7WG9DwVKNfeDnn4CyiLz7xAiQsjRYfd/qPJUov/WODS18 X-Gm-Gg: ASbGncuMpPDzGXD9hU7tSE84rSwSiXa1nyhaNvBE2UIOJxfHteo6hKhXbXRGQfps6HO iUJ7g5ZjeoOgHBZCHgwreP+A9zaZeSzNqchDAKmg+1jE2NEiJwC6pOKZjH9zyURxb073Ez52BtQ M3T8q4383qsdiR9XmcAu5EdIJcZDacreVDjRCpo2gCnio4IlM40qlTBWgFUHs8+6/2Grqgk+TXp ICYC5+G73etjHHSqAe5MgWgf0jTzzgA9cgZxnC+pF5dcH/1QkZg+/2PB0aDNnDhn3u6SJBmWeBk cXUXlsInUJv/AJlPRT5/bEh1ocbM+/awZP//4M+yeoRcEskHtg== X-Google-Smtp-Source: AGHT+IFt/I0a75tKz1MjcksPK/XUKW8uzkI5RNHtJuzz9jiX7O560MjK8oSkFx8/tVoCdxGZSZaylY4WF+OE X-Received: by 2002:a05:6a20:9153:b0:334:3a1d:536 with SMTP id adf61e73a8af0-3343a1d05e1mr7315926637.17.1760481593356; Tue, 14 Oct 2025 15:39:53 -0700 (PDT) Received: from postal.iol.unh.edu (postal.iol.unh.edu. [2606:4100:3880:1234::84]) by smtp-relay.gmail.com with ESMTPS id d2e1a72fcca58-79930567610sm1329160b3a.5.2025.10.14.15.39.53 (version=TLS1_2 cipher=ECDHE-ECDSA-AES128-GCM-SHA256 bits=128/128); Tue, 14 Oct 2025 15:39:53 -0700 (PDT) X-Relaying-Domain: iol.unh.edu Date: Tue, 14 Oct 2025 15:39:53 -0700 (PDT) Message-ID: <68eed139.050a0220.329a29.1b7cSMTPIN_ADDED_MISSING@mx.google.com> Received: from [172.21.0.2] (unknown [172.18.0.240]) by postal.iol.unh.edu (Postfix) with ESMTP id A26B46051830; Tue, 14 Oct 2025 18:39:52 -0400 (EDT) Subject: |SUCCESS| pw157574-157575 [PATCH] [2/2] fib6: fix tbl8 allocation ch From: dpdklab@iol.unh.edu To: Test Report Cc: dpdk-test-reports@iol.unh.edu In-Reply-To: <20251014181755.114300-2-vladimir.medvedkin@intel.com> References: <20251014181755.114300-2-vladimir.medvedkin@intel.com> Content-Type: text/plain X-BeenThere: test-report@dpdk.org X-Mailman-Version: 2.1.29 Precedence: list List-Id: automatic DPDK test reports List-Unsubscribe: , List-Archive: List-Post: List-Help: List-Subscribe: , Errors-To: test-report-bounces@dpdk.org Test-Label: iol-compile-arm64-testing Test-Status: SUCCESS http://dpdk.org/patch/157575 _Testing PASS_ Submitter: Vladimir Medvedkin Date: Tuesday, October 14 2025 18:17:55 DPDK git baseline: Repo:dpdk Branch: master CommitID:7cacb5b3f6cc89785f9383ac9544e61dc971897d 157574-157575 --> testing pass Upstream job id: Generic-DPDK-Compile-Meson#434255 Test environment and result as below: +------------------------------+--------------------+ | Environment | dpdk_meson_compile | +==============================+====================+ | Ubuntu 20.04 | PASS | +------------------------------+--------------------+ | Red Hat Enterprise Linux 9.5 | PASS | +------------------------------+--------------------+ | Debian GNU/Linux 12 | PASS | +------------------------------+--------------------+ | Fedora Linux 42 | PASS | +------------------------------+--------------------+ | Ubuntu 22.04 | PASS | +------------------------------+--------------------+ | Ubuntu 24.04 | PASS | +------------------------------+--------------------+ | CentOS Stream 9 | PASS | +------------------------------+--------------------+ | CentOS Stream 10 | PASS | +------------------------------+--------------------+ Ubuntu 20.04 Kernel: 5.15 Compiler: aarch64-linux-gnu-gcc gcc (Ubuntu 9.4.0-1ubuntu1~20.04.2) 9.4.0 Red Hat Enterprise Linux 9.5 Kernel: 5.4 Compiler: gcc gcc (GCC) 11.5.0 20240719 (Red Hat 11.5.0-2) Debian GNU/Linux 12 Kernel: 5.4 Compiler: gcc gcc (Debian 12.2.0-14+deb12u1) 12.2.0 Fedora Linux 42 Kernel: 5.4 Compiler: gcc gcc (GCC) 15.2.1 20250808 (Red Hat 15.2.1-1) Ubuntu 22.04 Kernel: 5.4 Compiler: gcc gcc (Ubuntu 11.4.0-1ubuntu1~22.04) 11.4.0 Ubuntu 24.04 Kernel: 5.4 Compiler: gcc gcc (Ubuntu 13.3.0-6ubuntu2~24.04) 13.3.0 CentOS Stream 9 Kernel: 5.4 Compiler: gcc gcc (GCC) 11.5.0 20240719 (Red Hat 11.5.0-11) CentOS Stream 10 Kernel: 5.4 Compiler: gcc gcc (GCC) 14.2.1 20250110 (Red Hat 14.2.1-8) To view detailed results, visit: https://lab.dpdk.org/results/dashboard/patchsets/34279/ UNH-IOL DPDK Community Lab To manage your email subscriptions, visit: https://lab.dpdk.org/results/dashboard/preferences/subscriptions/