From mboxrd@z Thu Jan 1 00:00:00 1970 Return-Path: Received: from mails.dpdk.org (mails.dpdk.org [217.70.189.124]) by inbox.dpdk.org (Postfix) with ESMTP id D38124893A for ; Wed, 15 Oct 2025 02:03:36 +0200 (CEST) Received: from mails.dpdk.org (localhost [127.0.0.1]) by mails.dpdk.org (Postfix) with ESMTP id CEB2140288; Wed, 15 Oct 2025 02:03:36 +0200 (CEST) Received: from mail-pf1-f227.google.com (mail-pf1-f227.google.com [209.85.210.227]) by mails.dpdk.org (Postfix) with ESMTP id 13D9940288 for ; Wed, 15 Oct 2025 02:03:36 +0200 (CEST) Received: by mail-pf1-f227.google.com with SMTP id d2e1a72fcca58-7930132f59aso7935287b3a.0 for ; Tue, 14 Oct 2025 17:03:36 -0700 (PDT) DKIM-Signature: v=1; a=rsa-sha256; c=relaxed/relaxed; d=iol.unh.edu; s=unh-iol; t=1760486615; x=1761091415; darn=dpdk.org; h=references:in-reply-to:cc:to:from:subject:message-id:date:from:to :cc:subject:date:message-id:reply-to; bh=UzqC+DgxbWfB83Lrf0+xmnCSXVid4yUXfied0gTpeBQ=; b=XiZvs18kci7r86Rqh3dVmDU+p1DonZ6ZAbie9apfrSWJ3nHxb8Zh4qrWtBV2VogHmy e4VwfbqGFPqYDT/ZHZDOcRI37pL0Y1IPqNTrj5Ct6Lb0Cg0Sd+06JL/ir44ZoxVEamMB ccPHdcImXIN2WbJX0xX03dsDN71OFMwxehGaQ= X-Google-DKIM-Signature: v=1; a=rsa-sha256; c=relaxed/relaxed; d=1e100.net; s=20230601; t=1760486615; x=1761091415; h=references:in-reply-to:cc:to:from:subject:message-id:date :x-gm-message-state:from:to:cc:subject:date:message-id:reply-to; bh=UzqC+DgxbWfB83Lrf0+xmnCSXVid4yUXfied0gTpeBQ=; b=L0T83aTJQGYtrKTgutiOE0r47vUTzCTjdaIWfwf18Ut8itBBYhjDFXdfbjDIcdT0Fa K9po43tbuGbAdvwL3ibc1j7+5xFSGd3nOlnVT5LtaIaLaFUlyZRrH9KaFqIFS2fy1Ggh 0EwtHVLh1B6e0sJpAoANXQ0yz9DYFMThlcQ+qj+MH+JEfbp/UQIcz4Mt50vB+1yA2noi wQdGtBtuuSXC/o6RLAujpnXqVrkFOM+9bDo10kgvE1DBF3rRy5304mNGHy0Ogucd+LvF PtwIG3CZxauVLHJzhgZ+34mZuDTVFrwhmBIqE3YFQF4wNKz1a2Lox4MdVbvd8NB/B3gx 3f8w== X-Gm-Message-State: AOJu0YxCDB03u+WNfUgqFRi4zl1ugtmzCq41z5ACU7bPDeaHvYMmfz+i M7yU2TsfDucRvbS70xYGyP7L9RpmgNgmi74apUGb/klxLkZISmJ72/HPzuM4H4CkLWKk/9TOyBo oq5A+MAjuGZgKFtgtuBuqwOE8uuoq9euOO0uBS2JxQ9KX X-Gm-Gg: ASbGncsO1VLAzi7tVVHHOtYsmyQjR0gQcW3442Nsahqk2BuaGFgaswofHjPN43XTAhp Sie0w8UgjwJrBoXi5FqHh6ulcm5j+SDtCe8dSFxYbI/zNtZFgb3DnujIwYDMd5RJXgb/Y+7bhIv po+Z8XVFvMrUvG2V0/LdgkMvXLVwxb937i0dCYjGumpLJjduR5vywmFf9d0oDZ0Lifmk7asVNRd B82/T9L3gZNvO7BeKkLJ7068TrmTH9GPgztG2HPMiMTRnKZJZULEgeD4qibxUjrtLbQchyd6iHe Y091v8YkkHZmXPdotVrBSz2oNAL5bnkEwVKB7d2+rD8CvveYPoWwdNDt+hwxdjwP0Noj94XC X-Google-Smtp-Source: AGHT+IFHYXBaH3OaRXLoEOSWuhCDgIV0bRFJswbUs/lBkGOL8oFKw5zfjz5iMFKrFX5D1vLVhjlGCTb9aPlb X-Received: by 2002:a05:6a00:391a:b0:781:1a62:4a30 with SMTP id d2e1a72fcca58-79385325262mr31213360b3a.4.1760486615141; Tue, 14 Oct 2025 17:03:35 -0700 (PDT) Received: from postal.iol.unh.edu (postal.iol.unh.edu. [132.177.123.84]) by smtp-relay.gmail.com with ESMTPS id d2e1a72fcca58-7993086358fsm1346593b3a.7.2025.10.14.17.03.35 (version=TLS1_2 cipher=ECDHE-ECDSA-AES128-GCM-SHA256 bits=128/128); Tue, 14 Oct 2025 17:03:35 -0700 (PDT) X-Relaying-Domain: iol.unh.edu Date: Tue, 14 Oct 2025 17:03:35 -0700 (PDT) Message-ID: <68eee4d7.050a0220.39bb23.248eSMTPIN_ADDED_MISSING@mx.google.com> Received: from [172.21.0.2] (unknown [172.18.0.240]) by postal.iol.unh.edu (Postfix) with ESMTP id 692C46051830; Tue, 14 Oct 2025 20:03:34 -0400 (EDT) Subject: |SUCCESS| pw157562-157563 [PATCH] [v7,2/2] net/cpfl: added CPFL devI From: dpdklab@iol.unh.edu To: Test Report Cc: dpdk-test-reports@iol.unh.edu, Bruce Richardson In-Reply-To: <20251014104511.459215-3-venkatesh.vemula@intel.com> References: <20251014104511.459215-3-venkatesh.vemula@intel.com> Content-Type: text/plain X-BeenThere: test-report@dpdk.org X-Mailman-Version: 2.1.29 Precedence: list List-Id: automatic DPDK test reports List-Unsubscribe: , List-Archive: List-Post: List-Help: List-Subscribe: , Errors-To: test-report-bounces@dpdk.org Test-Label: iol-unit-arm64-testing Test-Status: SUCCESS http://dpdk.org/patch/157563 _Testing PASS_ Submitter: Vemula, Venkatesh Date: Tuesday, October 14 2025 10:45:11 DPDK git baseline: Repo:dpdk-next-net-intel Branch: master CommitID:b26049c00e3c452cb446d688a43c6c7eebbee32e 157562-157563 --> testing pass Upstream job id: Generic-Unit-Test-DPDK#381300 Test environment and result as below: +------------------------------+----------------+--------------+------------------------------+---------------------------+ | Environment | dpdk_unit_test | lpm_autotest | cryptodev_sw_snow3g_autotest | cryptodev_sw_zuc_autotest | +==============================+================+==============+==============================+===========================+ | CentOS Stream 9 | PASS | SKIPPED | SKIPPED | SKIPPED | +------------------------------+----------------+--------------+------------------------------+---------------------------+ | CentOS Stream 10 | PASS | SKIPPED | SKIPPED | SKIPPED | +------------------------------+----------------+--------------+------------------------------+---------------------------+ | Debian GNU/Linux 12 | PASS | SKIPPED | SKIPPED | SKIPPED | +------------------------------+----------------+--------------+------------------------------+---------------------------+ | Fedora Linux 40 | PASS | SKIPPED | SKIPPED | SKIPPED | +------------------------------+----------------+--------------+------------------------------+---------------------------+ | Fedora Linux 41 | PASS | SKIPPED | SKIPPED | SKIPPED | +------------------------------+----------------+--------------+------------------------------+---------------------------+ | Red Hat Enterprise Linux 9.5 | PASS | SKIPPED | SKIPPED | SKIPPED | +------------------------------+----------------+--------------+------------------------------+---------------------------+ | Ubuntu 24.04 | PASS | SKIPPED | SKIPPED | SKIPPED | +------------------------------+----------------+--------------+------------------------------+---------------------------+ | Fedora Linux 42 | PASS | SKIPPED | SKIPPED | SKIPPED | +------------------------------+----------------+--------------+------------------------------+---------------------------+ | Ubuntu 22.04 | PASS | SKIPPED | SKIPPED | SKIPPED | +------------------------------+----------------+--------------+------------------------------+---------------------------+ | Ubuntu 20.04 | PASS | PASS | SKIPPED | SKIPPED | +------------------------------+----------------+--------------+------------------------------+---------------------------+ | Debian 12 (arm) | SKIPPED | SKIPPED | PASS | PASS | +------------------------------+----------------+--------------+------------------------------+---------------------------+ CentOS Stream 9 Kernel: 5.4 Compiler: gcc gcc (GCC) 11.5.0 20240719 (Red Hat 11.5.0-11) CentOS Stream 10 Kernel: 5.4 Compiler: gcc gcc (GCC) 14.2.1 20250110 (Red Hat 14.2.1-8) Debian GNU/Linux 12 Kernel: 5.4 Compiler: gcc gcc (Debian 12.2.0-14+deb12u1) 12.2.0 Fedora Linux 40 Kernel: 5.4 Compiler: gcc gcc (GCC) 14.2.1 20240912 (Red Hat 14.2.1-3) Fedora Linux 41 Kernel: 5.4 Compiler: gcc gcc (GCC) 14.3.1 20250523 (Red Hat 14.3.1-1) Red Hat Enterprise Linux 9.5 Kernel: 5.4 Compiler: gcc gcc (GCC) 11.5.0 20240719 (Red Hat 11.5.0-2) Ubuntu 24.04 Kernel: 5.4 Compiler: gcc gcc (Ubuntu 13.3.0-6ubuntu2~24.04) 13.3.0 Fedora Linux 42 Kernel: 5.4 Compiler: gcc gcc (GCC) 15.2.1 20250808 (Red Hat 15.2.1-1) Ubuntu 22.04 Kernel: 5.4 Compiler: gcc gcc (Ubuntu 11.4.0-1ubuntu1~22.04) 11.4.0 Ubuntu 20.04 Kernel: 5.4 Compiler: gcc gcc (Ubuntu 9.4.0-1ubuntu1~20.04.2) 9.4.0 Debian 12 (arm) Kernel: Depends on container host Compiler: gcc (Debian 12.2.0-14) 12.2.0 To view detailed results, visit: https://lab.dpdk.org/results/dashboard/patchsets/34275/ UNH-IOL DPDK Community Lab To manage your email subscriptions, visit: https://lab.dpdk.org/results/dashboard/preferences/subscriptions/