From mboxrd@z Thu Jan 1 00:00:00 1970 Return-Path: Received: from mails.dpdk.org (mails.dpdk.org [217.70.189.124]) by inbox.dpdk.org (Postfix) with ESMTP id 2FC284893A for ; Wed, 15 Oct 2025 03:07:19 +0200 (CEST) Received: from mails.dpdk.org (localhost [127.0.0.1]) by mails.dpdk.org (Postfix) with ESMTP id 1D66E40288; Wed, 15 Oct 2025 03:07:19 +0200 (CEST) Received: from mail-qv1-f100.google.com (mail-qv1-f100.google.com [209.85.219.100]) by mails.dpdk.org (Postfix) with ESMTP id 4AEF540288 for ; Wed, 15 Oct 2025 03:07:18 +0200 (CEST) Received: by mail-qv1-f100.google.com with SMTP id 6a1803df08f44-79ad9aa2d95so103719396d6.1 for ; Tue, 14 Oct 2025 18:07:18 -0700 (PDT) DKIM-Signature: v=1; a=rsa-sha256; c=relaxed/relaxed; d=iol.unh.edu; s=unh-iol; t=1760490437; x=1761095237; darn=dpdk.org; h=references:in-reply-to:cc:to:from:subject:message-id:date:from:to :cc:subject:date:message-id:reply-to; bh=03QITLHW8k1o8DZtvUvigClocwWLH0Q5AXnGwCkQkaA=; b=jvDxlFCIGYjbH/waqoC2S+VQGakI1iUPES3dDRFeEghr6znH3lqwNAngb3Y8FUNQ+h p2aVV6ePyHzhht36prFKe28KGFC9m/9m1TZpw0P1sPrmkgycTYcX3Jfryl63y2l8hl53 Q+Jhh/Rd8Ny1QbinMzNWrxsUE553PhuyzGrek= X-Google-DKIM-Signature: v=1; a=rsa-sha256; c=relaxed/relaxed; d=1e100.net; s=20230601; t=1760490437; x=1761095237; h=references:in-reply-to:cc:to:from:subject:message-id:date :x-gm-message-state:from:to:cc:subject:date:message-id:reply-to; bh=03QITLHW8k1o8DZtvUvigClocwWLH0Q5AXnGwCkQkaA=; b=qnjAnXYw7l0YXrn+xS3DHy3lkRH6kLclwssgCNCeayNmY0IxLTwzCUo+BIJpcAvFEa l3c7q62KXo7FrJT9pb4RvimkmVYXgokowkgw/d26bLqUSWoUluYRkWqMR/vinTrawpds ZvkaiTSlo+4IzXYeHWBZGsrG+Ldx0g/eEhncsVzUcsLH0w6yQarzYe66Zp2bWQlPLBYV NK08krc6eQdwNabZss8iHTjxqLhruWTH6haDpbrMIptQTl7fGB6/754eAh1PBh4CjiK8 DtyrVtJxro9jp8EsJERaeDOcnzu5XIj+BxBEbcvc2Nmqk8/T5t/aaKEH5DM/uZTeAxOf yTTw== X-Gm-Message-State: AOJu0Yxx7vSw7fYFiAkZMfEFya8e6B6djFOzS/Z9BFJp+2mh+eJDuXEQ jZ+jXl9wMnu2Tit10PGjEcmcQKyt6vu/rXd2PhTg8MKOrtiqOBcUWNRHaoIs+THlw2CB0r5dcJZ cFhu6tPx9ueGchhR7i6DTi9JttZ/2C7nLSxJ/9JyqAuwx X-Gm-Gg: ASbGncsw3vwKQ0bor8GxjaNtTc3f+h2xYcDu7bKov1A1sHKu0QwixZI3xfwLUBSSkfL 68SV7D88EYOBWERUetCo7BUC4lqzwZipOdPH6pS0vd8ESocGqQsBwNhTf8c6i5++UJh88RYJvqV r451tr96qX/udE1LcHxf6uym1I/oopW0yqLnvmt4rKyVFw984NSP8q1DJLkfZdeRJMuFrzSuAEV 7kPzq6J1oquprmggIn/WG36PLGV+WsYsQHWdzht0/0DTAc+CLB/5iJDfr1sKSlND+mS8NAzoplS X9RQkM29f1B7PmO9zExrbYvMpDF973BIvzhiOWYUGLUFs+4uQ0JqktOCM5ZQMNthPohVROBQ X-Google-Smtp-Source: AGHT+IHhq1yq965O+rcF4tcZy4/h8/6t1GP81QOzJtfIlPy8jqAGsQExDWRqdIzwji2eeTUGjFSz0EU6LZUu X-Received: by 2002:ad4:5aa4:0:b0:7a3:b6ab:6f2 with SMTP id 6a1803df08f44-87b2ef6f5f5mr417977086d6.63.1760490436560; Tue, 14 Oct 2025 18:07:16 -0700 (PDT) Received: from postal.iol.unh.edu (postal.iol.unh.edu. [132.177.123.84]) by smtp-relay.gmail.com with ESMTPS id 6a1803df08f44-87c0120fe64sm1082776d6.4.2025.10.14.18.07.16 (version=TLS1_2 cipher=ECDHE-ECDSA-AES128-GCM-SHA256 bits=128/128); Tue, 14 Oct 2025 18:07:16 -0700 (PDT) X-Relaying-Domain: iol.unh.edu Date: Tue, 14 Oct 2025 18:07:16 -0700 (PDT) Message-ID: <68eef3c4.050a0220.2f73bd.5f5dSMTPIN_ADDED_MISSING@mx.google.com> Received: from [172.21.0.2] (unknown [172.18.0.240]) by postal.iol.unh.edu (Postfix) with ESMTP id 14C286051830; Tue, 14 Oct 2025 21:07:16 -0400 (EDT) Subject: |SUCCESS| pw157564-157565 [PATCH] [v4,2/2] net/iavf: add reinit comm From: dpdklab@iol.unh.edu To: Test Report Cc: dpdk-test-reports@iol.unh.edu, Bruce Richardson In-Reply-To: <20251014123624.1413473-2-ciara.loftus@intel.com> References: <20251014123624.1413473-2-ciara.loftus@intel.com> Content-Type: text/plain X-BeenThere: test-report@dpdk.org X-Mailman-Version: 2.1.29 Precedence: list List-Id: automatic DPDK test reports List-Unsubscribe: , List-Archive: List-Post: List-Help: List-Subscribe: , Errors-To: test-report-bounces@dpdk.org Test-Label: iol-unit-arm64-testing Test-Status: SUCCESS http://dpdk.org/patch/157565 _Testing PASS_ Submitter: Loftus, Ciara Date: Tuesday, October 14 2025 12:36:24 DPDK git baseline: Repo:dpdk-next-net-intel Branch: master CommitID:1e879dc01992b715b57f9f1a062ed9dee788c316 157564-157565 --> testing pass Upstream job id: Generic-Unit-Test-DPDK#381330 Test environment and result as below: +------------------------------+------------------------------+---------------------------+--------------+----------------+ | Environment | cryptodev_sw_snow3g_autotest | cryptodev_sw_zuc_autotest | lpm_autotest | dpdk_unit_test | +==============================+==============================+===========================+==============+================+ | Debian 12 (arm) | PASS | PASS | SKIPPED | SKIPPED | +------------------------------+------------------------------+---------------------------+--------------+----------------+ | Ubuntu 20.04 | SKIPPED | SKIPPED | PASS | PASS | +------------------------------+------------------------------+---------------------------+--------------+----------------+ | Debian GNU/Linux 12 | SKIPPED | SKIPPED | SKIPPED | PASS | +------------------------------+------------------------------+---------------------------+--------------+----------------+ | Fedora Linux 40 | SKIPPED | SKIPPED | SKIPPED | PASS | +------------------------------+------------------------------+---------------------------+--------------+----------------+ | CentOS Stream 10 | SKIPPED | SKIPPED | SKIPPED | PASS | +------------------------------+------------------------------+---------------------------+--------------+----------------+ | Fedora Linux 41 | SKIPPED | SKIPPED | SKIPPED | PASS | +------------------------------+------------------------------+---------------------------+--------------+----------------+ | CentOS Stream 9 | SKIPPED | SKIPPED | SKIPPED | PASS | +------------------------------+------------------------------+---------------------------+--------------+----------------+ | Fedora Linux 42 | SKIPPED | SKIPPED | SKIPPED | PASS | +------------------------------+------------------------------+---------------------------+--------------+----------------+ | Red Hat Enterprise Linux 9.5 | SKIPPED | SKIPPED | SKIPPED | PASS | +------------------------------+------------------------------+---------------------------+--------------+----------------+ | Ubuntu 24.04 | SKIPPED | SKIPPED | SKIPPED | PASS | +------------------------------+------------------------------+---------------------------+--------------+----------------+ | Ubuntu 22.04 | SKIPPED | SKIPPED | SKIPPED | PASS | +------------------------------+------------------------------+---------------------------+--------------+----------------+ Debian 12 (arm) Kernel: Depends on container host Compiler: gcc (Debian 12.2.0-14) 12.2.0 Ubuntu 20.04 Kernel: 5.4 Compiler: gcc gcc (Ubuntu 9.4.0-1ubuntu1~20.04.2) 9.4.0 Debian GNU/Linux 12 Kernel: 5.4 Compiler: gcc gcc (Debian 12.2.0-14+deb12u1) 12.2.0 Fedora Linux 40 Kernel: 5.4 Compiler: clang gcc (GCC) 14.2.1 20240912 (Red Hat 14.2.1-3) CentOS Stream 10 Kernel: 5.4 Compiler: gcc gcc (GCC) 14.2.1 20250110 (Red Hat 14.2.1-8) Fedora Linux 41 Kernel: 5.4 Compiler: gcc gcc (GCC) 14.3.1 20250523 (Red Hat 14.3.1-1) CentOS Stream 9 Kernel: 5.4 Compiler: gcc gcc (GCC) 11.5.0 20240719 (Red Hat 11.5.0-11) Fedora Linux 42 Kernel: 5.4 Compiler: clang gcc (GCC) 15.2.1 20250808 (Red Hat 15.2.1-1) Red Hat Enterprise Linux 9.5 Kernel: 5.4 Compiler: gcc gcc (GCC) 11.5.0 20240719 (Red Hat 11.5.0-2) Ubuntu 24.04 Kernel: 5.4 Compiler: gcc gcc (Ubuntu 13.3.0-6ubuntu2~24.04) 13.3.0 Ubuntu 22.04 Kernel: 5.4 Compiler: gcc gcc (Ubuntu 11.4.0-1ubuntu1~22.04) 11.4.0 To view detailed results, visit: https://lab.dpdk.org/results/dashboard/patchsets/34276/ UNH-IOL DPDK Community Lab To manage your email subscriptions, visit: https://lab.dpdk.org/results/dashboard/preferences/subscriptions/