From mboxrd@z Thu Jan 1 00:00:00 1970 Return-Path: Received: from mails.dpdk.org (mails.dpdk.org [217.70.189.124]) by inbox.dpdk.org (Postfix) with ESMTP id 094C24893C for ; Wed, 15 Oct 2025 07:23:15 +0200 (CEST) Received: from mails.dpdk.org (localhost [127.0.0.1]) by mails.dpdk.org (Postfix) with ESMTP id DA21C40288; Wed, 15 Oct 2025 07:23:14 +0200 (CEST) Received: from mail-pl1-f227.google.com (mail-pl1-f227.google.com [209.85.214.227]) by mails.dpdk.org (Postfix) with ESMTP id 1884340288 for ; Wed, 15 Oct 2025 07:23:13 +0200 (CEST) Received: by mail-pl1-f227.google.com with SMTP id d9443c01a7336-26c209802c0so60700415ad.0 for ; Tue, 14 Oct 2025 22:23:13 -0700 (PDT) DKIM-Signature: v=1; a=rsa-sha256; c=relaxed/relaxed; d=iol.unh.edu; s=unh-iol; t=1760505792; x=1761110592; darn=dpdk.org; h=cc:to:from:subject:message-id:date:from:to:cc:subject:date :message-id:reply-to; bh=pDT4/7Bns2bRfHqP66XAuIaBQ4Tt4vs2PsPVIKoQgfs=; b=isrT/Ebbkz+X2OcJyWxrojVdlT8QPqA5cO+2IeqQKNLVsRJuOuo4TLhmaGb+SFhJ5W dgBK8yjE4mZXG2pDkBoPMRFrIg7hLYPLrM5e8u+u/L+QfDo9ef3wtwwVBGmNTR5z2zoS uUW38fLXjIBaiMTLvVK7t6XjdpGCygprMc26E= X-Google-DKIM-Signature: v=1; a=rsa-sha256; c=relaxed/relaxed; d=1e100.net; s=20230601; t=1760505792; x=1761110592; h=cc:to:from:subject:message-id:date:x-gm-message-state:from:to:cc :subject:date:message-id:reply-to; bh=pDT4/7Bns2bRfHqP66XAuIaBQ4Tt4vs2PsPVIKoQgfs=; b=E9zWE/jCUdf5rlievmYT0f+n04l9lN9v7KEticizCyKWr/pb6w5bSsusNSWWaaO0AD VRE2vSiMKk9N/yKUoG/LlhkztNjDQIsElYavPLcbaMJHOAxJbW6sHGGLUbI+q5/ge9UR vRD0Lff0qoBCAiZ7I5R3iU21JXMIfc6YubYA5RNmV3MDK+dEPGicdkrImvaw7+4d+xbg +qkd/HQwnC6vY6m22xpXIP2W7jS9HamY0CGrzWj1bXeCNNhD1ksKe0UK8KfBaD+gT3Uc JdQ3LXXXNWRZLH8+O2f0q4k+NwOSiwMGmEKap3GbToQmrbL9Fn44K4a9eq6w+jjjGB2c 2kwQ== X-Gm-Message-State: AOJu0Yx0oZQtndVjT86DNdgIvXW9wZbYvTAx4VDQacU3kYVnLvLrzpbC 9Tv6HQ0D6f1/P9QSO8HYEjPXS5RJ1/wpWXvnAOxMFnhjOrnXvsb0kKd1kP2oX7b/8CRSdlPmX8N CRWrsxVsuoVRg1tZBQB3SjmTpFNpjCTTSIOkf X-Gm-Gg: ASbGnct34tAVAvLsKE/NFFj3BFzci8TlYYxqKmouWqiFF+ayIrfLSmr1FfRWhed3K5y lUg5wijcv38O9ufaSF6BTmHFZCzQQROBvnchFs9lZ2kHiBcv2slATZxIvK85d8t3DRdSeVNPwz8 6kkE+NyJ7KsGcr2R236cIWr8IYSGvmfXtz8YUT9Xujk0wTpCO2UEUfUdnD1yTbu66/uCAjo1qmE 9Moy0g8LwYp+l5YLpFuFqCnuMRYo5UtS0OuZzgaVQaFfdSEbOqJrkNVIWUSS6bMwBhL9BZClHDa ihSrHjSHqH6fS0K4aIkdQzrCU7ofUJVaz2T5kHrm8buqt0MnMq9RcNjiXwJXGbdeccNaT9um X-Google-Smtp-Source: AGHT+IEDQHrMb/1w4kN4Ts2XQIaulSWwAXD6IvZaW9t6jQmZkSvLbN4Eo+P7gwrQ0ezhdq1N45r9uM0s+BiM X-Received: by 2002:a17:903:40cc:b0:26e:d0aa:7690 with SMTP id d9443c01a7336-29027402c79mr317320555ad.41.1760505788859; Tue, 14 Oct 2025 22:23:08 -0700 (PDT) Received: from postal.iol.unh.edu (postal.iol.unh.edu. [132.177.123.84]) by smtp-relay.gmail.com with ESMTPS id d9443c01a7336-29034ef023esm14246765ad.36.2025.10.14.22.23.08 (version=TLS1_2 cipher=ECDHE-ECDSA-AES128-GCM-SHA256 bits=128/128); Tue, 14 Oct 2025 22:23:08 -0700 (PDT) X-Relaying-Domain: iol.unh.edu Date: Tue, 14 Oct 2025 22:23:08 -0700 (PDT) Message-ID: <68ef2fbc.170a0220.1ce63.64a8SMTPIN_ADDED_MISSING@mx.google.com> Received: from [172.21.0.2] (unknown [172.18.0.240]) by postal.iol.unh.edu (Postfix) with ESMTP id 4D6716051830; Wed, 15 Oct 2025 01:23:08 -0400 (EDT) Subject: |SUCCESS| [GIT MASTER] 3b43ce3f4a54468e7ef65760c2fd7b4d6ee6d9fc From: dpdklab@iol.unh.edu To: Test Report Cc: dpdk-test-reports@iol.unh.edu, Xueming Li , Christian Ehrhardt , Kevin Traynor , Luca Boccassi Content-Type: text/plain X-BeenThere: test-report@dpdk.org X-Mailman-Version: 2.1.29 Precedence: list List-Id: automatic DPDK test reports List-Unsubscribe: , List-Archive: List-Post: List-Help: List-Subscribe: , Errors-To: test-report-bounces@dpdk.org _Testing PASS_ Branch: tags/v22.11 3b43ce3f4a54468e7ef65760c2fd7b4d6ee6d9fc --> testing pass Upstream job id: Generic-DPDK-Compile-Meson#434313 Test environment and result as below: +-------------------------------+--------------------+-------------------------+----------------------+ | Environment | dpdk_meson_compile | dpdk_llvm_clang_compile | dpdk_mingw64_compile | +===============================+====================+=========================+======================+ | CentOS Stream 10 | PASS | SKIPPED | SKIPPED | +-------------------------------+--------------------+-------------------------+----------------------+ | CentOS Stream 9 | PASS | SKIPPED | SKIPPED | +-------------------------------+--------------------+-------------------------+----------------------+ | Fedora Linux 42 | PASS | SKIPPED | SKIPPED | +-------------------------------+--------------------+-------------------------+----------------------+ | Debian GNU/Linux 12 | PASS | SKIPPED | SKIPPED | +-------------------------------+--------------------+-------------------------+----------------------+ | Red Hat Enterprise Linux 8.10 | PASS | SKIPPED | SKIPPED | +-------------------------------+--------------------+-------------------------+----------------------+ | openSUSE Leap 15.6 | PASS | SKIPPED | SKIPPED | +-------------------------------+--------------------+-------------------------+----------------------+ | Red Hat Enterprise Linux 9.5 | PASS | SKIPPED | SKIPPED | +-------------------------------+--------------------+-------------------------+----------------------+ | Ubuntu 20.04 | PASS | SKIPPED | SKIPPED | +-------------------------------+--------------------+-------------------------+----------------------+ | Ubuntu 22.04 | PASS | SKIPPED | SKIPPED | +-------------------------------+--------------------+-------------------------+----------------------+ | Ubuntu 24.04 | PASS | SKIPPED | SKIPPED | +-------------------------------+--------------------+-------------------------+----------------------+ | FreeBSD 14.2 | PASS | SKIPPED | SKIPPED | +-------------------------------+--------------------+-------------------------+----------------------+ | Windows Server 2022 | SKIPPED | PASS | PASS | +-------------------------------+--------------------+-------------------------+----------------------+ CentOS Stream 10 Kernel: 5.15 Compiler: gcc gcc (GCC) 14.2.1 20250110 (Red Hat 14.2.1-8) CentOS Stream 9 Kernel: 5.15 Compiler: gcc gcc (GCC) 11.5.0 20240719 (Red Hat 11.5.0-11) Fedora Linux 42 Kernel: 5.15 Compiler: clang gcc (GCC) 15.2.1 20250808 (Red Hat 15.2.1-1) Debian GNU/Linux 12 Kernel: 5.15 Compiler: gcc gcc (Debian 12.2.0-14+deb12u1) 12.2.0 Red Hat Enterprise Linux 8.10 Kernel: 5.15 Compiler: gcc gcc (GCC) 8.5.0 20210514 (Red Hat 8.5.0-22) openSUSE Leap 15.6 Kernel: 5.15 Compiler: gcc gcc (SUSE Linux) 7.5.0 Red Hat Enterprise Linux 9.5 Kernel: 5.15 Compiler: gcc gcc (GCC) 11.5.0 20240719 (Red Hat 11.5.0-2) Ubuntu 20.04 Kernel: 4.19 Compiler: gcc gcc (Ubuntu 9.4.0-1ubuntu1~20.04.2) 9.4.0 Ubuntu 22.04 Kernel: 5.15 Compiler: gcc gcc (Ubuntu 11.4.0-1ubuntu1~22.04) 11.4.0 Ubuntu 24.04 Kernel: 5.15 Compiler: gcc gcc (Ubuntu 13.3.0-6ubuntu2~24.04) 13.3.0 FreeBSD 14.2 Kernel: 14.2-RELEASE Compiler: clang 18.1.6 Windows Server 2022 Kernel: 10.0.20348.2031 Compiler: clang 15.0.7, gcc 14.1.0 (MinGW), and MSVC VS 19.39.33521 To view detailed results, visit: https://lab.dpdk.org/results/dashboard/tarballs/35211/ UNH-IOL DPDK Community Lab To manage your email subscriptions, visit: https://lab.dpdk.org/results/dashboard/preferences/subscriptions/