From mboxrd@z Thu Jan 1 00:00:00 1970 Return-Path: Received: from mails.dpdk.org (mails.dpdk.org [217.70.189.124]) by inbox.dpdk.org (Postfix) with ESMTP id 408C14893C for ; Wed, 15 Oct 2025 07:34:08 +0200 (CEST) Received: from mails.dpdk.org (localhost [127.0.0.1]) by mails.dpdk.org (Postfix) with ESMTP id 26B9F402CA; Wed, 15 Oct 2025 07:34:08 +0200 (CEST) Received: from mail-pg1-f225.google.com (mail-pg1-f225.google.com [209.85.215.225]) by mails.dpdk.org (Postfix) with ESMTP id 0F06C402CA for ; Wed, 15 Oct 2025 07:34:07 +0200 (CEST) Received: by mail-pg1-f225.google.com with SMTP id 41be03b00d2f7-b57bf560703so3995847a12.2 for ; Tue, 14 Oct 2025 22:34:06 -0700 (PDT) DKIM-Signature: v=1; a=rsa-sha256; c=relaxed/relaxed; d=iol.unh.edu; s=unh-iol; t=1760506446; x=1761111246; darn=dpdk.org; h=cc:to:from:subject:message-id:date:from:to:cc:subject:date :message-id:reply-to; bh=UpIhdCYY+bvZMzqqKNX47xqHvdqGMuFWlooEyuLNiik=; b=cp9mCf5eegFaIfgrnUWxFgwBZkc+szyH/y789dQcO+p3kx8MsCjOZjV7+Y5Qs7xDv0 Sn/q8ySvTReYlWT9GrAFgK61dD1MxfQQf59e+sCABkEtccq/C+gflBTHmXeaAthmfCSG AiGFH+M3BSHPHCHxYNyo3FTygTwWrOvYpIGlk= X-Google-DKIM-Signature: v=1; a=rsa-sha256; c=relaxed/relaxed; d=1e100.net; s=20230601; t=1760506446; x=1761111246; h=cc:to:from:subject:message-id:date:x-gm-message-state:from:to:cc :subject:date:message-id:reply-to; bh=UpIhdCYY+bvZMzqqKNX47xqHvdqGMuFWlooEyuLNiik=; b=dRYLIBi4uJuqU95EmuLP1wTzo1y/kN5Ld7IkwcuNfpQq9FJH6SQC4X84IUNeyEK6Yz wsZvQxXAduY23tkpNT4ResR10i5DDWNN89VaOLkIOuzanxw2Z0ZqEHgEX/nIJSmAZw1s mUITp/LT2sNXpRqeYv+CZewpiS6QeuurBFOTeIp1CkPT2GfPF8hRASi9X1jGzMMJkLsR gmkvZJrDexHAP49ntyjTVQjZDRoFplD6xeigPu2emqitIisgh+5pSGB6sAov6SjK8yHN Lktb/F/Q23IZgP4eoJtWHWU+aAUZCDtnM2rwb+87M0Fq80PYBU1B5gRWAC9L/mxaomOM iHqA== X-Gm-Message-State: AOJu0YywXsm4sgXuPMBX8BYW7AMhkoCReHU8ctp3RFAsbhMAZVi6g8Hw 47l9oFRFf8J711yymOomCqlPoMTuWnMNQg0GV5Z0Vlyqj55hxfSBNhUlTlcADyDkDbzQSRXI/ce 7uDo3p+P0Bd3uM1fzeSufSonTP3gMk+2uYGHOzxHmIi9+FFLDPEs7 X-Gm-Gg: ASbGnctJqsr3rKCOadljcDDxICT1t+DONvH2Rv9hvymxn14Qa+V2V5hq47JGJ9KIA/G pBNEgmfQz7ZaeRUZcM9jNTBCi4Y8HsVsf3Rqd5ukoRVgezG2wFgC9+vggdOUhrCJ6/HYQJ4BkEp cDwYOakFDLwxJbpYRLIxSbRFrsCO041pTPf4acsGDf9kLNZ3sFyucx8XVzHtgt7XMkPaP0KeHzi kjN/OLtpTI+dpUv7WJMnyyTq7I4M8HAO5hBbF7HS7cCcQuyvxuC5TwwA8Gq3yH6iMy9X+oWYnR7 +D6pEeeJ2gGjn0vPDYgDCEmPEZahXrtqK/i5wMf/M+jZNn1acA== X-Google-Smtp-Source: AGHT+IHwUprOff1sQzIwO2+H79zdds6X4By4coEDTF0dQMCupBiDA9BclOY0Kyh1CukhUAEUhO982gxaLBnq X-Received: by 2002:a17:903:298e:b0:28e:756c:7082 with SMTP id d9443c01a7336-29027374b38mr368306985ad.15.1760506446116; Tue, 14 Oct 2025 22:34:06 -0700 (PDT) Received: from postal.iol.unh.edu (postal.iol.unh.edu. [2606:4100:3880:1234::84]) by smtp-relay.gmail.com with ESMTPS id d9443c01a7336-29034df5c90sm15642705ad.14.2025.10.14.22.34.05 (version=TLS1_2 cipher=ECDHE-ECDSA-AES128-GCM-SHA256 bits=128/128); Tue, 14 Oct 2025 22:34:06 -0700 (PDT) X-Relaying-Domain: iol.unh.edu Date: Tue, 14 Oct 2025 22:34:06 -0700 (PDT) Message-ID: <68ef324e.170a0220.c6551.eb93SMTPIN_ADDED_MISSING@mx.google.com> Received: from [172.21.0.2] (unknown [172.18.0.240]) by postal.iol.unh.edu (Postfix) with ESMTP id 5DE0160003EA; Wed, 15 Oct 2025 01:34:05 -0400 (EDT) Subject: |SUCCESS| [GIT MASTER] b287e404643aeab5bb5db084c142789df187844e From: dpdklab@iol.unh.edu To: Test Report Cc: dpdk-test-reports@iol.unh.edu, Xueming Li , Christian Ehrhardt , Kevin Traynor , Luca Boccassi Content-Type: text/plain X-BeenThere: test-report@dpdk.org X-Mailman-Version: 2.1.29 Precedence: list List-Id: automatic DPDK test reports List-Unsubscribe: , List-Archive: List-Post: List-Help: List-Subscribe: , Errors-To: test-report-bounces@dpdk.org _Testing PASS_ Branch: tags/v24.11 b287e404643aeab5bb5db084c142789df187844e --> testing pass Upstream job id: Generic-DPDK-Compile-Meson#434329 Test environment and result as below: +-------------------------------+--------------------+-------------------+------------------+-------------------+-------------------------+----------------------+ | Environment | dpdk_meson_compile | dpdk_compile_spdk | dpdk_compile_ovs | dpdk_msvc_compile | dpdk_llvm_clang_compile | dpdk_mingw64_compile | +===============================+====================+===================+==================+===================+=========================+======================+ | CentOS Stream 9 | PASS | PASS | SKIPPED | SKIPPED | SKIPPED | SKIPPED | +-------------------------------+--------------------+-------------------+------------------+-------------------+-------------------------+----------------------+ | CentOS Stream 10 | PASS | SKIPPED | SKIPPED | SKIPPED | SKIPPED | SKIPPED | +-------------------------------+--------------------+-------------------+------------------+-------------------+-------------------------+----------------------+ | Debian GNU/Linux 12 | PASS | PASS | SKIPPED | SKIPPED | SKIPPED | SKIPPED | +-------------------------------+--------------------+-------------------+------------------+-------------------+-------------------------+----------------------+ | Fedora Linux 42 | PASS | PASS | PASS | SKIPPED | SKIPPED | SKIPPED | +-------------------------------+--------------------+-------------------+------------------+-------------------+-------------------------+----------------------+ | openSUSE Leap 15.6 | PASS | SKIPPED | SKIPPED | SKIPPED | SKIPPED | SKIPPED | +-------------------------------+--------------------+-------------------+------------------+-------------------+-------------------------+----------------------+ | Red Hat Enterprise Linux 8.10 | PASS | SKIPPED | SKIPPED | SKIPPED | SKIPPED | SKIPPED | +-------------------------------+--------------------+-------------------+------------------+-------------------+-------------------------+----------------------+ | Red Hat Enterprise Linux 9.5 | PASS | SKIPPED | SKIPPED | SKIPPED | SKIPPED | SKIPPED | +-------------------------------+--------------------+-------------------+------------------+-------------------+-------------------------+----------------------+ | Ubuntu 20.04 | PASS | SKIPPED | SKIPPED | SKIPPED | SKIPPED | SKIPPED | +-------------------------------+--------------------+-------------------+------------------+-------------------+-------------------------+----------------------+ | Ubuntu 22.04 | PASS | PASS | SKIPPED | SKIPPED | SKIPPED | SKIPPED | +-------------------------------+--------------------+-------------------+------------------+-------------------+-------------------------+----------------------+ | Ubuntu 24.04 | PASS | PASS | PASS | SKIPPED | SKIPPED | SKIPPED | +-------------------------------+--------------------+-------------------+------------------+-------------------+-------------------------+----------------------+ | Alpine Linux 3.22.0 | PASS | SKIPPED | SKIPPED | SKIPPED | SKIPPED | SKIPPED | +-------------------------------+--------------------+-------------------+------------------+-------------------+-------------------------+----------------------+ | FreeBSD 14.2 | PASS | SKIPPED | SKIPPED | SKIPPED | SKIPPED | SKIPPED | +-------------------------------+--------------------+-------------------+------------------+-------------------+-------------------------+----------------------+ | Windows Server 2022 | SKIPPED | SKIPPED | SKIPPED | PASS | PASS | PASS | +-------------------------------+--------------------+-------------------+------------------+-------------------+-------------------------+----------------------+ CentOS Stream 9 Kernel: 5.15 Compiler: gcc gcc (GCC) 11.5.0 20240719 (Red Hat 11.5.0-11) CentOS Stream 10 Kernel: 5.15 Compiler: gcc gcc (GCC) 14.2.1 20250110 (Red Hat 14.2.1-8) Debian GNU/Linux 12 Kernel: 5.15 Compiler: gcc gcc (Debian 12.2.0-14+deb12u1) 12.2.0 Fedora Linux 42 Kernel: 5.15 Compiler: clang gcc (GCC) 15.2.1 20250808 (Red Hat 15.2.1-1) openSUSE Leap 15.6 Kernel: 5.15 Compiler: gcc gcc (SUSE Linux) 7.5.0 Red Hat Enterprise Linux 8.10 Kernel: 5.15 Compiler: gcc gcc (GCC) 8.5.0 20210514 (Red Hat 8.5.0-22) Red Hat Enterprise Linux 9.5 Kernel: 5.15 Compiler: gcc gcc (GCC) 11.5.0 20240719 (Red Hat 11.5.0-2) Ubuntu 20.04 Kernel: 5.15 Compiler: gcc gcc (Ubuntu 9.4.0-1ubuntu1~20.04.2) 9.4.0 Ubuntu 22.04 Kernel: 5.15 Compiler: gcc gcc (Ubuntu 11.4.0-1ubuntu1~22.04) 11.4.0 Ubuntu 24.04 Kernel: 5.15 Compiler: gcc gcc (Ubuntu 13.3.0-6ubuntu2~24.04) 13.3.0 Alpine Linux 3.22.0 Kernel: 5.15 Compiler: gcc gcc (Alpine 14.2.0) 14.2.0 FreeBSD 14.2 Kernel: 14.2-RELEASE Compiler: clang 18.1.6 Windows Server 2022 Kernel: 10.0.20348.2031 Compiler: clang 15.0.7, gcc 14.1.0 (MinGW), and MSVC VS 19.39.33521 To view detailed results, visit: https://lab.dpdk.org/results/dashboard/tarballs/35210/ UNH-IOL DPDK Community Lab To manage your email subscriptions, visit: https://lab.dpdk.org/results/dashboard/preferences/subscriptions/