From mboxrd@z Thu Jan 1 00:00:00 1970 Return-Path: Received: from mails.dpdk.org (mails.dpdk.org [217.70.189.124]) by inbox.dpdk.org (Postfix) with ESMTP id 287774893E for ; Wed, 15 Oct 2025 08:05:00 +0200 (CEST) Received: from mails.dpdk.org (localhost [127.0.0.1]) by mails.dpdk.org (Postfix) with ESMTP id E6CD7402CA; Wed, 15 Oct 2025 08:04:59 +0200 (CEST) Received: from mail-il1-f228.google.com (mail-il1-f228.google.com [209.85.166.228]) by mails.dpdk.org (Postfix) with ESMTP id 30C39402CA for ; Wed, 15 Oct 2025 08:04:58 +0200 (CEST) Received: by mail-il1-f228.google.com with SMTP id e9e14a558f8ab-430acb62ec6so1238635ab.3 for ; Tue, 14 Oct 2025 23:04:58 -0700 (PDT) DKIM-Signature: v=1; a=rsa-sha256; c=relaxed/relaxed; d=iol.unh.edu; s=unh-iol; t=1760508297; x=1761113097; darn=dpdk.org; h=cc:to:from:subject:message-id:date:from:to:cc:subject:date :message-id:reply-to; bh=eoF3/2XrZzMDM/xNCdUy2FQ1Go6kLPKMo/l+PpgZy8s=; b=Lp96M0A4PkOF6EvTr9VF8Z/TQ3xrvbrhcgwtH0xQmUBYuAeICtUn89YxsH3SwHJ3si TjLwnt4hD8mxnOzXxW8g0NbT+cPrICKL+6TwX8swYweNfes3jGuNqPahfHoSa1dMWfo+ EZV+x5yPVPcNnrWr3Os4tnGE5ignCiZEaWLKI= X-Google-DKIM-Signature: v=1; a=rsa-sha256; c=relaxed/relaxed; d=1e100.net; s=20230601; t=1760508297; x=1761113097; h=cc:to:from:subject:message-id:date:x-gm-message-state:from:to:cc :subject:date:message-id:reply-to; bh=eoF3/2XrZzMDM/xNCdUy2FQ1Go6kLPKMo/l+PpgZy8s=; b=NQf0+68COt926FNGZ+xLK6EdjhDdvA/Oe/C0Sr7P8CkDjshzbIgE6bdsDQyJyXWHxP On4csEORuK+z8yhCuSq3XPhDZT0oZYxrVoau6wE8ms5UTIgios4XRaNXln4xLWGCDnSa 5HwjmlpGKIwNVmIVoLI0QFqgjvpCDF3PtNhQZ67d3mfSWKbLTSyngEDyh7cdNoCuPVRJ S+zL9iOXHBjgGTNYNpi3Q8LjipFu17XqZpL0xNvrDavPUfWfDmhS//xYBI+JmWTkG0zP ZkBL9AvU4ZJkydWL7gytQ2xGmsLkjN7GspdOV3Ice/Q7kMuNljhLjVg++VfVxbI3OSz6 GJQA== X-Gm-Message-State: AOJu0YxknE2L+2ueJO0mzsNsODoWUjr7COFgrhXBIpS6XObA3iAC5h73 4IbvDLEcpaCi1ZqpkfUl6zcByXJJtNXZRgzfhu8UCUIZAX3Oxxn4hKG+bwvb6gt8aV8SCF3jo88 HvGHZ0vYjI+x6uVF14InS4jANWBw9YUz9L029 X-Gm-Gg: ASbGncsarS95iYGdi0HOVD434Ff0ufb14cY+bzwtI4YDHiD7pWei8WO9dm2fS/l+dof qFrFttSGia5o2+dpsPL1b3QdeKYmCQfV5oaBm6gMaziZ8ofIiQDIY0U2OlNTrqFI7Zdz2TAWHE4 iSAEbxCBo8pBVXT5AS2M93XspSu+gw2/AA/xlc6e965pZAIBzKMp4da4WJAhCouQmG1FHHGCVDf /YVqIQxBSx13mV/h7Al1zX87CO7AQlpYficcpL02wVcD13RB8lZ1tFaRjAGsbEhrptBjkYko7hq yXzBYU40bDrnTnriziRPVYG4/SzOIXnIGRBIjJJ51DMrrv9iIe8ZhBmBEoFndN2esfFchVhD X-Google-Smtp-Source: AGHT+IE/F3PA7/8bAQv73c7iIYX21R3KMCepuqepv7bxMB1RyMWPWyAUQFC2yT1HKCSodtPTtsp4emYYqF4D X-Received: by 2002:a05:6e02:2783:b0:430:ae84:d126 with SMTP id e9e14a558f8ab-430ae84e6f3mr5514455ab.4.1760508297286; Tue, 14 Oct 2025 23:04:57 -0700 (PDT) Received: from postal.iol.unh.edu (postal.iol.unh.edu. [132.177.123.84]) by smtp-relay.gmail.com with ESMTPS id 8926c6da1cb9f-58f6d04111fsm1219720173.4.2025.10.14.23.04.57 (version=TLS1_2 cipher=ECDHE-ECDSA-AES128-GCM-SHA256 bits=128/128); Tue, 14 Oct 2025 23:04:57 -0700 (PDT) X-Relaying-Domain: iol.unh.edu Date: Tue, 14 Oct 2025 23:04:57 -0700 (PDT) Message-ID: <68ef3989.050a0220.1e1513.bbe5SMTPIN_ADDED_MISSING@mx.google.com> Received: from [172.21.0.2] (unknown [172.18.0.240]) by postal.iol.unh.edu (Postfix) with ESMTP id D48C26051830; Wed, 15 Oct 2025 02:04:56 -0400 (EDT) Subject: |SUCCESS| [GIT MASTER] b287e404643aeab5bb5db084c142789df187844e From: dpdklab@iol.unh.edu To: Test Report Cc: dpdk-test-reports@iol.unh.edu, Xueming Li , Christian Ehrhardt , Kevin Traynor , Luca Boccassi Content-Type: text/plain X-BeenThere: test-report@dpdk.org X-Mailman-Version: 2.1.29 Precedence: list List-Id: automatic DPDK test reports List-Unsubscribe: , List-Archive: List-Post: List-Help: List-Subscribe: , Errors-To: test-report-bounces@dpdk.org _Testing PASS_ Branch: tags/v24.11 b287e404643aeab5bb5db084c142789df187844e --> testing pass Upstream job id: Generic-Unit-Test-DPDK#381503 Test environment and result as below: +-------------------------------+----------------+ | Environment | dpdk_unit_test | +===============================+================+ | CentOS Stream 9 | PASS | +-------------------------------+----------------+ | Fedora Linux 41 | PASS | +-------------------------------+----------------+ | Fedora Linux 40 | PASS | +-------------------------------+----------------+ | CentOS Stream 10 | PASS | +-------------------------------+----------------+ | Debian GNU/Linux 12 | PASS | +-------------------------------+----------------+ | Fedora Linux 42 | PASS | +-------------------------------+----------------+ | Red Hat Enterprise Linux 9.5 | PASS | +-------------------------------+----------------+ | Ubuntu 20.04 | PASS | +-------------------------------+----------------+ | Ubuntu 22.04 | PASS | +-------------------------------+----------------+ | Ubuntu 24.04 | PASS | +-------------------------------+----------------+ | Red Hat Enterprise Linux 8.10 | PASS | +-------------------------------+----------------+ | Windows Server 2022 | PASS | +-------------------------------+----------------+ CentOS Stream 9 Kernel: 5.15 Compiler: gcc gcc (GCC) 11.5.0 20240719 (Red Hat 11.5.0-11) Fedora Linux 41 Kernel: 5.15 Compiler: gcc gcc (GCC) 14.3.1 20250523 (Red Hat 14.3.1-1) Fedora Linux 40 Kernel: 5.15 Compiler: clang gcc (GCC) 14.2.1 20240912 (Red Hat 14.2.1-3) CentOS Stream 10 Kernel: 5.15 Compiler: gcc gcc (GCC) 14.2.1 20250110 (Red Hat 14.2.1-8) Debian GNU/Linux 12 Kernel: 5.15 Compiler: gcc gcc (Debian 12.2.0-14+deb12u1) 12.2.0 Fedora Linux 42 Kernel: 5.15 Compiler: gcc gcc (GCC) 15.2.1 20250808 (Red Hat 15.2.1-1) Red Hat Enterprise Linux 9.5 Kernel: 5.15 Compiler: gcc gcc (GCC) 11.5.0 20240719 (Red Hat 11.5.0-2) Ubuntu 20.04 Kernel: 5.15 Compiler: gcc gcc (Ubuntu 9.4.0-1ubuntu1~20.04.2) 9.4.0 Ubuntu 22.04 Kernel: 5.15 Compiler: gcc gcc (Ubuntu 11.4.0-1ubuntu1~22.04) 11.4.0 Ubuntu 24.04 Kernel: 5.15 Compiler: gcc gcc (Ubuntu 13.3.0-6ubuntu2~24.04) 13.3.0 Red Hat Enterprise Linux 8.10 Kernel: 5.15 Compiler: gcc gcc (GCC) 8.5.0 20210514 (Red Hat 8.5.0-22) Windows Server 2022 Kernel: 10.0.20348.2031 Compiler: clang 15.0.7, gcc 14.1.0 (MinGW), and MSVC VS 19.39.33521 To view detailed results, visit: https://lab.dpdk.org/results/dashboard/tarballs/35210/ UNH-IOL DPDK Community Lab To manage your email subscriptions, visit: https://lab.dpdk.org/results/dashboard/preferences/subscriptions/