From mboxrd@z Thu Jan 1 00:00:00 1970 Return-Path: Received: from mails.dpdk.org (mails.dpdk.org [217.70.189.124]) by inbox.dpdk.org (Postfix) with ESMTP id 1E6914893F for ; Wed, 15 Oct 2025 08:27:42 +0200 (CEST) Received: from mails.dpdk.org (localhost [127.0.0.1]) by mails.dpdk.org (Postfix) with ESMTP id EDAF5402CA; Wed, 15 Oct 2025 08:27:41 +0200 (CEST) Received: from mail-qk1-f226.google.com (mail-qk1-f226.google.com [209.85.222.226]) by mails.dpdk.org (Postfix) with ESMTP id 3DBA8402CA for ; Wed, 15 Oct 2025 08:27:41 +0200 (CEST) Received: by mail-qk1-f226.google.com with SMTP id af79cd13be357-883902b96c3so522746685a.1 for ; Tue, 14 Oct 2025 23:27:41 -0700 (PDT) DKIM-Signature: v=1; a=rsa-sha256; c=relaxed/relaxed; d=iol.unh.edu; s=unh-iol; t=1760509660; x=1761114460; darn=dpdk.org; h=references:in-reply-to:cc:to:from:subject:message-id:date:from:to :cc:subject:date:message-id:reply-to; bh=f+IQ8Fj/152FmB3f6zs3ADzu7tWwTc6MZ3XbxzmJBZo=; b=ionL0aPVTM62WX7aVONT3k1ZQOeHoEsgy5zExjqR4+M4GVaIrcsWrEFpT7X6GFrYIJ JstmC9GUFoU5uFW4k67LE2KHBWOJWRPAn4gnL87zC5ljbCk5nJfP0kcVIwZNQoxPsSAI OzKMaJ62Gp0O+E3Ic4A7i8WnODi244/ovVZ4o= X-Google-DKIM-Signature: v=1; a=rsa-sha256; c=relaxed/relaxed; d=1e100.net; s=20230601; t=1760509660; x=1761114460; h=references:in-reply-to:cc:to:from:subject:message-id:date :x-gm-message-state:from:to:cc:subject:date:message-id:reply-to; bh=f+IQ8Fj/152FmB3f6zs3ADzu7tWwTc6MZ3XbxzmJBZo=; b=fAq5VcWcaf0gjsmAo8dNoNQY8sjTZq36fiV1um3+AI9wg0C1M2F0rqNar3g/EEmCVp P5fwwytDDAxxqq/ZuRBs4ftJve6uxkrxVlRROzv9bYl5iQEAvFhflqLoCd/a/EYZWrmt r12R7BYtavyMqYRfjcOW+UmX5nmweWou1kYAEV2MhLHSVeDCtakQE2Lq1972kHm268oX AHOkW9mlEOgdr6Xy3NQmmimcQbO3RNNdYZjYPQuwMYAQciO/6IJw6LXyKnOEvpDAIAyu sUPYtovt/XEy2tXzdEdi9NxjLWTK9Et4UJ+7qYp+ritnCN9nNCYLNHuS0/lJkXACAy0z ASMQ== X-Gm-Message-State: AOJu0YzDFTTpizWZEnCMsW+euMza11MQHQl+anKhRtBgdxOv0/8nc1dx kcnbROcRX/fwgjVcLo6nIB+d6bjOfXCviBev48uHAkw7gi+O9Hkkm9sqEga5WujTaa+szzWinh7 pyFUX0RNqNTw0UdFSHD7by82+lQv86K4G0ai7r7fl95URaomveMMEKoRagY7G X-Gm-Gg: ASbGnctP26dtF5Sp4r4JV3iB6OFMqDJ+pgPm6WVhFGcZV6nk4bog2V5EhkjcZFQcjEH Z4aPLRd0tOVYNsDI9ecX1qcuNIhpqjjnMhyoHltUMyAan9eBIfqs/O+dF7ytA/qrG9DNKcWrRCE TyybhCclrpOiZILZRxQLoxcceCfC+sOfjNrzKBxZQmyXTySNW1LOBOuewFTmzhwIJ7GDN5UwvrR So8eM1dgSYZ9n47pIBD1s2/3uY7aqjyZRtgcYD5FKj/mvlOEEj28/4OA7al61Gl2V1H7AUiVX8S 67MMgQJjcoYbfAuRUvvF0KpK2e85U0i3aWxX34aLpdYAogQieA== X-Google-Smtp-Source: AGHT+IFfS0jo6VH3Uh0i0vXkhC4YdaryV1kdKTobR5TX+DBZH4znYbNlzPsC0DWAfgnsPbUNNwScPpPbQujN X-Received: by 2002:a05:622a:2d4:b0:4e7:2526:b76c with SMTP id d75a77b69052e-4e72526b79amr143022171cf.56.1760509660445; Tue, 14 Oct 2025 23:27:40 -0700 (PDT) Received: from postal.iol.unh.edu (postal.iol.unh.edu. [2606:4100:3880:1234::84]) by smtp-relay.gmail.com with ESMTPS id d75a77b69052e-4e881c2cef5sm1000041cf.3.2025.10.14.23.27.40 (version=TLS1_2 cipher=ECDHE-ECDSA-AES128-GCM-SHA256 bits=128/128); Tue, 14 Oct 2025 23:27:40 -0700 (PDT) X-Relaying-Domain: iol.unh.edu Date: Tue, 14 Oct 2025 23:27:40 -0700 (PDT) Message-ID: <68ef3edc.050a0220.2be3c.4dfeSMTPIN_ADDED_MISSING@mx.google.com> Received: from [172.21.0.2] (unknown [172.18.0.240]) by postal.iol.unh.edu (Postfix) with ESMTP id 1E0596051830; Wed, 15 Oct 2025 02:27:40 -0400 (EDT) Subject: |SUCCESS| pw157566-157572 [PATCH] [v6,7/7] usertools/mbuf: parse mbu From: dpdklab@iol.unh.edu To: Test Report Cc: dpdk-test-reports@iol.unh.edu In-Reply-To: <20251014124046.1032293-8-thomas@monjalon.net> References: <20251014124046.1032293-8-thomas@monjalon.net> Content-Type: text/plain X-BeenThere: test-report@dpdk.org X-Mailman-Version: 2.1.29 Precedence: list List-Id: automatic DPDK test reports List-Unsubscribe: , List-Archive: List-Post: List-Help: List-Subscribe: , Errors-To: test-report-bounces@dpdk.org Test-Label: iol-unit-arm64-testing Test-Status: SUCCESS http://dpdk.org/patch/157572 _Testing PASS_ Submitter: Thomas Monjalon Date: Tuesday, October 14 2025 12:33:40 DPDK git baseline: Repo:dpdk Branch: master CommitID:2b403dd8fb37d0ba13723e44ffc7ee2c2795f838 157566-157572 --> testing pass Upstream job id: Generic-Unit-Test-DPDK#381367 Test environment and result as below: +------------------------------+----------------+---------------------------+--------------+------------------------------+ | Environment | dpdk_unit_test | cryptodev_sw_zuc_autotest | lpm_autotest | cryptodev_sw_snow3g_autotest | +==============================+================+===========================+==============+==============================+ | CentOS Stream 9 | PASS | SKIPPED | SKIPPED | SKIPPED | +------------------------------+----------------+---------------------------+--------------+------------------------------+ | Debian GNU/Linux 12 | PASS | SKIPPED | SKIPPED | SKIPPED | +------------------------------+----------------+---------------------------+--------------+------------------------------+ | Fedora Linux 40 | PASS | SKIPPED | SKIPPED | SKIPPED | +------------------------------+----------------+---------------------------+--------------+------------------------------+ | CentOS Stream 10 | PASS | SKIPPED | SKIPPED | SKIPPED | +------------------------------+----------------+---------------------------+--------------+------------------------------+ | Fedora Linux 42 | PASS | SKIPPED | SKIPPED | SKIPPED | +------------------------------+----------------+---------------------------+--------------+------------------------------+ | Fedora Linux 41 | PASS | SKIPPED | SKIPPED | SKIPPED | +------------------------------+----------------+---------------------------+--------------+------------------------------+ | Ubuntu 20.04 | PASS | SKIPPED | PASS | SKIPPED | +------------------------------+----------------+---------------------------+--------------+------------------------------+ | Red Hat Enterprise Linux 9.5 | PASS | SKIPPED | SKIPPED | SKIPPED | +------------------------------+----------------+---------------------------+--------------+------------------------------+ | Ubuntu 24.04 | PASS | SKIPPED | SKIPPED | SKIPPED | +------------------------------+----------------+---------------------------+--------------+------------------------------+ | Ubuntu 22.04 | PASS | SKIPPED | SKIPPED | SKIPPED | +------------------------------+----------------+---------------------------+--------------+------------------------------+ | Debian 12 (arm) | SKIPPED | PASS | SKIPPED | PASS | +------------------------------+----------------+---------------------------+--------------+------------------------------+ CentOS Stream 9 Kernel: 5.4 Compiler: gcc gcc (GCC) 11.5.0 20240719 (Red Hat 11.5.0-11) Debian GNU/Linux 12 Kernel: 5.4 Compiler: gcc gcc (Debian 12.2.0-14+deb12u1) 12.2.0 Fedora Linux 40 Kernel: 5.4 Compiler: gcc gcc (GCC) 14.2.1 20240912 (Red Hat 14.2.1-3) CentOS Stream 10 Kernel: 5.4 Compiler: gcc gcc (GCC) 14.2.1 20250110 (Red Hat 14.2.1-8) Fedora Linux 42 Kernel: 5.4 Compiler: clang gcc (GCC) 15.2.1 20250808 (Red Hat 15.2.1-1) Fedora Linux 41 Kernel: 5.4 Compiler: gcc gcc (GCC) 14.3.1 20250523 (Red Hat 14.3.1-1) Ubuntu 20.04 Kernel: 5.4 Compiler: gcc gcc (Ubuntu 9.4.0-1ubuntu1~20.04.2) 9.4.0 Red Hat Enterprise Linux 9.5 Kernel: 5.4 Compiler: gcc gcc (GCC) 11.5.0 20240719 (Red Hat 11.5.0-2) Ubuntu 24.04 Kernel: 5.4 Compiler: gcc gcc (Ubuntu 13.3.0-6ubuntu2~24.04) 13.3.0 Ubuntu 22.04 Kernel: 5.4 Compiler: gcc gcc (Ubuntu 11.4.0-1ubuntu1~22.04) 11.4.0 Debian 12 (arm) Kernel: Depends on container host Compiler: gcc (Debian 12.2.0-14) 12.2.0 To view detailed results, visit: https://lab.dpdk.org/results/dashboard/patchsets/34277/ UNH-IOL DPDK Community Lab To manage your email subscriptions, visit: https://lab.dpdk.org/results/dashboard/preferences/subscriptions/