From mboxrd@z Thu Jan 1 00:00:00 1970 Return-Path: Received: from mails.dpdk.org (mails.dpdk.org [217.70.189.124]) by inbox.dpdk.org (Postfix) with ESMTP id 31DE14893F for ; Wed, 15 Oct 2025 08:56:46 +0200 (CEST) Received: from mails.dpdk.org (localhost [127.0.0.1]) by mails.dpdk.org (Postfix) with ESMTP id 2CA88402CA; Wed, 15 Oct 2025 08:56:46 +0200 (CEST) Received: from mail-yx1-f97.google.com (mail-yx1-f97.google.com [74.125.224.97]) by mails.dpdk.org (Postfix) with ESMTP id 693BB402CA for ; Wed, 15 Oct 2025 08:56:44 +0200 (CEST) Received: by mail-yx1-f97.google.com with SMTP id 956f58d0204a3-633be3be1e6so977597d50.1 for ; Tue, 14 Oct 2025 23:56:44 -0700 (PDT) DKIM-Signature: v=1; a=rsa-sha256; c=relaxed/relaxed; d=iol.unh.edu; s=unh-iol; t=1760511404; x=1761116204; darn=dpdk.org; h=references:in-reply-to:cc:to:from:subject:message-id:date:from:to :cc:subject:date:message-id:reply-to; bh=lAuQ8C23IZZ4mER6A7gm/abJr5nPlwzi6AtqkUsHK70=; b=dPST5xIUjg9jHaZdHAJEm0rOqEQQWzX/U3F2JbG0SgZa+idlaGSF6o1vWh4cJMTpQ1 sHZcwKL75RqrcMM03lQrIH/VVAdHln2obTGq9tP6Hosr9IxOZYJVX5zbrlaMWQz0FZ/+ BDoDxdy4BcNcxiku2gU2+il/0TTFKZpj4g13E= X-Google-DKIM-Signature: v=1; a=rsa-sha256; c=relaxed/relaxed; d=1e100.net; s=20230601; t=1760511404; x=1761116204; h=references:in-reply-to:cc:to:from:subject:message-id:date :x-gm-message-state:from:to:cc:subject:date:message-id:reply-to; bh=lAuQ8C23IZZ4mER6A7gm/abJr5nPlwzi6AtqkUsHK70=; b=uIwgUP2fohdXgCxloTcwHNREIxXWXZyNdBZ1C0EzhJiwULRIrqry2t7MDwtWrDmNoX +N4St5sT5Ynn2afpeLnX8+RMunzL/YGA7ddGxh1PoYLjtXaYnI20q//Z65hil1L0N8HR SdBoJtTG76hbEU1Ald8jD+yoMDbMj3r8sdY9VCYmKrdpEX8IEPEme4PAPjzRG6g+/OMG +rEqkVaER/rjJVWCeSpsePDStXbwaCtXc0KqxL++FzM9mRAUN/9MM65Ayh2j0HwvDy26 VaMa1hB7R5frjTYH+yNqBqaOA/zWINf9FSZtcJsYD8H+8o/IUwSYOLnu1JgXprEB3D5d ZWGA== X-Gm-Message-State: AOJu0YxnVwipJB6DtWMp3x7eb7jp6DA5N7DKZbGe1OjjbkDQyEcJ0uR/ WQ17M09neWWnIj38Hy6eXwyOa/SJT072nWpSBDFIdjPfWDokq3FoSRwZCc0ZSeVlwdVmRwjK3aW k95WyWklOrNwUJuLCoQkJqUByhPwDacQOMA/0ihRJQh32RoQEDBTF+Xd6QnQI X-Gm-Gg: ASbGncsMv+1D0OUzdR+60ijFFFWrr9nO1lQZURdgCEJiuRGK7CAkoZsozt4Q8/s+JtL w637JDsRL4JSUIxmTYgwq/fUrlKFirxRse1qTe6d/dxEJF9cNAV38PamL3dM37sYUEcE4QL5LH6 zb1VJS+E8o/rY2av3itRjZwsamI/3NM2gFKsKinKz7hTnBjJaMy2r31scR0H5fc0II9/cEVY2qS h1vmC+ZH7dbl5OeuTysq2Tt3w8ix2wa+7kE8TIehSdxEDvhW0SDxqEQMBNVSkPOzpnfrCBYeBFl HV5+iWf4IOSz+bt4FWldR2S70ABAc3HIVjij+qE/Dg5aIWjMQw== X-Google-Smtp-Source: AGHT+IGRTNNfF1c3hgkqGmd80vRT1GcB6OsvzWF85UbCeKopnwxQSkaAj1YjEpG/OJePShwKbH0uTPw4BEKb X-Received: by 2002:a53:acc8:0:10b0:63c:f5a6:f30b with SMTP id 956f58d0204a3-63cf5a707a8mr10762157d50.34.1760511403747; Tue, 14 Oct 2025 23:56:43 -0700 (PDT) Received: from postal.iol.unh.edu (postal.iol.unh.edu. [2606:4100:3880:1234::84]) by smtp-relay.gmail.com with ESMTPS id 956f58d0204a3-63cd95d38c6sm1023832d50.9.2025.10.14.23.56.43 (version=TLS1_2 cipher=ECDHE-ECDSA-AES128-GCM-SHA256 bits=128/128); Tue, 14 Oct 2025 23:56:43 -0700 (PDT) X-Relaying-Domain: iol.unh.edu Date: Tue, 14 Oct 2025 23:56:43 -0700 (PDT) Message-ID: <68ef45ab.530a0220.15c9d8.3bfbSMTPIN_ADDED_MISSING@mx.google.com> Received: from [172.21.0.3] (unknown [172.18.0.240]) by postal.iol.unh.edu (Postfix) with ESMTP id 0CCA56051830; Wed, 15 Oct 2025 02:56:43 -0400 (EDT) Subject: |SUCCESS| pw157573 [PATCH] net/i40e: fix symmetric toeplitz hashing From: dpdklab@iol.unh.edu To: Test Report Cc: dpdk-test-reports@iol.unh.edu, Bruce Richardson In-Reply-To: <20251014160718.92171-1-anurag.mandal@intel.com> References: <20251014160718.92171-1-anurag.mandal@intel.com> Content-Type: text/plain X-BeenThere: test-report@dpdk.org X-Mailman-Version: 2.1.29 Precedence: list List-Id: automatic DPDK test reports List-Unsubscribe: , List-Archive: List-Post: List-Help: List-Subscribe: , Errors-To: test-report-bounces@dpdk.org Test-Label: iol-unit-arm64-testing Test-Status: SUCCESS http://dpdk.org/patch/157573 _Testing PASS_ Submitter: Anurag Mandal Date: Tuesday, October 14 2025 16:07:18 DPDK git baseline: Repo:dpdk-next-net-intel Branch: master CommitID:d2d0163cb4200ff7e450fd66eb6a92a931f06de7 157573 --> testing pass Upstream job id: Generic-Unit-Test-DPDK#381387 Test environment and result as below: +------------------------------+----------------+---------------------------+--------------+------------------------------+ | Environment | dpdk_unit_test | cryptodev_sw_zuc_autotest | lpm_autotest | cryptodev_sw_snow3g_autotest | +==============================+================+===========================+==============+==============================+ | CentOS Stream 9 | PASS | SKIPPED | SKIPPED | SKIPPED | +------------------------------+----------------+---------------------------+--------------+------------------------------+ | Fedora Linux 42 | PASS | SKIPPED | SKIPPED | SKIPPED | +------------------------------+----------------+---------------------------+--------------+------------------------------+ | Fedora Linux 40 | PASS | SKIPPED | SKIPPED | SKIPPED | +------------------------------+----------------+---------------------------+--------------+------------------------------+ | Debian GNU/Linux 12 | PASS | SKIPPED | SKIPPED | SKIPPED | +------------------------------+----------------+---------------------------+--------------+------------------------------+ | Fedora Linux 41 | PASS | SKIPPED | SKIPPED | SKIPPED | +------------------------------+----------------+---------------------------+--------------+------------------------------+ | Red Hat Enterprise Linux 9.5 | PASS | SKIPPED | SKIPPED | SKIPPED | +------------------------------+----------------+---------------------------+--------------+------------------------------+ | Ubuntu 22.04 | PASS | SKIPPED | SKIPPED | SKIPPED | +------------------------------+----------------+---------------------------+--------------+------------------------------+ | Ubuntu 24.04 | PASS | SKIPPED | SKIPPED | SKIPPED | +------------------------------+----------------+---------------------------+--------------+------------------------------+ | Ubuntu 20.04 | PASS | SKIPPED | PASS | SKIPPED | +------------------------------+----------------+---------------------------+--------------+------------------------------+ | CentOS Stream 10 | PASS | SKIPPED | SKIPPED | SKIPPED | +------------------------------+----------------+---------------------------+--------------+------------------------------+ | Debian 12 (arm) | SKIPPED | PASS | SKIPPED | PASS | +------------------------------+----------------+---------------------------+--------------+------------------------------+ CentOS Stream 9 Kernel: 5.4 Compiler: gcc gcc (GCC) 11.5.0 20240719 (Red Hat 11.5.0-11) Fedora Linux 42 Kernel: 5.4 Compiler: gcc gcc (GCC) 15.2.1 20250808 (Red Hat 15.2.1-1) Fedora Linux 40 Kernel: 5.4 Compiler: clang gcc (GCC) 14.2.1 20240912 (Red Hat 14.2.1-3) Debian GNU/Linux 12 Kernel: 5.4 Compiler: gcc gcc (Debian 12.2.0-14+deb12u1) 12.2.0 Fedora Linux 41 Kernel: 5.4 Compiler: clang gcc (GCC) 14.3.1 20250523 (Red Hat 14.3.1-1) Red Hat Enterprise Linux 9.5 Kernel: 5.4 Compiler: gcc gcc (GCC) 11.5.0 20240719 (Red Hat 11.5.0-2) Ubuntu 22.04 Kernel: 5.15 Compiler: gcc gcc (Ubuntu 11.4.0-1ubuntu1~22.04.2) 11.4.0 Ubuntu 24.04 Kernel: 5.4 Compiler: gcc gcc (Ubuntu 13.3.0-6ubuntu2~24.04) 13.3.0 Ubuntu 20.04 Kernel: 5.4 Compiler: gcc gcc (Ubuntu 9.4.0-1ubuntu1~20.04.2) 9.4.0 CentOS Stream 10 Kernel: 5.4 Compiler: gcc gcc (GCC) 14.2.1 20250110 (Red Hat 14.2.1-8) Debian 12 (arm) Kernel: Depends on container host Compiler: gcc (Debian 12.2.0-14) 12.2.0 To view detailed results, visit: https://lab.dpdk.org/results/dashboard/patchsets/34278/ UNH-IOL DPDK Community Lab To manage your email subscriptions, visit: https://lab.dpdk.org/results/dashboard/preferences/subscriptions/