From mboxrd@z Thu Jan 1 00:00:00 1970 Return-Path: Received: from mails.dpdk.org (mails.dpdk.org [217.70.189.124]) by inbox.dpdk.org (Postfix) with ESMTP id 8C5BF4893F for ; Wed, 15 Oct 2025 09:37:24 +0200 (CEST) Received: from mails.dpdk.org (localhost [127.0.0.1]) by mails.dpdk.org (Postfix) with ESMTP id 83D6940687; Wed, 15 Oct 2025 09:37:24 +0200 (CEST) Received: from mail-yw1-f228.google.com (mail-yw1-f228.google.com [209.85.128.228]) by mails.dpdk.org (Postfix) with ESMTP id 6B50F40687 for ; Wed, 15 Oct 2025 09:37:23 +0200 (CEST) Received: by mail-yw1-f228.google.com with SMTP id 00721157ae682-71d5fb5e34cso10490447b3.0 for ; Wed, 15 Oct 2025 00:37:23 -0700 (PDT) DKIM-Signature: v=1; a=rsa-sha256; c=relaxed/relaxed; d=iol.unh.edu; s=unh-iol; t=1760513843; x=1761118643; darn=dpdk.org; h=references:in-reply-to:cc:to:from:subject:message-id:date:from:to :cc:subject:date:message-id:reply-to; bh=76w8X9pP8Df+jn1FidYmTQMD44PgJ2YPhCAo/6UqQiQ=; b=EanF+fgyzA/a76/lQ81Dmt22SwBSWj3YyikaWinQ4Y0rpkjW7hntg/U5DVMG9ULlfi CSnc1BVy2jY5Cfy/wximn8f+OW+znIZU5m/FwjT+qiO4cZrCHE+DPOJgtZ9EpFtUrR+5 aidG2N89gJwXVieYTeOGDywr+K8bTYLegKU7o= X-Google-DKIM-Signature: v=1; a=rsa-sha256; c=relaxed/relaxed; d=1e100.net; s=20230601; t=1760513843; x=1761118643; h=references:in-reply-to:cc:to:from:subject:message-id:date :x-gm-message-state:from:to:cc:subject:date:message-id:reply-to; bh=76w8X9pP8Df+jn1FidYmTQMD44PgJ2YPhCAo/6UqQiQ=; b=Eh+wMPrUwmW4aeIoQMMwu41cGqMY0ApB5SLxHl033/Sh0OVbb3FJvloHAsbYyp73j8 hcWkXuzcs8q972XdBVw0/u1NWsV/kuHMh/pe1RUAPWIiQNTU5uc+MJXa1Rpwns297mFr fzG2tIRKKVCto9TD/0QTeIB5RP7pggEoVkhy63vyChNPAuJEgC+x/cFcOO4HDNpxwL6d 5QQ0nkdM8uvWySLng10Pk5o9SQM1mFHGG40eYreiwMU2Kdh1VlaXntLrDZx7kcPzzwpQ jLCuR8tCdg3M/1UufVhv4ESB4Ezw/flFRkgG04Y/DsF+L9YZ1t7caAl0zpNVdP8Zp3ir SXaQ== X-Gm-Message-State: AOJu0YyrSGVB/k3U9KkfyFsTY31985qeOL5WduYRXaNbDfi9zGTGk1pF 3bAW6weYFVzxPPWOWBp+kw5uYOGiqFJOZLLVbx5VH9zQB9JIk8/YwWR+B1KUsm1z5QW/GIZTu2D g6opHbB9ucDSpYHvxnjDOZ1glizcQLrpkF6KO3ULqzGJjwMek/PXCorDSjg/P X-Gm-Gg: ASbGncvW69gsRTWbIez4xGpigsb3LxVel1Im6cO0fdsmOfGbU3MuyK1ZsTyqzP7nmce nNPOdkrX6q42z/6nEdzTAl+lopiFxUZ7/mfZpcmeSqhjQPSdjBFBEgPfkWKFjzeME/7ylitEszh uRxP8IAjsocNLh6eZWUzrmMp7v2I8bZ+hHF8HJwmuGQzFngaL1WFSuhwuIz/OnGqV2shvg+8wFQ uTUoP6OxcEVle/GyshevrZWTlNXFQCDWgu3wqflh/RExpgmrfA6cGTAnFQXI36Zvx039q0aLJ3d xf3hUQQE1AJesQ+30OkdDBka1ZWJudRLu+jKJ6vNPxK+PYjjng== X-Google-Smtp-Source: AGHT+IEzqvvWqG2JJbj6NWltN+BGgYZfgJVcb1heGhj2W80tn9+/M5Uo3/zPyj4pphRwLJqzY1paV/fwUYLp X-Received: by 2002:a05:690c:b8b:b0:739:f055:c77a with SMTP id 00721157ae682-780e2693297mr260310987b3.21.1760513842727; Wed, 15 Oct 2025 00:37:22 -0700 (PDT) Received: from postal.iol.unh.edu (postal.iol.unh.edu. [2606:4100:3880:1234::84]) by smtp-relay.gmail.com with ESMTPS id 00721157ae682-7814c5a941esm2727857b3.4.2025.10.15.00.37.22 (version=TLS1_2 cipher=ECDHE-ECDSA-AES128-GCM-SHA256 bits=128/128); Wed, 15 Oct 2025 00:37:22 -0700 (PDT) X-Relaying-Domain: iol.unh.edu Date: Wed, 15 Oct 2025 00:37:22 -0700 (PDT) Message-ID: <68ef4f32.050a0220.2a3de.d43eSMTPIN_ADDED_MISSING@mx.google.com> Received: from [172.21.0.3] (unknown [172.18.0.240]) by postal.iol.unh.edu (Postfix) with ESMTP id 62F456051830; Wed, 15 Oct 2025 03:37:22 -0400 (EDT) Subject: |SUCCESS| pw157576 [PATCH] app/crypto-perf: add ECDSA P192/P224/P521 From: dpdklab@iol.unh.edu To: Test Report Cc: dpdk-test-reports@iol.unh.edu, Akhil Goyal In-Reply-To: <20251015062758.1096015-1-rchiluka@marvell.com> References: <20251015062758.1096015-1-rchiluka@marvell.com> Content-Type: text/plain X-BeenThere: test-report@dpdk.org X-Mailman-Version: 2.1.29 Precedence: list List-Id: automatic DPDK test reports List-Unsubscribe: , List-Archive: List-Post: List-Help: List-Subscribe: , Errors-To: test-report-bounces@dpdk.org Test-Label: iol-unit-amd64-testing Test-Status: SUCCESS http://dpdk.org/patch/157576 _Testing PASS_ Submitter: Rupesh Chiluka Date: Wednesday, October 15 2025 06:27:58 DPDK git baseline: Repo:dpdk-next-crypto Branch: master CommitID:2aa7141a4e2c78e3cce03dbd613532a2166123c1 157576 --> testing pass Upstream job id: Generic-VM-Unit-Test-DPDK#31800 Test environment and result as below: +-------------------------------+----------------+ | Environment | dpdk_unit_test | +===============================+================+ | CentOS Stream 9 | PASS | +-------------------------------+----------------+ | CentOS Stream 10 | PASS | +-------------------------------+----------------+ | Debian GNU/Linux 12 | PASS | +-------------------------------+----------------+ | Fedora Linux 40 | PASS | +-------------------------------+----------------+ | Fedora Linux 41 | PASS | +-------------------------------+----------------+ | Ubuntu 20.04 | PASS | +-------------------------------+----------------+ | Fedora Linux 42 | PASS | +-------------------------------+----------------+ | Red Hat Enterprise Linux 9.5 | PASS | +-------------------------------+----------------+ | Red Hat Enterprise Linux 8.10 | PASS | +-------------------------------+----------------+ | Ubuntu 24.04 | PASS | +-------------------------------+----------------+ | Ubuntu 22.04 | PASS | +-------------------------------+----------------+ | Windows Server 2022 | PASS | +-------------------------------+----------------+ CentOS Stream 9 Kernel: 5.15 Compiler: gcc gcc (GCC) 11.5.0 20240719 (Red Hat 11.5.0-11) CentOS Stream 10 Kernel: 5.15 Compiler: gcc gcc (GCC) 14.2.1 20250110 (Red Hat 14.2.1-8) Debian GNU/Linux 12 Kernel: 5.15 Compiler: gcc gcc (Debian 12.2.0-14+deb12u1) 12.2.0 Fedora Linux 40 Kernel: 5.15 Compiler: clang gcc (GCC) 14.2.1 20240912 (Red Hat 14.2.1-3) Fedora Linux 41 Kernel: 5.15 Compiler: gcc gcc (GCC) 14.3.1 20250523 (Red Hat 14.3.1-1) Ubuntu 20.04 Kernel: 5.15 Compiler: gcc gcc (Ubuntu 9.4.0-1ubuntu1~20.04.2) 9.4.0 Fedora Linux 42 Kernel: 5.15 Compiler: clang gcc (GCC) 15.2.1 20250808 (Red Hat 15.2.1-1) Red Hat Enterprise Linux 9.5 Kernel: 5.15 Compiler: gcc gcc (GCC) 11.5.0 20240719 (Red Hat 11.5.0-2) Red Hat Enterprise Linux 8.10 Kernel: 5.15 Compiler: gcc gcc (GCC) 8.5.0 20210514 (Red Hat 8.5.0-22) Ubuntu 24.04 Kernel: 5.15 Compiler: gcc gcc (Ubuntu 13.3.0-6ubuntu2~24.04) 13.3.0 Ubuntu 22.04 Kernel: 5.15 Compiler: gcc gcc (Ubuntu 11.4.0-1ubuntu1~22.04) 11.4.0 Windows Server 2022 Kernel: 10.0.20348.2031 Compiler: clang 15.0.7, gcc 14.1.0 (MinGW), and MSVC VS 19.39.33521 To view detailed results, visit: https://lab.dpdk.org/results/dashboard/patchsets/34280/ UNH-IOL DPDK Community Lab To manage your email subscriptions, visit: https://lab.dpdk.org/results/dashboard/preferences/subscriptions/