From mboxrd@z Thu Jan 1 00:00:00 1970 Return-Path: Received: from mails.dpdk.org (mails.dpdk.org [217.70.189.124]) by inbox.dpdk.org (Postfix) with ESMTP id 754F64893F for ; Wed, 15 Oct 2025 09:48:58 +0200 (CEST) Received: from mails.dpdk.org (localhost [127.0.0.1]) by mails.dpdk.org (Postfix) with ESMTP id 41B27402C3; Wed, 15 Oct 2025 09:48:58 +0200 (CEST) Received: from mail-yw1-f228.google.com (mail-yw1-f228.google.com [209.85.128.228]) by mails.dpdk.org (Postfix) with ESMTP id 6ACA3402C3 for ; Wed, 15 Oct 2025 09:48:57 +0200 (CEST) Received: by mail-yw1-f228.google.com with SMTP id 00721157ae682-780fe76f457so57500387b3.0 for ; Wed, 15 Oct 2025 00:48:57 -0700 (PDT) DKIM-Signature: v=1; a=rsa-sha256; c=relaxed/relaxed; d=iol.unh.edu; s=unh-iol; t=1760514537; x=1761119337; darn=dpdk.org; h=references:in-reply-to:cc:to:from:subject:message-id:date:from:to :cc:subject:date:message-id:reply-to; bh=9BhUq4a0blMReHgx09gWeuDm6cXOr/aooq1sLi2CI1E=; b=W3NLToTp7vErj90v/aD5V7rbc7ak3T6st79bGPbGQIXc1cFTzO5JH50QWAC4ryixpj uXxlNaAqYZsxaCGFq/mxtiruKski7ieOHM5CDMgwEzWYDNy825PnA1mZA1fnezbRBvRA Aaly6l+KmGTnA5/YzDLg3hp2F+X7yWLSspOsA= X-Google-DKIM-Signature: v=1; a=rsa-sha256; c=relaxed/relaxed; d=1e100.net; s=20230601; t=1760514537; x=1761119337; h=references:in-reply-to:cc:to:from:subject:message-id:date :x-gm-message-state:from:to:cc:subject:date:message-id:reply-to; bh=9BhUq4a0blMReHgx09gWeuDm6cXOr/aooq1sLi2CI1E=; b=Gz2ntFfcV69UY0N3ezmQkQuNSIg1dEsS28GsMH1MAQ1tAEgoPLdf5gLjgDwrDql9z/ FeCv0vANyNQu0XsyItfzP7Sbz3FkOvqk1PQvwcyYNhWEItVRDz7cxWaGEyYkgWcv9OuZ 8tQdMyRuYUXXr4bgHbEe9cTP1JW0fhDQxKQRgmKDU2PYSYJEICJph3ttdm9h/Yv2dZxP uhRbgSV7KOpQC8uA8IUEZjqPT2L2310zbO3d80eqicOVRhqfh+RlwmzUhPbxPwQKAhAt 5m+WQoOjZg8BBg/XoE6bdeO8YAc/uAlmno4fb4+U45c5cQGrHWCqq+4q64d+rmMzLnwR TA9A== X-Gm-Message-State: AOJu0YxiIR7Jin9pWY3fhPlcQreVQ2Q2sho25XQXF33TYvXI8rZu4F0H z3c9PhQD9pMqGuAG/hIMTyn8p+MLg3tDMmDerV1l5BnGJbZf+Q69ONak3MTX45J1ZkBTJCo0/4I GAwOKJVB2+zIwDhZkmBo8qRtLP2iioIGUPTof4/G3Lr7+W1UPucUpRmI+MD6V X-Gm-Gg: ASbGncswyg1atQk5QClRv0fi1e3gSjjanfgp73epZudCygG+zKJrdTFwC6mXI/pQq+t q5LnSissVN/mLkHE/6at8mXsP5hVHHdKjY13YJhRPesPrysPqH15k1vkXO97AWXbQgTpI53tw78 AKc7jbNIzKgpKMa+6tD23ypay2f6L2hb2fJpQKLiDw5eTmYPcAA5B06MFjWnen0KkzfxGqU6UIa XTg4JsjWX5Rmb/azfyl479hBCGd3x3epgadauF3irZNd6JzEzlEb2YlGD59WRQznvam9IEWyE9e Woesss3GKT9I7d9slXwBF8jPGNg74GkVVaJmLmvUDh5DPMvdTg== X-Google-Smtp-Source: AGHT+IHnMBgflmGGGsNckF7df/4LuYlmM9wYaa+L6CrfKo5O2vfHI2tYgdY6A3jDyieR6x3vHSb8REFWFPNO X-Received: by 2002:a05:690c:b86:b0:781:20e0:5a77 with SMTP id 00721157ae682-78124f5f79fmr166171997b3.62.1760514536723; Wed, 15 Oct 2025 00:48:56 -0700 (PDT) Received: from postal.iol.unh.edu (postal.iol.unh.edu. [2606:4100:3880:1234::84]) by smtp-relay.gmail.com with ESMTPS id 00721157ae682-78106d050f6sm9209037b3.3.2025.10.15.00.48.56 (version=TLS1_2 cipher=ECDHE-ECDSA-AES128-GCM-SHA256 bits=128/128); Wed, 15 Oct 2025 00:48:56 -0700 (PDT) X-Relaying-Domain: iol.unh.edu Date: Wed, 15 Oct 2025 00:48:56 -0700 (PDT) Message-ID: <68ef51e8.050a0220.305438.cde9SMTPIN_ADDED_MISSING@mx.google.com> Received: from [172.21.0.3] (unknown [172.18.0.240]) by postal.iol.unh.edu (Postfix) with ESMTP id 68DB56051830; Wed, 15 Oct 2025 03:48:56 -0400 (EDT) Subject: |SUCCESS| pw157576 [PATCH] app/crypto-perf: add ECDSA P192/P224/P521 From: dpdklab@iol.unh.edu To: Test Report Cc: dpdk-test-reports@iol.unh.edu, Akhil Goyal In-Reply-To: <20251015062758.1096015-1-rchiluka@marvell.com> References: <20251015062758.1096015-1-rchiluka@marvell.com> Content-Type: text/plain X-BeenThere: test-report@dpdk.org X-Mailman-Version: 2.1.29 Precedence: list List-Id: automatic DPDK test reports List-Unsubscribe: , List-Archive: List-Post: List-Help: List-Subscribe: , Errors-To: test-report-bounces@dpdk.org Test-Label: iol-unit-amd64-testing Test-Status: SUCCESS http://dpdk.org/patch/157576 _Testing PASS_ Submitter: Rupesh Chiluka Date: Wednesday, October 15 2025 06:27:58 DPDK git baseline: Repo:dpdk-next-crypto Branch: master CommitID:2aa7141a4e2c78e3cce03dbd613532a2166123c1 157576 --> testing pass Upstream job id: Generic-VM-Unit-Test-DPDK#31801 Test environment and result as below: +-------------------------------+----------------+ | Environment | dpdk_unit_test | +===============================+================+ | CentOS Stream 9 | PASS | +-------------------------------+----------------+ | CentOS Stream 10 | PASS | +-------------------------------+----------------+ | Debian GNU/Linux 12 | PASS | +-------------------------------+----------------+ | Fedora Linux 40 | PASS | +-------------------------------+----------------+ | Fedora Linux 41 | PASS | +-------------------------------+----------------+ | Ubuntu 20.04 | PASS | +-------------------------------+----------------+ | Fedora Linux 42 | PASS | +-------------------------------+----------------+ | Red Hat Enterprise Linux 9.5 | PASS | +-------------------------------+----------------+ | Red Hat Enterprise Linux 8.10 | PASS | +-------------------------------+----------------+ | Ubuntu 24.04 | PASS | +-------------------------------+----------------+ | Ubuntu 22.04 | PASS | +-------------------------------+----------------+ | Windows Server 2022 | PASS | +-------------------------------+----------------+ CentOS Stream 9 Kernel: 5.15 Compiler: gcc gcc (GCC) 11.5.0 20240719 (Red Hat 11.5.0-11) CentOS Stream 10 Kernel: 5.15 Compiler: gcc gcc (GCC) 14.2.1 20250110 (Red Hat 14.2.1-8) Debian GNU/Linux 12 Kernel: 5.15 Compiler: gcc gcc (Debian 12.2.0-14+deb12u1) 12.2.0 Fedora Linux 40 Kernel: 5.15 Compiler: clang gcc (GCC) 14.2.1 20240912 (Red Hat 14.2.1-3) Fedora Linux 41 Kernel: 5.15 Compiler: gcc gcc (GCC) 14.3.1 20250523 (Red Hat 14.3.1-1) Ubuntu 20.04 Kernel: 5.15 Compiler: gcc gcc (Ubuntu 9.4.0-1ubuntu1~20.04.2) 9.4.0 Fedora Linux 42 Kernel: 5.15 Compiler: clang gcc (GCC) 15.2.1 20250808 (Red Hat 15.2.1-1) Red Hat Enterprise Linux 9.5 Kernel: 5.15 Compiler: gcc gcc (GCC) 11.5.0 20240719 (Red Hat 11.5.0-2) Red Hat Enterprise Linux 8.10 Kernel: 5.15 Compiler: gcc gcc (GCC) 8.5.0 20210514 (Red Hat 8.5.0-22) Ubuntu 24.04 Kernel: 5.15 Compiler: gcc gcc (Ubuntu 13.3.0-6ubuntu2~24.04) 13.3.0 Ubuntu 22.04 Kernel: 5.15 Compiler: gcc gcc (Ubuntu 11.4.0-1ubuntu1~22.04) 11.4.0 Windows Server 2022 Kernel: 10.0.20348.2031 Compiler: clang 15.0.7, gcc 14.1.0 (MinGW), and MSVC VS 19.39.33521 To view detailed results, visit: https://lab.dpdk.org/results/dashboard/patchsets/34280/ UNH-IOL DPDK Community Lab To manage your email subscriptions, visit: https://lab.dpdk.org/results/dashboard/preferences/subscriptions/