From mboxrd@z Thu Jan 1 00:00:00 1970 Return-Path: Received: from mails.dpdk.org (mails.dpdk.org [217.70.189.124]) by inbox.dpdk.org (Postfix) with ESMTP id F2F7148941 for ; Wed, 15 Oct 2025 10:25:02 +0200 (CEST) Received: from mails.dpdk.org (localhost [127.0.0.1]) by mails.dpdk.org (Postfix) with ESMTP id D1DDE402C3; Wed, 15 Oct 2025 10:25:02 +0200 (CEST) Received: from mail-io1-f97.google.com (mail-io1-f97.google.com [209.85.166.97]) by mails.dpdk.org (Postfix) with ESMTP id D3976402C3 for ; Wed, 15 Oct 2025 10:25:00 +0200 (CEST) Received: by mail-io1-f97.google.com with SMTP id ca18e2360f4ac-9379a062ca8so242713639f.2 for ; Wed, 15 Oct 2025 01:25:00 -0700 (PDT) DKIM-Signature: v=1; a=rsa-sha256; c=relaxed/relaxed; d=iol.unh.edu; s=unh-iol; t=1760516700; x=1761121500; darn=dpdk.org; h=references:in-reply-to:cc:to:from:subject:message-id:date:from:to :cc:subject:date:message-id:reply-to; bh=MaUlFn1zoLYj2nB/eEzBf43wyBwTXyOVEjK10okMExU=; b=aN95BlLguB+kDKX96OMhSt/T1Blq1YKcZB7LD+BT21VNb2Pd7V3BJMO2RT8hG/FJsF lse/u+CrQYk9kF0fP5F9aTehbyU4F1eHc3iJcA2BICh/aCYIPhFjWIujGgrAJmKgj0PB QJh9rlzPj+kiGjTgvVRmv3RhOczERViZr+Eko= X-Google-DKIM-Signature: v=1; a=rsa-sha256; c=relaxed/relaxed; d=1e100.net; s=20230601; t=1760516700; x=1761121500; h=references:in-reply-to:cc:to:from:subject:message-id:date :x-gm-message-state:from:to:cc:subject:date:message-id:reply-to; bh=MaUlFn1zoLYj2nB/eEzBf43wyBwTXyOVEjK10okMExU=; b=oYKc4lWOuRmsyZuLH3otkroZS/dd13FoG7hxSRYh+EZsMXrkN6ySO04SioZCUapbl5 l4qk0vuHtOPy8R03WmplHYdtXjr2NOT73rMI3mqqob7MiugAh91wBzu8Du0c+G6xP81o RDaZXdrf/bi9LgQECgFhMNJWhzxJiajmJA48Zked27pOZo56IA5UWQTi1LnmHQ4r5g8M Gr5QtJ3tHGTmkSjviiD15N2u2lFjz6cxn72k1J/Dc0EYvvNdbK/WvtsLPCm/TFZoflxD zESx3pRuGs772P5t/fUqHIN0tY98aAo3wZtRUVn5RFxjgLG0kEqMaMSPHbdWAVliBWJi n94A== X-Gm-Message-State: AOJu0YyCUbIw6EAtw9QcU1JpAxiUlXimtxIlZoEAlDwnuCYzNMsR6owJ So1qEdmov8+58aXvfl7EBy6WWN6Tnmq4XkAEkLZDAsv1IeT1ucqfdtSGFb5sRq9eyWA0WSCqpZt S5Gw2JpELljNLrySCqRQKlFOypEqp2Yh/p4n6VfaS9FUt X-Gm-Gg: ASbGncv+Ga1H7TPs5Z9GFc9O/Ks3GamTSKPp0LDuWdm0i/JBnX32hoahL4HvbFwJXup Jfomo3tWhBzIaGmnVCjwenfUQM/y13u1B41Exq/woEPYqtrEWlTkq7lBuNdXVpyTLsw/8oeBRsb OxZkaWU1Q0knszoXP6YENoNjWatg8J/oFgLeTae0MW+Lqdx7BI/WtII4FSfkflQKZoYrVeLj5o1 yhP2XaOaTZ5qaX0Pv8k2TuW+8Ul8BWz55Uu4MWr8EEfJfXi394+j4rr/ES7GBp9KNk73gTI1jEv fO5WWGIsuPQrGvDn9zTSbEx+myD35/a60HJ22sBqzwn/bBNp47X4CAcJUVB4S1EsXiIwvifU X-Google-Smtp-Source: AGHT+IHnl0ZmIoniW1zoudG026Tn8pD7zPlDowR13MfcT/vAG2Sobbn/+LrJ24KGDWx4e4hel/1mSyAKheJH X-Received: by 2002:a05:6e02:1c0c:b0:430:aedb:3719 with SMTP id e9e14a558f8ab-430aedb37ddmr6552655ab.4.1760516700043; Wed, 15 Oct 2025 01:25:00 -0700 (PDT) Received: from postal.iol.unh.edu (postal.iol.unh.edu. [132.177.123.84]) by smtp-relay.gmail.com with ESMTPS id 8926c6da1cb9f-58f71469ae0sm1192328173.27.2025.10.15.01.24.59 (version=TLS1_2 cipher=ECDHE-ECDSA-AES128-GCM-SHA256 bits=128/128); Wed, 15 Oct 2025 01:25:00 -0700 (PDT) X-Relaying-Domain: iol.unh.edu Date: Wed, 15 Oct 2025 01:25:00 -0700 (PDT) Message-ID: <68ef5a5c.050a0220.d229b.b70dSMTPIN_ADDED_MISSING@mx.google.com> Received: from [172.21.0.2] (unknown [172.18.0.240]) by postal.iol.unh.edu (Postfix) with ESMTP id 92A946051830; Wed, 15 Oct 2025 04:24:59 -0400 (EDT) Subject: |SUCCESS| pw157574-157575 [PATCH] [2/2] fib6: fix tbl8 allocation ch From: dpdklab@iol.unh.edu To: Test Report Cc: dpdk-test-reports@iol.unh.edu In-Reply-To: <20251014181755.114300-2-vladimir.medvedkin@intel.com> References: <20251014181755.114300-2-vladimir.medvedkin@intel.com> Content-Type: text/plain X-BeenThere: test-report@dpdk.org X-Mailman-Version: 2.1.29 Precedence: list List-Id: automatic DPDK test reports List-Unsubscribe: , List-Archive: List-Post: List-Help: List-Subscribe: , Errors-To: test-report-bounces@dpdk.org Test-Label: iol-unit-arm64-testing Test-Status: SUCCESS http://dpdk.org/patch/157575 _Testing PASS_ Submitter: Vladimir Medvedkin Date: Tuesday, October 14 2025 18:17:55 DPDK git baseline: Repo:dpdk Branch: master CommitID:7cacb5b3f6cc89785f9383ac9544e61dc971897d 157574-157575 --> testing pass Upstream job id: Generic-Unit-Test-DPDK#381412 Test environment and result as below: +------------------------------+------------------------------+---------------------------+--------------+----------------+ | Environment | cryptodev_sw_snow3g_autotest | cryptodev_sw_zuc_autotest | lpm_autotest | dpdk_unit_test | +==============================+==============================+===========================+==============+================+ | Debian 12 (arm) | PASS | PASS | SKIPPED | SKIPPED | +------------------------------+------------------------------+---------------------------+--------------+----------------+ | Ubuntu 20.04 | SKIPPED | SKIPPED | PASS | PASS | +------------------------------+------------------------------+---------------------------+--------------+----------------+ | CentOS Stream 9 | SKIPPED | SKIPPED | SKIPPED | PASS | +------------------------------+------------------------------+---------------------------+--------------+----------------+ | Fedora Linux 41 | SKIPPED | SKIPPED | SKIPPED | PASS | +------------------------------+------------------------------+---------------------------+--------------+----------------+ | CentOS Stream 10 | SKIPPED | SKIPPED | SKIPPED | PASS | +------------------------------+------------------------------+---------------------------+--------------+----------------+ | Ubuntu 22.04 | SKIPPED | SKIPPED | SKIPPED | PASS | +------------------------------+------------------------------+---------------------------+--------------+----------------+ | Debian GNU/Linux 12 | SKIPPED | SKIPPED | SKIPPED | PASS | +------------------------------+------------------------------+---------------------------+--------------+----------------+ | Ubuntu 24.04 | SKIPPED | SKIPPED | SKIPPED | PASS | +------------------------------+------------------------------+---------------------------+--------------+----------------+ | Fedora Linux 42 | SKIPPED | SKIPPED | SKIPPED | PASS | +------------------------------+------------------------------+---------------------------+--------------+----------------+ | Red Hat Enterprise Linux 9.5 | SKIPPED | SKIPPED | SKIPPED | PASS | +------------------------------+------------------------------+---------------------------+--------------+----------------+ | Fedora Linux 40 | SKIPPED | SKIPPED | SKIPPED | PASS | +------------------------------+------------------------------+---------------------------+--------------+----------------+ Debian 12 (arm) Kernel: Depends on container host Compiler: gcc (Debian 12.2.0-14) 12.2.0 Ubuntu 20.04 Kernel: 5.4 Compiler: gcc gcc (Ubuntu 9.4.0-1ubuntu1~20.04.2) 9.4.0 CentOS Stream 9 Kernel: 5.4 Compiler: gcc gcc (GCC) 11.5.0 20240719 (Red Hat 11.5.0-11) Fedora Linux 41 Kernel: 5.4 Compiler: clang gcc (GCC) 14.3.1 20250523 (Red Hat 14.3.1-1) CentOS Stream 10 Kernel: 5.4 Compiler: gcc gcc (GCC) 14.2.1 20250110 (Red Hat 14.2.1-8) Ubuntu 22.04 Kernel: 5.15 Compiler: gcc gcc (Ubuntu 11.4.0-1ubuntu1~22.04.2) 11.4.0 Debian GNU/Linux 12 Kernel: 5.4 Compiler: gcc gcc (Debian 12.2.0-14+deb12u1) 12.2.0 Ubuntu 24.04 Kernel: 5.4 Compiler: gcc gcc (Ubuntu 13.3.0-6ubuntu2~24.04) 13.3.0 Fedora Linux 42 Kernel: 5.4 Compiler: gcc gcc (GCC) 15.2.1 20250808 (Red Hat 15.2.1-1) Red Hat Enterprise Linux 9.5 Kernel: 5.4 Compiler: gcc gcc (GCC) 11.5.0 20240719 (Red Hat 11.5.0-2) Fedora Linux 40 Kernel: 5.4 Compiler: clang gcc (GCC) 14.2.1 20240912 (Red Hat 14.2.1-3) To view detailed results, visit: https://lab.dpdk.org/results/dashboard/patchsets/34279/ UNH-IOL DPDK Community Lab To manage your email subscriptions, visit: https://lab.dpdk.org/results/dashboard/preferences/subscriptions/