From mboxrd@z Thu Jan 1 00:00:00 1970 Return-Path: Received: from mails.dpdk.org (mails.dpdk.org [217.70.189.124]) by inbox.dpdk.org (Postfix) with ESMTP id 4CF4248941 for ; Wed, 15 Oct 2025 10:42:44 +0200 (CEST) Received: from mails.dpdk.org (localhost [127.0.0.1]) by mails.dpdk.org (Postfix) with ESMTP id 467D6402C3; Wed, 15 Oct 2025 10:42:44 +0200 (CEST) Received: from mail-vs1-f97.google.com (mail-vs1-f97.google.com [209.85.217.97]) by mails.dpdk.org (Postfix) with ESMTP id 89933402C3 for ; Wed, 15 Oct 2025 10:42:42 +0200 (CEST) Received: by mail-vs1-f97.google.com with SMTP id ada2fe7eead31-5d61f261ebfso1373242137.2 for ; Wed, 15 Oct 2025 01:42:42 -0700 (PDT) DKIM-Signature: v=1; a=rsa-sha256; c=relaxed/relaxed; d=iol.unh.edu; s=unh-iol; t=1760517762; x=1761122562; darn=dpdk.org; h=references:in-reply-to:cc:to:from:subject:message-id:date:from:to :cc:subject:date:message-id:reply-to; bh=pd7HWDFQRN9782Usf/+mzvLvNsat+5p+Yonmda7JuUI=; b=AllRhj2wK+DdrOTygbC6fnJ4+fNVWmncdp1m/pauAbPgrmOXQJ5styslHEVU4ZFuv7 8jgdC569ux92oR0kEA7URwjzcAqWhK8lLOzZ9Z1Wob816cystcLplvT4XfzBQPkWaB1M RYA9Eiy0XPQ+66YPkhjGlvNI/j1WN7bwDjB/4= X-Google-DKIM-Signature: v=1; a=rsa-sha256; c=relaxed/relaxed; d=1e100.net; s=20230601; t=1760517762; x=1761122562; h=references:in-reply-to:cc:to:from:subject:message-id:date :x-gm-message-state:from:to:cc:subject:date:message-id:reply-to; bh=pd7HWDFQRN9782Usf/+mzvLvNsat+5p+Yonmda7JuUI=; b=GAGWzpRKnbvacyPwnXeE0hqEnP234Hnr3IddqXo81B7ReQsAWy7s6KMXXAF6Mvo9AM RTB6HTbDHLIJtyULUJ5uO0yXXONWYOE1v7h+m6HLs136XzQdB6DmMQkXXRAMyLxSQlgr cCArpvZ8T0uDipTBjoV0KGtfB0Aj+j6CYhTre23zGekmu1CzJg8UdVORlwtnch5t1Zlu wsqscZdn/C1jgw964FApLeOVVtmOe8hSj6YmBhKc0QYTMNLlFuyMf5FHo4AP5geE3mNR 7fGVk1gUrZm7mKDntdTKUXBPkk77KWEOvEKcrfwGnX7UcpuGgrZ5RAgskt/nPV9DDi2R yeaQ== X-Gm-Message-State: AOJu0YxKUzzSPHj0QFMThrtY/Vd6oIqbiaWP9byjer3sLO+zA3YVQzrV 7ipU9mbTnWVaxjSyEeymI5b546EDFuUhMPx1CUY2GtPpZb5u1jmT0LgLtWAJn2s110XVVqgzaBT DgDzf7uFDEYKmVG/PATCb5+G3vVZniZwDMMUw4Bh2PO+3UhAs87zijx9+uM7V X-Gm-Gg: ASbGncu2aFKdNLpC9TtYDHvPH/D1yZ8QAI8ywjJ0zX7cdCA5cSZwWVKZEa5RxsUGtSn 3peht//BkMWnbQiY+057EkefsCKdfb8LGoWkhMPy44mI3x0LV39p6LbItm3PSHfc73EiGC519qM ukhDQKtJtsabja4c8JrmYvrpnFLf16f52JNe/8DHDGxNdPkg+SoQxvQg1uHlVuaqCD9Q2ChcFOE M3lqshTse/zZCesueANTYtwiIcZtew/vDRVB4/chEq/5w0FQCFnHDyOk2DmDrSeHUhJKW1Gju7q nk+NdteoEzCFHG5RJWyHGWDDBKCXaqHpdQDves37NyseFPvCIw== X-Google-Smtp-Source: AGHT+IEqSh7HXDOMuVCx3onOzwAyjrW4Ks7TtXapFu3M2XipU9cMjoSrScIsVUtDeTMrDK13TIhGAIhil+5d X-Received: by 2002:a05:6102:44c9:10b0:5d5:dd07:902b with SMTP id ada2fe7eead31-5d5e224f3eemr7734590137.13.1760517761893; Wed, 15 Oct 2025 01:42:41 -0700 (PDT) Received: from postal.iol.unh.edu (postal.iol.unh.edu. [2606:4100:3880:1234::84]) by smtp-relay.gmail.com with ESMTPS id ada2fe7eead31-5d5fc4d87cfsm1883842137.0.2025.10.15.01.42.41 (version=TLS1_2 cipher=ECDHE-ECDSA-AES128-GCM-SHA256 bits=128/128); Wed, 15 Oct 2025 01:42:41 -0700 (PDT) X-Relaying-Domain: iol.unh.edu Date: Wed, 15 Oct 2025 01:42:41 -0700 (PDT) Message-ID: <68ef5e81.050a0220.2f413a.c3d7SMTPIN_ADDED_MISSING@mx.google.com> Received: from [172.21.0.2] (unknown [172.18.0.240]) by postal.iol.unh.edu (Postfix) with ESMTP id 896D76051830; Wed, 15 Oct 2025 04:42:41 -0400 (EDT) Subject: |SUCCESS| pw157578-157597 [PATCH] [21/21] net/ena: upgrade driver ve From: dpdklab@iol.unh.edu To: Test Report Cc: dpdk-test-reports@iol.unh.edu In-Reply-To: <20251015071730.1286-1-shaibran@amazon.com> References: <20251015071730.1286-1-shaibran@amazon.com> Content-Type: text/plain X-BeenThere: test-report@dpdk.org X-Mailman-Version: 2.1.29 Precedence: list List-Id: automatic DPDK test reports List-Unsubscribe: , List-Archive: List-Post: List-Help: List-Subscribe: , Errors-To: test-report-bounces@dpdk.org Test-Label: iol-unit-amd64-testing Test-Status: SUCCESS http://dpdk.org/patch/157597 _Testing PASS_ Submitter: Shai Brandes Date: Wednesday, October 15 2025 07:17:30 DPDK git baseline: Repo:dpdk Branch: master CommitID:7cacb5b3f6cc89785f9383ac9544e61dc971897d 157578-157597 --> testing pass Upstream job id: Generic-VM-Unit-Test-DPDK#31802 Test environment and result as below: +-------------------------------+----------------+ | Environment | dpdk_unit_test | +===============================+================+ | CentOS Stream 9 | PASS | +-------------------------------+----------------+ | Fedora Linux 42 | PASS | +-------------------------------+----------------+ | Fedora Linux 40 | PASS | +-------------------------------+----------------+ | Debian GNU/Linux 12 | PASS | +-------------------------------+----------------+ | CentOS Stream 10 | PASS | +-------------------------------+----------------+ | Red Hat Enterprise Linux 8.10 | PASS | +-------------------------------+----------------+ | Fedora Linux 41 | PASS | +-------------------------------+----------------+ | Ubuntu 20.04 | PASS | +-------------------------------+----------------+ | Red Hat Enterprise Linux 9.5 | PASS | +-------------------------------+----------------+ | Ubuntu 22.04 | PASS | +-------------------------------+----------------+ | Ubuntu 24.04 | PASS | +-------------------------------+----------------+ | Windows Server 2022 | PASS | +-------------------------------+----------------+ CentOS Stream 9 Kernel: 5.15 Compiler: gcc gcc (GCC) 11.5.0 20240719 (Red Hat 11.5.0-11) Fedora Linux 42 Kernel: 5.15 Compiler: clang gcc (GCC) 15.2.1 20250808 (Red Hat 15.2.1-1) Fedora Linux 40 Kernel: 5.15 Compiler: gcc gcc (GCC) 14.2.1 20240912 (Red Hat 14.2.1-3) Debian GNU/Linux 12 Kernel: 5.15 Compiler: gcc gcc (Debian 12.2.0-14+deb12u1) 12.2.0 CentOS Stream 10 Kernel: 5.15 Compiler: gcc gcc (GCC) 14.2.1 20250110 (Red Hat 14.2.1-8) Red Hat Enterprise Linux 8.10 Kernel: 5.15 Compiler: gcc gcc (GCC) 8.5.0 20210514 (Red Hat 8.5.0-22) Fedora Linux 41 Kernel: 5.15 Compiler: gcc gcc (GCC) 14.3.1 20250523 (Red Hat 14.3.1-1) Ubuntu 20.04 Kernel: 5.15 Compiler: gcc gcc (Ubuntu 9.4.0-1ubuntu1~20.04.2) 9.4.0 Red Hat Enterprise Linux 9.5 Kernel: 5.15 Compiler: gcc gcc (GCC) 11.5.0 20240719 (Red Hat 11.5.0-2) Ubuntu 22.04 Kernel: 5.15 Compiler: gcc gcc (Ubuntu 11.4.0-1ubuntu1~22.04) 11.4.0 Ubuntu 24.04 Kernel: 5.15 Compiler: gcc gcc (Ubuntu 13.3.0-6ubuntu2~24.04) 13.3.0 Windows Server 2022 Kernel: 10.0.20348.2031 Compiler: clang 15.0.7, gcc 14.1.0 (MinGW), and MSVC VS 19.39.33521 To view detailed results, visit: https://lab.dpdk.org/results/dashboard/patchsets/34281/ UNH-IOL DPDK Community Lab To manage your email subscriptions, visit: https://lab.dpdk.org/results/dashboard/preferences/subscriptions/