From mboxrd@z Thu Jan 1 00:00:00 1970 Return-Path: Received: from mails.dpdk.org (mails.dpdk.org [217.70.189.124]) by inbox.dpdk.org (Postfix) with ESMTP id 71EE148941 for ; Wed, 15 Oct 2025 10:43:55 +0200 (CEST) Received: from mails.dpdk.org (localhost [127.0.0.1]) by mails.dpdk.org (Postfix) with ESMTP id 6B4F2402C3; Wed, 15 Oct 2025 10:43:55 +0200 (CEST) Received: from mail-pg1-f227.google.com (mail-pg1-f227.google.com [209.85.215.227]) by mails.dpdk.org (Postfix) with ESMTP id 53E24402C3 for ; Wed, 15 Oct 2025 10:43:54 +0200 (CEST) Received: by mail-pg1-f227.google.com with SMTP id 41be03b00d2f7-b608df6d2a0so4959303a12.1 for ; Wed, 15 Oct 2025 01:43:54 -0700 (PDT) DKIM-Signature: v=1; a=rsa-sha256; c=relaxed/relaxed; d=iol.unh.edu; s=unh-iol; t=1760517833; x=1761122633; darn=dpdk.org; h=references:in-reply-to:cc:to:from:subject:message-id:date:from:to :cc:subject:date:message-id:reply-to; bh=MW3HnRXQ08UE5Srj0FOMcmq0f1J1ne2ZBc/t4dHYSRE=; b=iX4eLYcgfyRP2UaOqajvxSMAgs2ZRdurYu0kJ6/hKHgF2aWjKHyW1b9droOn8nrTVD woP37nVUcRJV1jMJRfOF26tdutkoYs3BXEA38L7Mc/c5RXcOhltqRJQjuENDJuF+9ywU 935TjfCf6wWFwyIBKWVG2GPEE1oh9e4HHsWes= X-Google-DKIM-Signature: v=1; a=rsa-sha256; c=relaxed/relaxed; d=1e100.net; s=20230601; t=1760517833; x=1761122633; h=references:in-reply-to:cc:to:from:subject:message-id:date :x-gm-message-state:from:to:cc:subject:date:message-id:reply-to; bh=MW3HnRXQ08UE5Srj0FOMcmq0f1J1ne2ZBc/t4dHYSRE=; b=B2VHhDvMXSqzmc5vBaqJ3lv2lIxqIJUVJhCo9f9NEWBCErOSnCrO6+qggVaTq7xWUV 30nFrQ71mkMO5Wge+JNN2c1RPNdvv4JWk3xZM2oNbHl0DWcsCZbFfzRULcY8MPKMgY2a ooHcVXfmlNM5Zdsxod/spNSqryWFkC/h4K4nRc1qHxo1KvG+RP6I+loWuURk3Z4hmmXi nb0HX2vHPzMSrcfmT00yRlG5z4SF0lmYi1Pp+V/nCniI+n6jRIzYHm3kBQlh/znXxdoD SdMqMxAg1kjoCx63viTrNPSSQripwaMK9OITBghV6uFqO1HtDpLty6zw2c5uZs6lYefx evOg== X-Gm-Message-State: AOJu0Yx+tQtQ6Qi1vBN4V3nTIcBEndDgOn5v1YLvp3y0iCCwtOCrcyLJ wzIkokx0ONPWLYt1D4Zobe70OsshvUhZ+YkG1rtV0OHTGBSYZIKywz11b8W0q9IvRXDiO72k/ls 3VSa2mOZb3qo/3iKQSeYE4aQe48cLBgSvIxzrJq2cAYOqyix3bHLyJKp5lPiX X-Gm-Gg: ASbGnctr7aSoC8vRTX5MBdSkZYdPHayegsXtXPoWDwog/DYPXpDglBBQjl0nIKJ4F1d D3GAtuAyQYtltDQ0YGJZrPYWtcjAOgrBl6M1/YtTuRTuCXoD+rFilyOOwkNreEmHC7BY0mLkrTZ hulMFuHu/dwKd7ynMdtIDBtVXWgbtCDzIEEIhFC8smRXXzy/RxHEtvO1Uli7jI9n3sO/0503M6I Q22dI+wCj3+DnIf2H3U3jJxCJZ8RrQYkknnEodd6zRtAOizaNmhyKB9aWl5Q4l2JQubv5vWu7hR C50CkwO+c3QXBxGsMdM+Vwtvf6sTCbrrF12LF8x5fMISnV1SGQ== X-Google-Smtp-Source: AGHT+IH3cpAxLqrygqg7nhhcf3b/Fhh7l2P589vF5hiLdXe1uzbopbdwY9PctI151BdJzNV8JYIJD7LKcfaZ X-Received: by 2002:a17:902:e78f:b0:265:47:a7bd with SMTP id d9443c01a7336-290273565f5mr288893325ad.4.1760517833452; Wed, 15 Oct 2025 01:43:53 -0700 (PDT) Received: from postal.iol.unh.edu (postal.iol.unh.edu. [2606:4100:3880:1234::84]) by smtp-relay.gmail.com with ESMTPS id d9443c01a7336-29034e23619sm14172185ad.19.2025.10.15.01.43.53 (version=TLS1_2 cipher=ECDHE-ECDSA-AES128-GCM-SHA256 bits=128/128); Wed, 15 Oct 2025 01:43:53 -0700 (PDT) X-Relaying-Domain: iol.unh.edu Date: Wed, 15 Oct 2025 01:43:53 -0700 (PDT) Message-ID: <68ef5ec9.170a0220.10059b.53fcSMTPIN_ADDED_MISSING@mx.google.com> Received: from [172.21.0.2] (unknown [172.18.0.240]) by postal.iol.unh.edu (Postfix) with ESMTP id E84A76051830; Wed, 15 Oct 2025 04:43:52 -0400 (EDT) Subject: |SUCCESS| pw157578-157597 [PATCH] [21/21] net/ena: upgrade driver ve From: dpdklab@iol.unh.edu To: Test Report Cc: dpdk-test-reports@iol.unh.edu In-Reply-To: <20251015071730.1286-1-shaibran@amazon.com> References: <20251015071730.1286-1-shaibran@amazon.com> Content-Type: text/plain X-BeenThere: test-report@dpdk.org X-Mailman-Version: 2.1.29 Precedence: list List-Id: automatic DPDK test reports List-Unsubscribe: , List-Archive: List-Post: List-Help: List-Subscribe: , Errors-To: test-report-bounces@dpdk.org Test-Label: iol-compile-amd64-testing Test-Status: SUCCESS http://dpdk.org/patch/157597 _Testing PASS_ Submitter: Shai Brandes Date: Wednesday, October 15 2025 07:17:30 DPDK git baseline: Repo:dpdk Branch: master CommitID:7cacb5b3f6cc89785f9383ac9544e61dc971897d 157578-157597 --> testing pass Upstream job id: Windows-Compile-DPDK-Native#31632 Test environment and result as below: +-------------------------------+--------------------+-------------------+------------------+-------------------+-------------------------+----------------------+ | Environment | dpdk_meson_compile | dpdk_compile_spdk | dpdk_compile_ovs | dpdk_msvc_compile | dpdk_llvm_clang_compile | dpdk_mingw64_compile | +===============================+====================+===================+==================+===================+=========================+======================+ | CentOS Stream 9 | PASS | PASS | SKIPPED | SKIPPED | SKIPPED | SKIPPED | +-------------------------------+--------------------+-------------------+------------------+-------------------+-------------------------+----------------------+ | Debian GNU/Linux 12 | PASS | PASS | SKIPPED | SKIPPED | SKIPPED | SKIPPED | +-------------------------------+--------------------+-------------------+------------------+-------------------+-------------------------+----------------------+ | Fedora Linux 42 | PASS | PASS | PASS | SKIPPED | SKIPPED | SKIPPED | +-------------------------------+--------------------+-------------------+------------------+-------------------+-------------------------+----------------------+ | openSUSE Leap 15.6 | PASS | SKIPPED | SKIPPED | SKIPPED | SKIPPED | SKIPPED | +-------------------------------+--------------------+-------------------+------------------+-------------------+-------------------------+----------------------+ | CentOS Stream 10 | PASS | SKIPPED | SKIPPED | SKIPPED | SKIPPED | SKIPPED | +-------------------------------+--------------------+-------------------+------------------+-------------------+-------------------------+----------------------+ | Ubuntu 24.04 | PASS | PASS | PASS | SKIPPED | SKIPPED | SKIPPED | +-------------------------------+--------------------+-------------------+------------------+-------------------+-------------------------+----------------------+ | Ubuntu 20.04 | PASS | SKIPPED | SKIPPED | SKIPPED | SKIPPED | SKIPPED | +-------------------------------+--------------------+-------------------+------------------+-------------------+-------------------------+----------------------+ | Alpine Linux 3.22.0 | PASS | SKIPPED | SKIPPED | SKIPPED | SKIPPED | SKIPPED | +-------------------------------+--------------------+-------------------+------------------+-------------------+-------------------------+----------------------+ | Red Hat Enterprise Linux 9.5 | PASS | SKIPPED | SKIPPED | SKIPPED | SKIPPED | SKIPPED | +-------------------------------+--------------------+-------------------+------------------+-------------------+-------------------------+----------------------+ | Ubuntu 22.04 | PASS | PASS | SKIPPED | SKIPPED | SKIPPED | SKIPPED | +-------------------------------+--------------------+-------------------+------------------+-------------------+-------------------------+----------------------+ | Red Hat Enterprise Linux 8.10 | PASS | SKIPPED | SKIPPED | SKIPPED | SKIPPED | SKIPPED | +-------------------------------+--------------------+-------------------+------------------+-------------------+-------------------------+----------------------+ | FreeBSD 14.2 | PASS | SKIPPED | SKIPPED | SKIPPED | SKIPPED | SKIPPED | +-------------------------------+--------------------+-------------------+------------------+-------------------+-------------------------+----------------------+ | Windows Server 2022 | SKIPPED | SKIPPED | SKIPPED | PASS | PASS | PASS | +-------------------------------+--------------------+-------------------+------------------+-------------------+-------------------------+----------------------+ CentOS Stream 9 Kernel: 5.15 Compiler: gcc gcc (GCC) 11.5.0 20240719 (Red Hat 11.5.0-11) Debian GNU/Linux 12 Kernel: 5.15 Compiler: gcc gcc (Debian 12.2.0-14+deb12u1) 12.2.0 Fedora Linux 42 Kernel: 5.15 Compiler: clang gcc (GCC) 15.2.1 20250808 (Red Hat 15.2.1-1) openSUSE Leap 15.6 Kernel: 5.15 Compiler: gcc gcc (SUSE Linux) 7.5.0 CentOS Stream 10 Kernel: 5.15 Compiler: gcc gcc (GCC) 14.2.1 20250110 (Red Hat 14.2.1-8) Ubuntu 24.04 Kernel: 5.15 Compiler: gcc gcc (Ubuntu 13.3.0-6ubuntu2~24.04) 13.3.0 Ubuntu 20.04 Kernel: 4.19 Compiler: gcc gcc (Ubuntu 9.4.0-1ubuntu1~20.04.2) 9.4.0 Alpine Linux 3.22.0 Kernel: 5.15 Compiler: gcc gcc (Alpine 14.2.0) 14.2.0 Red Hat Enterprise Linux 9.5 Kernel: 5.15 Compiler: gcc gcc (GCC) 11.5.0 20240719 (Red Hat 11.5.0-2) Ubuntu 22.04 Kernel: 5.15 Compiler: gcc gcc (Ubuntu 11.4.0-1ubuntu1~22.04) 11.4.0 Red Hat Enterprise Linux 8.10 Kernel: 5.15 Compiler: gcc gcc (GCC) 8.5.0 20210514 (Red Hat 8.5.0-22) FreeBSD 14.2 Kernel: 14.2-RELEASE Compiler: clang 18.1.6 Windows Server 2022 Kernel: 10.0.20348.2031 Compiler: clang 15.0.7, gcc 14.1.0 (MinGW), and MSVC VS 19.39.33521 To view detailed results, visit: https://lab.dpdk.org/results/dashboard/patchsets/34281/ UNH-IOL DPDK Community Lab To manage your email subscriptions, visit: https://lab.dpdk.org/results/dashboard/preferences/subscriptions/