From mboxrd@z Thu Jan 1 00:00:00 1970 Return-Path: Received: from mails.dpdk.org (mails.dpdk.org [217.70.189.124]) by inbox.dpdk.org (Postfix) with ESMTP id EC35748941 for ; Wed, 15 Oct 2025 10:47:49 +0200 (CEST) Received: from mails.dpdk.org (localhost [127.0.0.1]) by mails.dpdk.org (Postfix) with ESMTP id CCDC74068A; Wed, 15 Oct 2025 10:47:49 +0200 (CEST) Received: from mail-pl1-f225.google.com (mail-pl1-f225.google.com [209.85.214.225]) by mails.dpdk.org (Postfix) with ESMTP id A2F4B402C3 for ; Wed, 15 Oct 2025 10:47:48 +0200 (CEST) Received: by mail-pl1-f225.google.com with SMTP id d9443c01a7336-2907ba47f71so17278325ad.3 for ; Wed, 15 Oct 2025 01:47:48 -0700 (PDT) DKIM-Signature: v=1; a=rsa-sha256; c=relaxed/relaxed; d=iol.unh.edu; s=unh-iol; t=1760518068; x=1761122868; darn=dpdk.org; h=references:in-reply-to:cc:to:from:subject:message-id:date:from:to :cc:subject:date:message-id:reply-to; bh=ID2XVFh+tYoJWlFajGVYaV53dX16YmE70X+cjR9kOGQ=; b=QKS1y5l67TzWquH2rO3GMvVfeNsohjWjxS6+OomaY/JYTEmLdDEa0+Z3BZuzeozdLg mFbIpxzPocYMa55lkWRpBG8u95u/BP1vKZaoVLitbFIq6r8lu01z2Oywx+bj4DWKu13P sn04AOb2VTTPM4sEMPHIAQoUwkCi38oKDUmJM= X-Google-DKIM-Signature: v=1; a=rsa-sha256; c=relaxed/relaxed; d=1e100.net; s=20230601; t=1760518068; x=1761122868; h=references:in-reply-to:cc:to:from:subject:message-id:date :x-gm-message-state:from:to:cc:subject:date:message-id:reply-to; bh=ID2XVFh+tYoJWlFajGVYaV53dX16YmE70X+cjR9kOGQ=; b=Z9txQdkXxPzhc3Xl2GU08pufmNQnHf8YXi71vYyJiqbSnTAFgR58ee4nxLavUNiGel RsL5qgjeSqZaBV9f9rOMbCD49GFQC3MgZ72exx5Khi18rV93nYR2vH5USV06Cz15k29B aEyWn2swBznBPDf2vUa1Lv7KtHrTOL4wdILP1KP3rSck+tLd8yllkCLTGGd0e0knhy54 saRfqxShr2NvihQIxP0Ji/ANFoobGuz2W5XcxLRAJCuNTQT1ZeLnSAaoxQzPmzUvSu2J FbjNUDGDaROwsOojONe4UWG4l3mTO91Zg5BqZUhPI2vSlARmhaWdiqfXl9E53CvIT495 ZqIA== X-Gm-Message-State: AOJu0Yz1fF1Jw82pDUZutzEKU9PDIAKHzzFdtixhHTf2UbiL5+sNCTYJ mxsidIoXRwi+fbYPwfSYZjHuShpfDurQee8b5sbD4xXSUCsxMbV75Rw4ohR+G/XDG45sjUIPH1Y FQ3POI4Bl5WTKC7dYUjX3BIZAx+5uqo93Ne5RtSV21DlX X-Gm-Gg: ASbGnctu3w2VXKsZ1+g+kYlAg+eAXPL+4KmvjmW0F8v+gGK9VG9BxNGDtkjelebP2fi 72Wu3I6opyLcVI/SWEUv9VN4KKK69V0Pw5UJXh5o5k+gmZKoun3LkxKtZDmYqRChSnoIyqPENy2 kZSite1BOxTzWcLLxsnjqOD55rIm/v/pfwxGIcbInwjo4Bqov5aivmOn93RXUw3XG8AOhiKLVuM 3Kxz2rkmcYCKs5b6t7YYfC3Uliu5SgpKCIenHJrompbiqr7t2Zlo07KzBVgqGeFgx5ZGWxi2Vkx 615/RtRTSz2RhOD5SakPbzmNWwh0vqfocUxcJ/ccM2OR5F/4VIKNYhZdT6SP0FYliAn0pNnL X-Google-Smtp-Source: AGHT+IFbv7myp7sTGFhjVWccHK/uEvoZYEouwvYyjAMp7H8em1e8i5s5sHWsWzJ1KGXOQZqUXb4cqshNh5w8 X-Received: by 2002:a17:902:f787:b0:278:704:d6d0 with SMTP id d9443c01a7336-29027238c2amr335720565ad.19.1760518067434; Wed, 15 Oct 2025 01:47:47 -0700 (PDT) Received: from postal.iol.unh.edu (postal.iol.unh.edu. [132.177.123.84]) by smtp-relay.gmail.com with ESMTPS id d9443c01a7336-29034f7dffdsm15861925ad.67.2025.10.15.01.47.47 (version=TLS1_2 cipher=ECDHE-ECDSA-AES128-GCM-SHA256 bits=128/128); Wed, 15 Oct 2025 01:47:47 -0700 (PDT) X-Relaying-Domain: iol.unh.edu Date: Wed, 15 Oct 2025 01:47:47 -0700 (PDT) Message-ID: <68ef5fb3.170a0220.35823e.fe55SMTPIN_ADDED_MISSING@mx.google.com> Received: from [172.21.0.2] (unknown [172.18.0.240]) by postal.iol.unh.edu (Postfix) with ESMTP id 948066051830; Wed, 15 Oct 2025 04:47:46 -0400 (EDT) Subject: |SUCCESS| pw157578-157597 [PATCH] [21/21] net/ena: upgrade driver ve From: dpdklab@iol.unh.edu To: Test Report Cc: dpdk-test-reports@iol.unh.edu In-Reply-To: <20251015071730.1286-1-shaibran@amazon.com> References: <20251015071730.1286-1-shaibran@amazon.com> Content-Type: text/plain X-BeenThere: test-report@dpdk.org X-Mailman-Version: 2.1.29 Precedence: list List-Id: automatic DPDK test reports List-Unsubscribe: , List-Archive: List-Post: List-Help: List-Subscribe: , Errors-To: test-report-bounces@dpdk.org Test-Label: iol-unit-amd64-testing Test-Status: SUCCESS http://dpdk.org/patch/157597 _Testing PASS_ Submitter: Shai Brandes Date: Wednesday, October 15 2025 07:17:30 DPDK git baseline: Repo:dpdk Branch: master CommitID:7cacb5b3f6cc89785f9383ac9544e61dc971897d 157578-157597 --> testing pass Upstream job id: Generic-VM-Unit-Test-DPDK#31803 Test environment and result as below: +-------------------------------+----------------+ | Environment | dpdk_unit_test | +===============================+================+ | CentOS Stream 9 | PASS | +-------------------------------+----------------+ | Fedora Linux 42 | PASS | +-------------------------------+----------------+ | Fedora Linux 40 | PASS | +-------------------------------+----------------+ | Debian GNU/Linux 12 | PASS | +-------------------------------+----------------+ | CentOS Stream 10 | PASS | +-------------------------------+----------------+ | Red Hat Enterprise Linux 8.10 | PASS | +-------------------------------+----------------+ | Fedora Linux 41 | PASS | +-------------------------------+----------------+ | Ubuntu 20.04 | PASS | +-------------------------------+----------------+ | Red Hat Enterprise Linux 9.5 | PASS | +-------------------------------+----------------+ | Ubuntu 22.04 | PASS | +-------------------------------+----------------+ | Ubuntu 24.04 | PASS | +-------------------------------+----------------+ | Windows Server 2022 | PASS | +-------------------------------+----------------+ CentOS Stream 9 Kernel: 5.15 Compiler: gcc gcc (GCC) 11.5.0 20240719 (Red Hat 11.5.0-11) Fedora Linux 42 Kernel: 5.15 Compiler: clang gcc (GCC) 15.2.1 20250808 (Red Hat 15.2.1-1) Fedora Linux 40 Kernel: 5.15 Compiler: gcc gcc (GCC) 14.2.1 20240912 (Red Hat 14.2.1-3) Debian GNU/Linux 12 Kernel: 5.15 Compiler: gcc gcc (Debian 12.2.0-14+deb12u1) 12.2.0 CentOS Stream 10 Kernel: 5.15 Compiler: gcc gcc (GCC) 14.2.1 20250110 (Red Hat 14.2.1-8) Red Hat Enterprise Linux 8.10 Kernel: 5.15 Compiler: gcc gcc (GCC) 8.5.0 20210514 (Red Hat 8.5.0-22) Fedora Linux 41 Kernel: 5.15 Compiler: gcc gcc (GCC) 14.3.1 20250523 (Red Hat 14.3.1-1) Ubuntu 20.04 Kernel: 5.15 Compiler: gcc gcc (Ubuntu 9.4.0-1ubuntu1~20.04.2) 9.4.0 Red Hat Enterprise Linux 9.5 Kernel: 5.15 Compiler: gcc gcc (GCC) 11.5.0 20240719 (Red Hat 11.5.0-2) Ubuntu 22.04 Kernel: 5.15 Compiler: gcc gcc (Ubuntu 11.4.0-1ubuntu1~22.04) 11.4.0 Ubuntu 24.04 Kernel: 5.15 Compiler: gcc gcc (Ubuntu 13.3.0-6ubuntu2~24.04) 13.3.0 Windows Server 2022 Kernel: 10.0.20348.2031 Compiler: clang 15.0.7, gcc 14.1.0 (MinGW), and MSVC VS 19.39.33521 To view detailed results, visit: https://lab.dpdk.org/results/dashboard/patchsets/34281/ UNH-IOL DPDK Community Lab To manage your email subscriptions, visit: https://lab.dpdk.org/results/dashboard/preferences/subscriptions/