From mboxrd@z Thu Jan 1 00:00:00 1970 Return-Path: Received: from mails.dpdk.org (mails.dpdk.org [217.70.189.124]) by inbox.dpdk.org (Postfix) with ESMTP id 137A448941 for ; Wed, 15 Oct 2025 10:49:08 +0200 (CEST) Received: from mails.dpdk.org (localhost [127.0.0.1]) by mails.dpdk.org (Postfix) with ESMTP id 0E5FB402C3; Wed, 15 Oct 2025 10:49:08 +0200 (CEST) Received: from mail-qk1-f228.google.com (mail-qk1-f228.google.com [209.85.222.228]) by mails.dpdk.org (Postfix) with ESMTP id AE522402C3 for ; Wed, 15 Oct 2025 10:49:06 +0200 (CEST) Received: by mail-qk1-f228.google.com with SMTP id af79cd13be357-8608f72582eso444915885a.2 for ; Wed, 15 Oct 2025 01:49:06 -0700 (PDT) DKIM-Signature: v=1; a=rsa-sha256; c=relaxed/relaxed; d=iol.unh.edu; s=unh-iol; t=1760518146; x=1761122946; darn=dpdk.org; h=cc:to:from:subject:message-id:date:from:to:cc:subject:date :message-id:reply-to; bh=AYc7ox+bkwAJmI5jvucMd4lnyToe3M//Zufv+jVqs6U=; b=V7fkJBu6wW3DD40G5o9O71Tfh8rn06OInB6L7lT/Vxit3xcLm9y/cPpRl3G1SuiG10 Wy4yDsjtUZiuO/C2E+ob2nE3+/vFujqvaeR9Zgd/+H3sLlZr1V0sGeJed9cXbYWbUucG on+Q4L+NwFb1G+GXkfKEdhn3xYT8kyYh1lLcE= X-Google-DKIM-Signature: v=1; a=rsa-sha256; c=relaxed/relaxed; d=1e100.net; s=20230601; t=1760518146; x=1761122946; h=cc:to:from:subject:message-id:date:x-gm-message-state:from:to:cc :subject:date:message-id:reply-to; bh=AYc7ox+bkwAJmI5jvucMd4lnyToe3M//Zufv+jVqs6U=; b=he2N3+KzOiLOwdRpZgnvF+5uKB5gh/zN2Zw4QmtHVs1w/0E7v0mbFDasVAQ/9+Uyp2 enr+H5hoBWODGMDDofNhytDb6iy+7YREdHQ8324guBROekKfQVBvxlepcx3FY3PrLJ+V p/1xZa1dBqsP8mVoKyBjKa+GO8BLr4GmZ6kunnvWXntEP5LkH5xpfuai5muuErLVj6Wo 5JNtiBF0EfiWx/kwEUysiJ6JVlkOBKEhwzcoWIAeNjk2LCrwuQMGUnJMxIj0LMaltqxQ mH+pdY9lA8boxCPwAAWDJX6WBgkUBxkwSSLBQ/IAsLFJ0i8tdKOBglQwm28ytNfSknqL iDrA== X-Gm-Message-State: AOJu0YxjNWkbEY14y9nl52d0wPt/8G5tRKXIPyvjX3XvGMYfSFq5gJbG I9DmCc5qEJs5xexdWSsRC+TgLx4NAm4i2BN4UxZ4VjMpF2iN8W2TxZns2zzuNoeHwDkprNWcBKv 1SltpyOsp+UbIG+xgZmi8GZx9DdXqVyFWcSXq X-Gm-Gg: ASbGncu1DRWVMapPXWetXewPc2Xo4FyBIN72tlkdCpNN4ReRj+QTDX6DHTbqsCCAZYh eCqAffqIGoIbK6+JE/fnOTFuDXhUfXdADjwOPGUDBqZ6qW6VDT9KmYUO2D2FE+Zv9uFFpy5Ssnm JNfALZ4BkUs/s4iTGY7OOJOhtLNGEyPBEMLPVXaqqmklR64i3J4Brb345i4ey3cWpkL0JvoObxl xqaq9XZ+2wodd5WM5cTIzuLTGmrGK1C84e6qlowkQio5UU17r7lWFRyxfWlHhRzex+NjWlNIrVi Aq3RVycZYtRU8vUKZZAPbnjsglQoNG4roNNA+by63NUaZC7n4druno0/e6AqMqOC7MBxFl1t X-Google-Smtp-Source: AGHT+IHaM4hpTKi5lIExM37kNNlU+GfMI/idZ2mHv1JQ0I7o4+zCg6ZSaDisVPSr5+ID3EqRDnUmSUijohp5 X-Received: by 2002:ac8:5e13:0:b0:4e8:8cf0:25f9 with SMTP id d75a77b69052e-4e88cf027a6mr2527521cf.41.1760518145888; Wed, 15 Oct 2025 01:49:05 -0700 (PDT) Received: from postal.iol.unh.edu (postal.iol.unh.edu. [132.177.123.84]) by smtp-relay.gmail.com with ESMTPS id 6a1803df08f44-87c01288e5esm1908506d6.21.2025.10.15.01.49.05 (version=TLS1_2 cipher=ECDHE-ECDSA-AES128-GCM-SHA256 bits=128/128); Wed, 15 Oct 2025 01:49:05 -0700 (PDT) X-Relaying-Domain: iol.unh.edu Date: Wed, 15 Oct 2025 01:49:05 -0700 (PDT) Message-ID: <68ef6001.050a0220.3167c1.99a0SMTPIN_ADDED_MISSING@mx.google.com> Received: from [172.21.0.4] (unknown [172.18.0.240]) by postal.iol.unh.edu (Postfix) with ESMTP id 9EBC66051830; Wed, 15 Oct 2025 04:49:05 -0400 (EDT) Subject: |SUCCESS| [GIT MASTER] 3b43ce3f4a54468e7ef65760c2fd7b4d6ee6d9fc From: dpdklab@iol.unh.edu To: Test Report Cc: dpdk-test-reports@iol.unh.edu, Xueming Li , Christian Ehrhardt , Kevin Traynor , Luca Boccassi Content-Type: text/plain X-BeenThere: test-report@dpdk.org X-Mailman-Version: 2.1.29 Precedence: list List-Id: automatic DPDK test reports List-Unsubscribe: , List-Archive: List-Post: List-Help: List-Subscribe: , Errors-To: test-report-bounces@dpdk.org _Testing PASS_ Branch: tags/v22.11 3b43ce3f4a54468e7ef65760c2fd7b4d6ee6d9fc --> testing pass Upstream job id: Generic-DPDK-Compile-Meson#434318 Test environment and result as below: +------------------------------+--------------------+ | Environment | dpdk_meson_compile | +==============================+====================+ | Red Hat Enterprise Linux 9.5 | PASS | +------------------------------+--------------------+ | Ubuntu 20.04 | PASS | +------------------------------+--------------------+ | Ubuntu 22.04 | PASS | +------------------------------+--------------------+ | Debian GNU/Linux 12 | PASS | +------------------------------+--------------------+ | Fedora Linux 42 | PASS | +------------------------------+--------------------+ | Ubuntu 24.04 | PASS | +------------------------------+--------------------+ | CentOS Stream 9 | PASS | +------------------------------+--------------------+ | CentOS Stream 10 | PASS | +------------------------------+--------------------+ Red Hat Enterprise Linux 9.5 Kernel: 5.4 Compiler: gcc gcc (GCC) 11.5.0 20240719 (Red Hat 11.5.0-2) Ubuntu 20.04 Kernel: 5.15 Compiler: aarch64-linux-gnu-gcc gcc (Ubuntu 9.4.0-1ubuntu1~20.04.2) 9.4.0 Ubuntu 22.04 Kernel: 5.4 Compiler: gcc gcc (Ubuntu 11.4.0-1ubuntu1~22.04) 11.4.0 Debian GNU/Linux 12 Kernel: 5.4 Compiler: gcc gcc (Debian 12.2.0-14+deb12u1) 12.2.0 Fedora Linux 42 Kernel: 5.4 Compiler: clang gcc (GCC) 15.2.1 20250808 (Red Hat 15.2.1-1) Ubuntu 24.04 Kernel: 5.4 Compiler: gcc gcc (Ubuntu 13.3.0-6ubuntu2~24.04) 13.3.0 CentOS Stream 9 Kernel: 5.4 Compiler: gcc gcc (GCC) 11.5.0 20240719 (Red Hat 11.5.0-11) CentOS Stream 10 Kernel: 5.4 Compiler: gcc gcc (GCC) 14.2.1 20250110 (Red Hat 14.2.1-8) To view detailed results, visit: https://lab.dpdk.org/results/dashboard/tarballs/35211/ UNH-IOL DPDK Community Lab To manage your email subscriptions, visit: https://lab.dpdk.org/results/dashboard/preferences/subscriptions/