From mboxrd@z Thu Jan 1 00:00:00 1970 Return-Path: Received: from mails.dpdk.org (mails.dpdk.org [217.70.189.124]) by inbox.dpdk.org (Postfix) with ESMTP id 1EE9748941 for ; Wed, 15 Oct 2025 10:49:18 +0200 (CEST) Received: from mails.dpdk.org (localhost [127.0.0.1]) by mails.dpdk.org (Postfix) with ESMTP id 1AC55402C3; Wed, 15 Oct 2025 10:49:18 +0200 (CEST) Received: from mail-il1-f227.google.com (mail-il1-f227.google.com [209.85.166.227]) by mails.dpdk.org (Postfix) with ESMTP id 2CB9A402C3 for ; Wed, 15 Oct 2025 10:49:16 +0200 (CEST) Received: by mail-il1-f227.google.com with SMTP id e9e14a558f8ab-42f91f09a6aso23986595ab.1 for ; Wed, 15 Oct 2025 01:49:16 -0700 (PDT) DKIM-Signature: v=1; a=rsa-sha256; c=relaxed/relaxed; d=iol.unh.edu; s=unh-iol; t=1760518155; x=1761122955; darn=dpdk.org; h=cc:to:from:subject:message-id:date:from:to:cc:subject:date :message-id:reply-to; bh=IGnnhb45kJN7+6pqfhzoSElA8s/Ug/4TAAyrCetEjdQ=; b=ISykD4s8YAPYduosM1mzPsh3SE/bLHPmO8hS7nSrimr/EfsgqAQDQkF6oH33av2p/y 0bBTXFKmHXe4tPOTkpTRdNWCkAWuGNHl5GqDc826LSz2fmBZ7lYZQ6agcmzL1NlpKF4j unb2QGaPfRp5uzMzKTkDcMgPZo4ddK3ovr6D4= X-Google-DKIM-Signature: v=1; a=rsa-sha256; c=relaxed/relaxed; d=1e100.net; s=20230601; t=1760518155; x=1761122955; h=cc:to:from:subject:message-id:date:x-gm-message-state:from:to:cc :subject:date:message-id:reply-to; bh=IGnnhb45kJN7+6pqfhzoSElA8s/Ug/4TAAyrCetEjdQ=; b=TSPWqH4f8bqucLKcEHaR+KazRH/ZNKjqUhTIKLlvA5HKW/ES7A28whmGuXmxRLQx+A v3gPntOyalpN5cENl6XRGiBuJH2QPz7jzPodFkDc+nI5ek3zD10iajwpkjykWhlIgr0i 7ccNHDQ4wpYQrqzuYY79tE69ribI4szJwz4ngei96lKgN4XuoVNNztpYeKHfbYTXUsS5 wMgoRknDKSoDZFh1Ugb2JB09VnIfzm8e5OMD/eNoeFB9pryIQSiikFWn8ecISgwYRzPv PVy1R5i00rtdQSeKGng9RGCzr2DKy0qElLQCYp9BcDpAlVPRgbip41UnxspAPY17NSBq NI9g== X-Gm-Message-State: AOJu0Ywzv5H2W97KnkZ5D8AvB/p95FWm2gS/TqKNc0Lq7ZpeuUq6hhYe B4+9nsakj5GLwuhfI4mGkclopjc52cMmZ/G2jMgZrZTL0X7BwFvNDCunbOk/Lj/XEvjiDmBa1UM AFK3FED2caE5dmZG753THJ9UGXsk1YD09GhLCx6mqzWmtIbBvaqYv X-Gm-Gg: ASbGncuX7c7pSkZ0aaCYdFBdnwZBuupjBQleQXDCa/IqVaxsnKOpLRH14iB2XOg3yH7 QWU5vMFzmX6ZxaQQP/Mff3sHIpseKC7I4ioooJpFaqRQ7Liqey54+zIqPbMyx+Goq1zP8Mvetkc m80yPWe3z4T6fGrzQa/7lxX3yHu/IO47AwsaDRmrM99HeOgpY0t4jNjpf8yZOCXlTkf5HIU3Mcr a/zcViNWb79T0IqSQBnJUi3D3r2quobo1gJ0zPtpQjOGCVf0B3AGZNuHqQYiIX32CtKFJci9i10 1IUopawZlpzMWhuUkzzeXWr9UMNz4c6DCJxvpqG+DGr5JTT8bQ== X-Google-Smtp-Source: AGHT+IEo/vsCSygXjZg3+i7linO6cWWxvEyYOcbOU7kMkYevnp7XbPVL28gtmxcaBC2d4ZI5Bn9RDxhqUjjF X-Received: by 2002:a05:6e02:1a01:b0:42e:d74:7260 with SMTP id e9e14a558f8ab-42f8743c075mr310651555ab.29.1760518155367; Wed, 15 Oct 2025 01:49:15 -0700 (PDT) Received: from postal.iol.unh.edu (postal.iol.unh.edu. [2606:4100:3880:1234::84]) by smtp-relay.gmail.com with ESMTPS id e9e14a558f8ab-430ab987dfdsm1474825ab.21.2025.10.15.01.49.15 (version=TLS1_2 cipher=ECDHE-ECDSA-AES128-GCM-SHA256 bits=128/128); Wed, 15 Oct 2025 01:49:15 -0700 (PDT) X-Relaying-Domain: iol.unh.edu Date: Wed, 15 Oct 2025 01:49:15 -0700 (PDT) Message-ID: <68ef600b.050a0220.1b40a.755dSMTPIN_ADDED_MISSING@mx.google.com> Received: from [172.21.0.2] (unknown [172.18.0.240]) by postal.iol.unh.edu (Postfix) with ESMTP id EC8C46051830; Wed, 15 Oct 2025 04:49:14 -0400 (EDT) Subject: |SUCCESS| [GIT MASTER] 3b43ce3f4a54468e7ef65760c2fd7b4d6ee6d9fc From: dpdklab@iol.unh.edu To: Test Report Cc: dpdk-test-reports@iol.unh.edu, Xueming Li , Christian Ehrhardt , Kevin Traynor , Luca Boccassi Content-Type: text/plain X-BeenThere: test-report@dpdk.org X-Mailman-Version: 2.1.29 Precedence: list List-Id: automatic DPDK test reports List-Unsubscribe: , List-Archive: List-Post: List-Help: List-Subscribe: , Errors-To: test-report-bounces@dpdk.org _Testing PASS_ Branch: tags/v22.11 3b43ce3f4a54468e7ef65760c2fd7b4d6ee6d9fc --> testing pass Upstream job id: Generic-DPDK-Compile-Meson#434321 Test environment and result as below: +------------------------------+--------------------+ | Environment | dpdk_meson_compile | +==============================+====================+ | Red Hat Enterprise Linux 9.5 | PASS | +------------------------------+--------------------+ | Ubuntu 20.04 | PASS | +------------------------------+--------------------+ | Ubuntu 22.04 | PASS | +------------------------------+--------------------+ | Debian GNU/Linux 12 | PASS | +------------------------------+--------------------+ | Fedora Linux 42 | PASS | +------------------------------+--------------------+ | Ubuntu 24.04 | PASS | +------------------------------+--------------------+ | CentOS Stream 9 | PASS | +------------------------------+--------------------+ | CentOS Stream 10 | PASS | +------------------------------+--------------------+ Red Hat Enterprise Linux 9.5 Kernel: 5.4 Compiler: gcc gcc (GCC) 11.5.0 20240719 (Red Hat 11.5.0-2) Ubuntu 20.04 Kernel: 5.15 Compiler: aarch64-linux-gnu-gcc gcc (Ubuntu 9.4.0-1ubuntu1~20.04.2) 9.4.0 Ubuntu 22.04 Kernel: 5.4 Compiler: gcc gcc (Ubuntu 11.4.0-1ubuntu1~22.04) 11.4.0 Debian GNU/Linux 12 Kernel: 5.4 Compiler: gcc gcc (Debian 12.2.0-14+deb12u1) 12.2.0 Fedora Linux 42 Kernel: 5.4 Compiler: clang gcc (GCC) 15.2.1 20250808 (Red Hat 15.2.1-1) Ubuntu 24.04 Kernel: 5.4 Compiler: gcc gcc (Ubuntu 13.3.0-6ubuntu2~24.04) 13.3.0 CentOS Stream 9 Kernel: 5.4 Compiler: gcc gcc (GCC) 11.5.0 20240719 (Red Hat 11.5.0-11) CentOS Stream 10 Kernel: 5.4 Compiler: gcc gcc (GCC) 14.2.1 20250110 (Red Hat 14.2.1-8) To view detailed results, visit: https://lab.dpdk.org/results/dashboard/tarballs/35211/ UNH-IOL DPDK Community Lab To manage your email subscriptions, visit: https://lab.dpdk.org/results/dashboard/preferences/subscriptions/