From mboxrd@z Thu Jan 1 00:00:00 1970 Return-Path: Received: from mails.dpdk.org (mails.dpdk.org [217.70.189.124]) by inbox.dpdk.org (Postfix) with ESMTP id 5471348941 for ; Wed, 15 Oct 2025 10:51:01 +0200 (CEST) Received: from mails.dpdk.org (localhost [127.0.0.1]) by mails.dpdk.org (Postfix) with ESMTP id 45A69402C3; Wed, 15 Oct 2025 10:51:01 +0200 (CEST) Received: from mail-pl1-f225.google.com (mail-pl1-f225.google.com [209.85.214.225]) by mails.dpdk.org (Postfix) with ESMTP id B93C5402C3 for ; Wed, 15 Oct 2025 10:50:59 +0200 (CEST) Received: by mail-pl1-f225.google.com with SMTP id d9443c01a7336-26c209802c0so62658125ad.0 for ; Wed, 15 Oct 2025 01:50:59 -0700 (PDT) DKIM-Signature: v=1; a=rsa-sha256; c=relaxed/relaxed; d=iol.unh.edu; s=unh-iol; t=1760518259; x=1761123059; darn=dpdk.org; h=cc:to:from:subject:message-id:date:from:to:cc:subject:date :message-id:reply-to; bh=cf9oRi+lhUkjk8pnQMl8RoUURlIsVz5V2z0oqSnPp5M=; b=SkhpuQs6sUMFSdWzam/0x3un4hcpLwkm1pFzz/yh8OeM7eGVRp477jcEAwFKW3M8CX 6eBS3e+AP5kUACsDy5tMsDDzdSn1YkTLOYNzREbvBi6AsWcz4FrBIkY8cAE43hRZIh5Q OPkQtCbgHXON/ZT5+OnKpP7AJm9OKgXya1/qg= X-Google-DKIM-Signature: v=1; a=rsa-sha256; c=relaxed/relaxed; d=1e100.net; s=20230601; t=1760518259; x=1761123059; h=cc:to:from:subject:message-id:date:x-gm-message-state:from:to:cc :subject:date:message-id:reply-to; bh=cf9oRi+lhUkjk8pnQMl8RoUURlIsVz5V2z0oqSnPp5M=; b=fE6bU079XSgLblHFY6ccI2604ZWZ1utcOmAjrn5nHAU5CVX2PcBzrCjwJ9Kluqb1a3 s3phJ3oUcUBcLsi50cNrLXJL1LB4wRbk6P+pSzdOA6NkB8WZNZgREf1bJn1OOfXcSyWG hOWY+8MatRbr9o2XW6QEJu/otKoOS6BIcMkEcAX8G3o9erAPm3oXCgWygOdK/vCH/0jA PNvfx7CgSx77XTVzEVsieqLmZbr0npv3BujiyHEW1MHCf6CFh1MiLO3mOMHx89zEySKR Tg9kwdBvECH+FVbw9h+IgxsFPPOumi/10KKK6OOBR6PqxjxB3NcaL9VnDbKSgnoRJREg yhkg== X-Gm-Message-State: AOJu0YyKqkZmhIqu8TDcCVF7gx3+oN3wYe6kFpoSABOq0Hp+Zao56Qrg NxECJRlNiIU4av6yEn7YWVYbxZs9Y2zapd2vN/wM/ZDZPTzUQS7Mp2uPaeF3e9m5KVEfZrasVf6 Y7m1dYKkOSI1iiMOEZW5a5xc+HH/dIlYIFSi9 X-Gm-Gg: ASbGnct4I1V8DDRYJWfS7bB7zu9lNA+0uU800/GPWnxEznzdvjDu+aMNYdnEvJgXlQA Nw9BZMS2oCGUqqCRGF/JwhzyYu+CHktF2/RrLpW+0ecXl/aH+4BbSK3i2KOIHP4jDEGnNToMFep BTTQPOsHi2daiUrTs1H3ivrWh1HSMyRuV75IxBfzjZJcfm+6yhyyTBHKRHW8XqIpL3yxBE9x9En HoKeMUJ4BhcI2iy7iAouRRaD7pOkA6awHHAsrKEGAQmEEAucEVoNb+R1CkvU0LJCAyprGDGyLVF BBn9wgyWk/O/YVBq/yKdEut+irxDfJf5XVOEuBnt3SmHk7g7eAqG4S0ZUR/B6aeWeDygySYu X-Google-Smtp-Source: AGHT+IFBcv/UjhvGM9Pa4syxtWwAnZE81SCAd+0qBpoxIsFHy06Au1N+HuCmQddIJd121gsHgplZIhEr4nPB X-Received: by 2002:a17:903:4b50:b0:246:a543:199 with SMTP id d9443c01a7336-2902741e471mr367725825ad.54.1760518258825; Wed, 15 Oct 2025 01:50:58 -0700 (PDT) Received: from postal.iol.unh.edu (postal.iol.unh.edu. [132.177.123.84]) by smtp-relay.gmail.com with ESMTPS id d9443c01a7336-29034eec515sm16025905ad.44.2025.10.15.01.50.58 (version=TLS1_2 cipher=ECDHE-ECDSA-AES128-GCM-SHA256 bits=128/128); Wed, 15 Oct 2025 01:50:58 -0700 (PDT) X-Relaying-Domain: iol.unh.edu Date: Wed, 15 Oct 2025 01:50:58 -0700 (PDT) Message-ID: <68ef6072.170a0220.39a2cf.ed64SMTPIN_ADDED_MISSING@mx.google.com> Received: from [172.21.0.2] (unknown [172.18.0.240]) by postal.iol.unh.edu (Postfix) with ESMTP id 1A2026051830; Wed, 15 Oct 2025 04:50:58 -0400 (EDT) Subject: |SUCCESS| [GIT MASTER] b287e404643aeab5bb5db084c142789df187844e From: dpdklab@iol.unh.edu To: Test Report Cc: dpdk-test-reports@iol.unh.edu, Xueming Li , Christian Ehrhardt , Kevin Traynor , Luca Boccassi Content-Type: text/plain X-BeenThere: test-report@dpdk.org X-Mailman-Version: 2.1.29 Precedence: list List-Id: automatic DPDK test reports List-Unsubscribe: , List-Archive: List-Post: List-Help: List-Subscribe: , Errors-To: test-report-bounces@dpdk.org _Testing PASS_ Branch: tags/v24.11 b287e404643aeab5bb5db084c142789df187844e --> testing pass Upstream job id: Generic-DPDK-Compile-Meson#434344 Test environment and result as below: +------------------------------+--------------------+ | Environment | dpdk_meson_compile | +==============================+====================+ | Red Hat Enterprise Linux 9.5 | PASS | +------------------------------+--------------------+ | Ubuntu 20.04 | PASS | +------------------------------+--------------------+ | Debian GNU/Linux 12 | PASS | +------------------------------+--------------------+ | Fedora Linux 42 | PASS | +------------------------------+--------------------+ | Ubuntu 22.04 | PASS | +------------------------------+--------------------+ | Ubuntu 24.04 | PASS | +------------------------------+--------------------+ | CentOS Stream 9 | PASS | +------------------------------+--------------------+ | CentOS Stream 10 | PASS | +------------------------------+--------------------+ Red Hat Enterprise Linux 9.5 Kernel: 5.4 Compiler: gcc gcc (GCC) 11.5.0 20240719 (Red Hat 11.5.0-2) Ubuntu 20.04 Kernel: 5.15 Compiler: aarch64-linux-gnu-gcc gcc (Ubuntu 9.4.0-1ubuntu1~20.04.2) 9.4.0 Debian GNU/Linux 12 Kernel: 5.4 Compiler: gcc gcc (Debian 12.2.0-14+deb12u1) 12.2.0 Fedora Linux 42 Kernel: 5.4 Compiler: gcc gcc (GCC) 15.2.1 20250808 (Red Hat 15.2.1-1) Ubuntu 22.04 Kernel: 5.4 Compiler: gcc gcc (Ubuntu 11.4.0-1ubuntu1~22.04) 11.4.0 Ubuntu 24.04 Kernel: 5.4 Compiler: gcc gcc (Ubuntu 13.3.0-6ubuntu2~24.04) 13.3.0 CentOS Stream 9 Kernel: 5.4 Compiler: gcc gcc (GCC) 11.5.0 20240719 (Red Hat 11.5.0-11) CentOS Stream 10 Kernel: 5.4 Compiler: gcc gcc (GCC) 14.2.1 20250110 (Red Hat 14.2.1-8) To view detailed results, visit: https://lab.dpdk.org/results/dashboard/tarballs/35210/ UNH-IOL DPDK Community Lab To manage your email subscriptions, visit: https://lab.dpdk.org/results/dashboard/preferences/subscriptions/