From mboxrd@z Thu Jan 1 00:00:00 1970 Return-Path: Received: from mails.dpdk.org (mails.dpdk.org [217.70.189.124]) by inbox.dpdk.org (Postfix) with ESMTP id EF88B48941 for ; Wed, 15 Oct 2025 11:21:30 +0200 (CEST) Received: from mails.dpdk.org (localhost [127.0.0.1]) by mails.dpdk.org (Postfix) with ESMTP id D3A38402AB; Wed, 15 Oct 2025 11:21:30 +0200 (CEST) Received: from mail-io1-f99.google.com (mail-io1-f99.google.com [209.85.166.99]) by mails.dpdk.org (Postfix) with ESMTP id 94398402AB for ; Wed, 15 Oct 2025 11:21:29 +0200 (CEST) Received: by mail-io1-f99.google.com with SMTP id ca18e2360f4ac-93bccd4901aso611377239f.2 for ; Wed, 15 Oct 2025 02:21:29 -0700 (PDT) DKIM-Signature: v=1; a=rsa-sha256; c=relaxed/relaxed; d=iol.unh.edu; s=unh-iol; t=1760520089; x=1761124889; darn=dpdk.org; h=cc:to:from:subject:message-id:date:from:to:cc:subject:date :message-id:reply-to; bh=3Pwyip+Xz2OyoNNvfGml2apZnPe2m9ox7CSXHgq7avg=; b=QYq/YH1M6D7uFfujWfJqgIk+EQKol9sSC4YV6pXYhenW5pj5p2V9Q1T8y2BvMPa81V 9fgjSv2P45ObNuEJBY9v/Z/ZvdndfJJVURgHa7KH4k5kF7C55ZVMdoevdHbRto+28qED UQnLXGrqh63Y1QEx4TF+OkJXFszU+ttzrEA2M= X-Google-DKIM-Signature: v=1; a=rsa-sha256; c=relaxed/relaxed; d=1e100.net; s=20230601; t=1760520089; x=1761124889; h=cc:to:from:subject:message-id:date:x-gm-message-state:from:to:cc :subject:date:message-id:reply-to; bh=3Pwyip+Xz2OyoNNvfGml2apZnPe2m9ox7CSXHgq7avg=; b=XNYkumyC20BQi5yeV34UvbnBs0gnyIlOFMB0gGtJktt+qGETcFHnsF5iQx2SzBn2NP ZNyb0PgvS12KCCL0F7u79nLAf4r8df8F+chlwWScNb1lJsu9Qtv+TCjUF51QkWHciNN0 nw+oq02y7nsklqW04OTU0k3BXBvoXJ3VR9k8gL4LvmnF6uyE5wJ0aNJg1L5SaVXb0iWZ YcSevw4p/w2O+UxXPQ+Z0GGcxOX69c4qse6nWvh3CvSqz0S3C59ygjGXb4ya2KtNls3s Ht+42U5RhGKGK3IKBtMMkIl/pETepNE9k/xaqrQgZCEUZOxw7a9goDN8m7Aof7QEJPMj E0QA== X-Gm-Message-State: AOJu0Yy75I272P9kJ4SY1peI+DMknfA5d6RcGu+XXQoMNGg94vsuVvzc 78K8TBNAhzS8xoQxqrjEQdYlHic2RIEVO/Kr95ABV2mE9aPqEyxcTSvNXxaQ7FOteEdkqKVHmL7 ehJix0ItdVIm4ag6d9voz1EMhd4ZvgxALBptH4mItz7/X/UJyleSB X-Gm-Gg: ASbGncuHIhnQ0fqU1Wkd+yOM2mbsQHvOnaIirYpQ/inMDwHkNFISumT57Oq16RLUW/4 bQRsTMTUSnU6kI1epxdyvrq/P+yR6AJ5eM9G2BFzp237oEXGBatJZxXV0JPlvVudS1AbNmzWkpk vxKm29hzyRaVf97PujR7t1pc11I7RRAhRR4lDt1+68GyJrj/kBpt7OE1UnSQI3HFDKFfl8gC+u7 tpIYSxp/GuTVYmOtWj+hUI11H6OHV+xZp6clBL2eBX1ZwBAYJ1tCLpimHg/McMQOANklV7NBnGi hHqaikP5OA99cJ7HdTMnW6vgNQYXzkdhS7VdtVSG+woL7AA0Cg== X-Google-Smtp-Source: AGHT+IE3Co0b8HsS5OC4r1bGK3RpAsm5Hva5FplrHYQN+TSPHIalLVn1horD9rWiVk/4VUmFzgncZW5AMgPJ X-Received: by 2002:a05:6e02:2149:b0:430:ac49:b3b1 with SMTP id e9e14a558f8ab-430ac49b42cmr25705175ab.12.1760520088893; Wed, 15 Oct 2025 02:21:28 -0700 (PDT) Received: from postal.iol.unh.edu (postal.iol.unh.edu. [2606:4100:3880:1234::84]) by smtp-relay.gmail.com with ESMTPS id 8926c6da1cb9f-58f6daf6255sm1233318173.19.2025.10.15.02.21.28 (version=TLS1_2 cipher=ECDHE-ECDSA-AES128-GCM-SHA256 bits=128/128); Wed, 15 Oct 2025 02:21:28 -0700 (PDT) X-Relaying-Domain: iol.unh.edu Date: Wed, 15 Oct 2025 02:21:28 -0700 (PDT) Message-ID: <68ef6798.050a0220.5cba2.c873SMTPIN_ADDED_MISSING@mx.google.com> Received: from [172.21.0.2] (unknown [172.18.0.240]) by postal.iol.unh.edu (Postfix) with ESMTP id 668886051830; Wed, 15 Oct 2025 05:21:28 -0400 (EDT) Subject: |SUCCESS| [GIT MASTER] 3b43ce3f4a54468e7ef65760c2fd7b4d6ee6d9fc From: dpdklab@iol.unh.edu To: Test Report Cc: dpdk-test-reports@iol.unh.edu, Xueming Li , Christian Ehrhardt , Kevin Traynor , Luca Boccassi Content-Type: text/plain X-BeenThere: test-report@dpdk.org X-Mailman-Version: 2.1.29 Precedence: list List-Id: automatic DPDK test reports List-Unsubscribe: , List-Archive: List-Post: List-Help: List-Subscribe: , Errors-To: test-report-bounces@dpdk.org _Testing PASS_ Branch: tags/v22.11 3b43ce3f4a54468e7ef65760c2fd7b4d6ee6d9fc --> testing pass Upstream job id: Generic-Unit-Test-DPDK#381466 Test environment and result as below: +-----------------+------------------------------+---------------------------+--------------+----------------+ | Environment | cryptodev_sw_snow3g_autotest | cryptodev_sw_zuc_autotest | lpm_autotest | dpdk_unit_test | +=================+==============================+===========================+==============+================+ | Debian 12 (arm) | PASS | PASS | SKIPPED | SKIPPED | +-----------------+------------------------------+---------------------------+--------------+----------------+ | Ubuntu 20.04 | SKIPPED | SKIPPED | PASS | SKIPPED | +-----------------+------------------------------+---------------------------+--------------+----------------+ | Ubuntu 22.04 | SKIPPED | SKIPPED | SKIPPED | PASS | +-----------------+------------------------------+---------------------------+--------------+----------------+ Debian 12 (arm) Kernel: Depends on container host Compiler: gcc (Debian 12.2.0-14) 12.2.0 Ubuntu 20.04 Kernel: 5.4 Compiler: gcc gcc (Ubuntu 9.4.0-1ubuntu1~20.04.2) 9.4.0 Ubuntu 22.04 Kernel: 5.15 Compiler: gcc gcc (Ubuntu 11.4.0-1ubuntu1~22.04.2) 11.4.0 To view detailed results, visit: https://lab.dpdk.org/results/dashboard/tarballs/35211/ UNH-IOL DPDK Community Lab To manage your email subscriptions, visit: https://lab.dpdk.org/results/dashboard/preferences/subscriptions/