From mboxrd@z Thu Jan 1 00:00:00 1970 Return-Path: Received: from mails.dpdk.org (mails.dpdk.org [217.70.189.124]) by inbox.dpdk.org (Postfix) with ESMTP id F126548941 for ; Wed, 15 Oct 2025 11:31:46 +0200 (CEST) Received: from mails.dpdk.org (localhost [127.0.0.1]) by mails.dpdk.org (Postfix) with ESMTP id D9AF9402AB; Wed, 15 Oct 2025 11:31:46 +0200 (CEST) Received: from mail-qk1-f226.google.com (mail-qk1-f226.google.com [209.85.222.226]) by mails.dpdk.org (Postfix) with ESMTP id 74031402AB for ; Wed, 15 Oct 2025 11:31:45 +0200 (CEST) Received: by mail-qk1-f226.google.com with SMTP id af79cd13be357-87a0801ba1aso165433485a.2 for ; Wed, 15 Oct 2025 02:31:45 -0700 (PDT) DKIM-Signature: v=1; a=rsa-sha256; c=relaxed/relaxed; d=iol.unh.edu; s=unh-iol; t=1760520705; x=1761125505; darn=dpdk.org; h=cc:to:from:subject:message-id:date:from:to:cc:subject:date :message-id:reply-to; bh=U/gUYn6+SLw79pqeGp9vBHMCWLpHJ7gS2LqS9YzLM54=; b=gDO131WnlGk1lqn4rWjkVX6gufXHHa7xz2o0MUThVRKvtU27pelJlrD2eNIz3Z2lHK Cy4amhePdwm/EBu3ybnnIWc3cjJk7twhltBA2iMqQVUK/f46uSHOaXxqG8OcxXrFyrmT F9tUjTQG8MSaqZlsjNI7u4jZpYFC352ghEoBc= X-Google-DKIM-Signature: v=1; a=rsa-sha256; c=relaxed/relaxed; d=1e100.net; s=20230601; t=1760520705; x=1761125505; h=cc:to:from:subject:message-id:date:x-gm-message-state:from:to:cc :subject:date:message-id:reply-to; bh=U/gUYn6+SLw79pqeGp9vBHMCWLpHJ7gS2LqS9YzLM54=; b=Yh5Nw4MINAEOSAXpSgWV4LKzb1IQF3mO3W8aiWM+v+kjt1pbljG00L5Y8fGaWmSlV3 NiXham7iiAwK+MP6SMoSd988jQ3px4TQ+aMScSkq4oecp+CBJaalC9KuNltvH+lHpEYa rwXC5HXNKBW3RfIKwh1OXoMUsM66GjebA+lka9lmtWvuOVQ+vrwVF9s/+OhoyRBIDFgC FeM2umqX7uRFKqx7eIbDlBSpBe9tchru8qid26+q5RW5XuimbXoIjbZM8+mETIKsHswb DpFYZsqsZqimcA7ryXloqiezVkVAQ3T1gpjb/t9s+srEuh3E8gYnvfqORwacbgSX10Rc bT5g== X-Gm-Message-State: AOJu0YzZiueKtGVu14OMhHQena91HOhhyO94cMcO2692/C+WhpGkDw+A XQ1xV2VwSg+HWNrZwvz+FoNe39nT3K5Ya7/OmMlko0ryubLGHwuROonuBdMWmpfaM5IXT77JIm3 ny9+crkKF3ZbmdFUOjJKxP/WGfzGvny0az0Jl X-Gm-Gg: ASbGnctX3sh9gNQRx4Ow+f2vQ+SCGj1Pc/5yhFWTJv1BsEsqHt2vXes51y1/1oVtIK0 s0m712Tf84WpptP5afO4xcPBqvWinTbUXpyvOCNeDXKaMifsULweLAqQsCNKvCy88z5DuhY4yTQ cTV2V8+IXeVVDm1FPEe86V+Sjne19BbqDV3yPBn+DHw1xB91XqzvgooznGnEBsfDGtHRx63K8Qj T4EfNnVBqiuaqnRV+5VwNq37819/TRNxFtf+iIAEg735ypS9uRyov5GZd5TOuhuuJor6lqPsljQ 8XLWeR3UHHBrcwOUbxUG9ZS/KFOurNAq+WsdRKSb4a7pJwBHbz0ND457XPJLkNyDR2dLK/Hn X-Google-Smtp-Source: AGHT+IF+LA/vOWp6KFBC8NExuCqlfOsPVVgt5ozGThLvnllQQCFjsNXVkPhg/Tnxz1ZARj8E/3aOI0yuwxp9 X-Received: by 2002:a05:620a:404c:b0:808:f529:af4 with SMTP id af79cd13be357-883527b564bmr3775908385a.59.1760520704567; Wed, 15 Oct 2025 02:31:44 -0700 (PDT) Received: from postal.iol.unh.edu (postal.iol.unh.edu. [132.177.123.84]) by smtp-relay.gmail.com with ESMTPS id af79cd13be357-884a100f39asm132061485a.4.2025.10.15.02.31.44 (version=TLS1_2 cipher=ECDHE-ECDSA-AES128-GCM-SHA256 bits=128/128); Wed, 15 Oct 2025 02:31:44 -0700 (PDT) X-Relaying-Domain: iol.unh.edu Date: Wed, 15 Oct 2025 02:31:44 -0700 (PDT) Message-ID: <68ef6a00.050a0220.13292c.147eSMTPIN_ADDED_MISSING@mx.google.com> Received: from [172.21.0.2] (unknown [172.18.0.240]) by postal.iol.unh.edu (Postfix) with ESMTP id 41F7A6051830; Wed, 15 Oct 2025 05:31:44 -0400 (EDT) Subject: |WARNING| [GIT MASTER] 62f583c49bf67dd4d6733ece14e55fe6839e66d1 From: dpdklab@iol.unh.edu To: Test Report Cc: dpdk-test-reports@iol.unh.edu, Xueming Li , Christian Ehrhardt , Kevin Traynor , Luca Boccassi Content-Type: text/plain X-BeenThere: test-report@dpdk.org X-Mailman-Version: 2.1.29 Precedence: list List-Id: automatic DPDK test reports List-Unsubscribe: , List-Archive: List-Post: List-Help: List-Subscribe: , Errors-To: test-report-bounces@dpdk.org _Testing issues_ Branch: tags/v23.11 62f583c49bf67dd4d6733ece14e55fe6839e66d1 --> testing issues Upstream job id: Generic-Unit-Test-DPDK#381444 Test environment and result as below: +------------------------------+--------------+---------------------------+------------------------------+----------------+ | Environment | lpm_autotest | cryptodev_sw_zuc_autotest | cryptodev_sw_snow3g_autotest | dpdk_unit_test | +==============================+==============+===========================+==============================+================+ | Ubuntu 20.04 | PASS | SKIPPED | SKIPPED | PASS | +------------------------------+--------------+---------------------------+------------------------------+----------------+ | Debian 12 (arm) | SKIPPED | PASS | PASS | SKIPPED | +------------------------------+--------------+---------------------------+------------------------------+----------------+ | CentOS Stream 9 | SKIPPED | SKIPPED | SKIPPED | PASS | +------------------------------+--------------+---------------------------+------------------------------+----------------+ | Fedora Linux 40 | SKIPPED | SKIPPED | SKIPPED | PASS | +------------------------------+--------------+---------------------------+------------------------------+----------------+ | Debian GNU/Linux 12 | SKIPPED | SKIPPED | SKIPPED | PASS | +------------------------------+--------------+---------------------------+------------------------------+----------------+ | CentOS Stream 10 | SKIPPED | SKIPPED | SKIPPED | PASS | +------------------------------+--------------+---------------------------+------------------------------+----------------+ | Fedora Linux 42 | SKIPPED | SKIPPED | SKIPPED | PASS | +------------------------------+--------------+---------------------------+------------------------------+----------------+ | Fedora Linux 41 | SKIPPED | SKIPPED | SKIPPED | PASS | +------------------------------+--------------+---------------------------+------------------------------+----------------+ | Ubuntu 24.04 | SKIPPED | SKIPPED | SKIPPED | PASS | +------------------------------+--------------+---------------------------+------------------------------+----------------+ | Red Hat Enterprise Linux 9.5 | SKIPPED | SKIPPED | SKIPPED | PASS | +------------------------------+--------------+---------------------------+------------------------------+----------------+ | Ubuntu 22.04 | SKIPPED | SKIPPED | SKIPPED | PASS | +------------------------------+--------------+---------------------------+------------------------------+----------------+ Ubuntu 20.04 Kernel: 5.4 Compiler: gcc gcc (Ubuntu 9.4.0-1ubuntu1~20.04.2) 9.4.0 Debian 12 (arm) Kernel: Depends on container host Compiler: gcc (Debian 12.2.0-14) 12.2.0 CentOS Stream 9 Kernel: 5.4 Compiler: gcc gcc (GCC) 11.5.0 20240719 (Red Hat 11.5.0-11) Fedora Linux 40 Kernel: 5.4 Compiler: gcc gcc (GCC) 14.2.1 20240912 (Red Hat 14.2.1-3) Debian GNU/Linux 12 Kernel: 5.4 Compiler: gcc gcc (Debian 12.2.0-14+deb12u1) 12.2.0 CentOS Stream 10 Kernel: 5.4 Compiler: gcc gcc (GCC) 14.2.1 20250110 (Red Hat 14.2.1-8) Fedora Linux 42 Kernel: 5.4 Compiler: gcc gcc (GCC) 15.2.1 20250808 (Red Hat 15.2.1-1) Fedora Linux 41 Kernel: 5.4 Compiler: gcc gcc (GCC) 14.3.1 20250523 (Red Hat 14.3.1-1) Ubuntu 24.04 Kernel: 5.4 Compiler: gcc gcc (Ubuntu 13.3.0-6ubuntu2~24.04) 13.3.0 Red Hat Enterprise Linux 9.5 Kernel: 5.4 Compiler: gcc gcc (GCC) 11.5.0 20240719 (Red Hat 11.5.0-2) Ubuntu 22.04 Kernel: 5.4 Compiler: gcc gcc (Ubuntu 11.4.0-1ubuntu1~22.04) 11.4.0 To view detailed results, visit: https://lab.dpdk.org/results/dashboard/tarballs/35209/ UNH-IOL DPDK Community Lab To manage your email subscriptions, visit: https://lab.dpdk.org/results/dashboard/preferences/subscriptions/