From mboxrd@z Thu Jan 1 00:00:00 1970 Return-Path: Received: from mails.dpdk.org (mails.dpdk.org [217.70.189.124]) by inbox.dpdk.org (Postfix) with ESMTP id 1DBCB48942 for ; Wed, 15 Oct 2025 12:04:49 +0200 (CEST) Received: from mails.dpdk.org (localhost [127.0.0.1]) by mails.dpdk.org (Postfix) with ESMTP id 177DB40276; Wed, 15 Oct 2025 12:04:49 +0200 (CEST) Received: from mail-pj1-f99.google.com (mail-pj1-f99.google.com [209.85.216.99]) by mails.dpdk.org (Postfix) with ESMTP id 142EB40276 for ; Wed, 15 Oct 2025 12:04:48 +0200 (CEST) Received: by mail-pj1-f99.google.com with SMTP id 98e67ed59e1d1-330b0bb4507so5651368a91.3 for ; Wed, 15 Oct 2025 03:04:48 -0700 (PDT) DKIM-Signature: v=1; a=rsa-sha256; c=relaxed/relaxed; d=iol.unh.edu; s=unh-iol; t=1760522687; x=1761127487; darn=dpdk.org; h=references:in-reply-to:cc:to:from:subject:message-id:date:from:to :cc:subject:date:message-id:reply-to; bh=96G4ReVlnRIslFZZ2hJUjCo3XQ1jNnOn5LKsubZb49I=; b=f6lwAr/2l4rBq5b2Oz+IvNyVVbVPv05XX2ZAVKJtryBj5BmCJ1kTXfowKUJ5mEakKt sur/amScih51E0dXhMP9wxIZ9AmjJvr70sfs5+0oilxqYTx8SodgY2j0fjVP5AmkImdy pJj4MXLiCseHtYXnoBrXGcQPpMr4cDChfsNbM= X-Google-DKIM-Signature: v=1; a=rsa-sha256; c=relaxed/relaxed; d=1e100.net; s=20230601; t=1760522687; x=1761127487; h=references:in-reply-to:cc:to:from:subject:message-id:date :x-gm-message-state:from:to:cc:subject:date:message-id:reply-to; bh=96G4ReVlnRIslFZZ2hJUjCo3XQ1jNnOn5LKsubZb49I=; b=iBVTKSx5xFMDsxAaP5iQUJ0DBp15GLAzhnWZ9FSgK+gu7mVIxYoo4rYFXNHqmE/qbe URP4XOUEt0DaSOMgCvcfcW5UZCU4elKoS2OPlOBjCdRLMYDuVHN9AfOPDHewY1N88Ny9 h2N+aNBTJv2c7Hk7yrrVMfoOa4C/dWMk8nVJ6sSX80ycnAAMkwSW+Pz4ljKsQYTeE3gv RWAyD4/PM/GY7fbWfQXNRyGcAJ+FB0twbrGwj8+f6tJ44fQ7XQtJb3EdCEM7f73V6u5e yYw0JMe+QB7aBqvQgik5+umFCZLqpFxNgh5thMwFcPExGMBzNeUmgqO6x6f46Bdvsztt AVAg== X-Gm-Message-State: AOJu0Yy69W8K0HIhkngQe6P7pCvMKXlLxOxJDBI1xOHR2nXk2dbdmTqD IrS5FoqG1qxrv5qIc+TbUQ49aIahgRMeZIf/jA55yvM/PXYAqRCViQEMUrkZ2wCrLqUQ6FvpX10 YQICVzg+TXLOXyamxcybRt0XtPyJNBKY5YV2JSRMz/AUY X-Gm-Gg: ASbGnctdJiVfGt6EKl0J6CAl44UcT1feBnMu02x43Wc80cPPIdimIYIfYRj/w5MSkaR yUh/32SS4c76dZ1sztsbydJyW1eFazQCsYFq4vu9rjWowaFRkIB09R0+qaiIi0H/bpXb44J0lq9 LU/yL9c/mBs6b82SZBFyvg1AjJkp0lcIwmuFi5k5t4qOHvOkExdPUls/E3QoogCBHsWvVeMP91y S9986b2Z7XyrO2FVMa5gIgMNj3MIChK9PWr276KhiTvdRczCTDLu1Ay5XbH2Z+7I+jCzunPP8q1 ip+GVZIK30UyZjff/W+udXC9JT87FN76xsDtoTw+XSnUCVRfUqYcJPwNSkTggEFhVEufD8uA X-Google-Smtp-Source: AGHT+IHGuqy//GfOD6sP5XLaGiulGMg59zSP6AXkxci5v47bOUPjrx4Zc6VlYMD0woQ9IH3E40mV6QfcWuMB X-Received: by 2002:a17:903:948:b0:249:37ad:ad03 with SMTP id d9443c01a7336-290273ee21fmr371282235ad.34.1760522687115; Wed, 15 Oct 2025 03:04:47 -0700 (PDT) Received: from postal.iol.unh.edu (postal.iol.unh.edu. [132.177.123.84]) by smtp-relay.gmail.com with ESMTPS id d9443c01a7336-29078941b97sm4487465ad.20.2025.10.15.03.04.46 (version=TLS1_2 cipher=ECDHE-ECDSA-AES128-GCM-SHA256 bits=128/128); Wed, 15 Oct 2025 03:04:47 -0700 (PDT) X-Relaying-Domain: iol.unh.edu Date: Wed, 15 Oct 2025 03:04:47 -0700 (PDT) Message-ID: <68ef71bf.170a0220.151f67.5f94SMTPIN_ADDED_MISSING@mx.google.com> Received: from [172.21.0.2] (unknown [172.18.0.240]) by postal.iol.unh.edu (Postfix) with ESMTP id 621306051830; Wed, 15 Oct 2025 06:04:46 -0400 (EDT) Subject: |SUCCESS| pw157598-157599 [PATCH] [v7,2/2] net/cpfl: added CPFL devI From: dpdklab@iol.unh.edu To: Test Report Cc: dpdk-test-reports@iol.unh.edu, Bruce Richardson In-Reply-To: <20251014102056.459175-3-venkatesh.vemula@intel.com> References: <20251014102056.459175-3-venkatesh.vemula@intel.com> Content-Type: text/plain X-BeenThere: test-report@dpdk.org X-Mailman-Version: 2.1.29 Precedence: list List-Id: automatic DPDK test reports List-Unsubscribe: , List-Archive: List-Post: List-Help: List-Subscribe: , Errors-To: test-report-bounces@dpdk.org Test-Label: iol-compile-amd64-testing Test-Status: SUCCESS http://dpdk.org/patch/157599 _Testing PASS_ Submitter: Venkatesh Vemula Date: Tuesday, October 14 2025 10:20:56 DPDK git baseline: Repo:dpdk-next-net-intel Branch: master CommitID:d2d0163cb4200ff7e450fd66eb6a92a931f06de7 157598-157599 --> testing pass Upstream job id: Generic-DPDK-Compile-Meson#434420 Test environment and result as below: +-------------------------------+--------------------+-------------------+------------------+-------------------------+-------------------+----------------------+ | Environment | dpdk_meson_compile | dpdk_compile_spdk | dpdk_compile_ovs | dpdk_llvm_clang_compile | dpdk_msvc_compile | dpdk_mingw64_compile | +===============================+====================+===================+==================+=========================+===================+======================+ | CentOS Stream 9 | PASS | PASS | SKIPPED | SKIPPED | SKIPPED | SKIPPED | +-------------------------------+--------------------+-------------------+------------------+-------------------------+-------------------+----------------------+ | Debian GNU/Linux 12 | PASS | PASS | SKIPPED | SKIPPED | SKIPPED | SKIPPED | +-------------------------------+--------------------+-------------------+------------------+-------------------------+-------------------+----------------------+ | Fedora Linux 42 | PASS | PASS | PASS | SKIPPED | SKIPPED | SKIPPED | +-------------------------------+--------------------+-------------------+------------------+-------------------------+-------------------+----------------------+ | openSUSE Leap 15.6 | PASS | SKIPPED | SKIPPED | SKIPPED | SKIPPED | SKIPPED | +-------------------------------+--------------------+-------------------+------------------+-------------------------+-------------------+----------------------+ | Red Hat Enterprise Linux 9.5 | PASS | SKIPPED | SKIPPED | SKIPPED | SKIPPED | SKIPPED | +-------------------------------+--------------------+-------------------+------------------+-------------------------+-------------------+----------------------+ | Red Hat Enterprise Linux 8.10 | PASS | SKIPPED | SKIPPED | SKIPPED | SKIPPED | SKIPPED | +-------------------------------+--------------------+-------------------+------------------+-------------------------+-------------------+----------------------+ | Ubuntu 20.04 | PASS | SKIPPED | SKIPPED | SKIPPED | SKIPPED | SKIPPED | +-------------------------------+--------------------+-------------------+------------------+-------------------------+-------------------+----------------------+ | FreeBSD 14.2 | PASS | SKIPPED | SKIPPED | SKIPPED | SKIPPED | SKIPPED | +-------------------------------+--------------------+-------------------+------------------+-------------------------+-------------------+----------------------+ | Ubuntu 22.04 | PASS | PASS | SKIPPED | SKIPPED | SKIPPED | SKIPPED | +-------------------------------+--------------------+-------------------+------------------+-------------------------+-------------------+----------------------+ | Ubuntu 24.04 | PASS | PASS | PASS | SKIPPED | SKIPPED | SKIPPED | +-------------------------------+--------------------+-------------------+------------------+-------------------------+-------------------+----------------------+ | Alpine Linux 3.22.0 | PASS | SKIPPED | SKIPPED | SKIPPED | SKIPPED | SKIPPED | +-------------------------------+--------------------+-------------------+------------------+-------------------------+-------------------+----------------------+ | CentOS Stream 10 | PASS | SKIPPED | SKIPPED | SKIPPED | SKIPPED | SKIPPED | +-------------------------------+--------------------+-------------------+------------------+-------------------------+-------------------+----------------------+ | Windows Server 2022 | SKIPPED | SKIPPED | SKIPPED | PASS | PASS | PASS | +-------------------------------+--------------------+-------------------+------------------+-------------------------+-------------------+----------------------+ CentOS Stream 9 Kernel: 5.15 Compiler: gcc gcc (GCC) 11.5.0 20240719 (Red Hat 11.5.0-11) Debian GNU/Linux 12 Kernel: 5.15 Compiler: gcc gcc (Debian 12.2.0-14+deb12u1) 12.2.0 Fedora Linux 42 Kernel: 5.15 Compiler: clang gcc (GCC) 15.2.1 20250808 (Red Hat 15.2.1-1) openSUSE Leap 15.6 Kernel: 5.15 Compiler: gcc gcc (SUSE Linux) 7.5.0 Red Hat Enterprise Linux 9.5 Kernel: 5.15 Compiler: gcc gcc (GCC) 11.5.0 20240719 (Red Hat 11.5.0-2) Red Hat Enterprise Linux 8.10 Kernel: 5.15 Compiler: gcc gcc (GCC) 8.5.0 20210514 (Red Hat 8.5.0-22) Ubuntu 20.04 Kernel: 4.19 Compiler: gcc gcc (Ubuntu 9.4.0-1ubuntu1~20.04.2) 9.4.0 FreeBSD 14.2 Kernel: 14.2-RELEASE Compiler: clang 18.1.6 Ubuntu 22.04 Kernel: 5.15 Compiler: gcc gcc (Ubuntu 11.4.0-1ubuntu1~22.04) 11.4.0 Ubuntu 24.04 Kernel: 5.15 Compiler: gcc gcc (Ubuntu 13.3.0-6ubuntu2~24.04) 13.3.0 Alpine Linux 3.22.0 Kernel: 5.15 Compiler: gcc gcc (Alpine 14.2.0) 14.2.0 CentOS Stream 10 Kernel: 5.15 Compiler: gcc gcc (GCC) 14.2.1 20250110 (Red Hat 14.2.1-8) Windows Server 2022 Kernel: 10.0.20348.2031 Compiler: clang 15.0.7, gcc 14.1.0 (MinGW), and MSVC VS 19.39.33521 To view detailed results, visit: https://lab.dpdk.org/results/dashboard/patchsets/34282/ UNH-IOL DPDK Community Lab To manage your email subscriptions, visit: https://lab.dpdk.org/results/dashboard/preferences/subscriptions/