From mboxrd@z Thu Jan 1 00:00:00 1970 Return-Path: Received: from mails.dpdk.org (mails.dpdk.org [217.70.189.124]) by inbox.dpdk.org (Postfix) with ESMTP id 338A948942 for ; Wed, 15 Oct 2025 12:05:38 +0200 (CEST) Received: from mails.dpdk.org (localhost [127.0.0.1]) by mails.dpdk.org (Postfix) with ESMTP id 2F68B40276; Wed, 15 Oct 2025 12:05:38 +0200 (CEST) Received: from mail-pl1-f225.google.com (mail-pl1-f225.google.com [209.85.214.225]) by mails.dpdk.org (Postfix) with ESMTP id BB1BF40276 for ; Wed, 15 Oct 2025 12:05:36 +0200 (CEST) Received: by mail-pl1-f225.google.com with SMTP id d9443c01a7336-27ee41e0798so100614075ad.1 for ; Wed, 15 Oct 2025 03:05:36 -0700 (PDT) DKIM-Signature: v=1; a=rsa-sha256; c=relaxed/relaxed; d=iol.unh.edu; s=unh-iol; t=1760522736; x=1761127536; darn=dpdk.org; h=references:in-reply-to:cc:to:from:subject:message-id:date:from:to :cc:subject:date:message-id:reply-to; bh=ltUMFnOVFqQw7u3JjffTFCn3ZvRMnYLXkTIHRtw+MY8=; b=N+SkCRiEALX0lYJKTOOdKPEc6sd+gBjWSk369W5gB/ulEFYsFEAgSY1o33rIDmdvYc EVHX503eSp6vtJZ9MOcdSZ5e3b4gilrMipThPr91GDRqb3BukAHabozqOOiBoQtbCst+ zwHWBl2Qdmw67ZAbwrVl7g3BE799IJ3hQxLdE= X-Google-DKIM-Signature: v=1; a=rsa-sha256; c=relaxed/relaxed; d=1e100.net; s=20230601; t=1760522736; x=1761127536; h=references:in-reply-to:cc:to:from:subject:message-id:date :x-gm-message-state:from:to:cc:subject:date:message-id:reply-to; bh=ltUMFnOVFqQw7u3JjffTFCn3ZvRMnYLXkTIHRtw+MY8=; b=A12i18mhgHCkxgnblGnYii7yMhe8vzFReMUK6E+1nfW2WX0XaK6vhqzepooh4JF9h5 rGbb9w+7x1RRjUB/j8yZ0z9XLLQU5nPpZcizbjyidlxrgE/AYoCD/hYSAfYt6s3XKkr4 MRtEyI0X+RvgOCIAdRmJT8hFTvqFGXH4rJD2bdp36AxgeuRBQcbxxMdm99LhtKVRYUd5 0a90h5f6HTJMFD2b8NFZw2NPj6e5pCkN4IfJkh6OWey+92syLDNAA4iS9kLyAdaE4Bjd tF09b5kFkn3MHEMppYjao9skYVh6y/7dsaIWP8xExiMfh15MT+SgPO1AFBPEhjODdLDo n7tA== X-Gm-Message-State: AOJu0YzU4b7qUwfc7I77XXKtzKoydapzE5f8oYy4xBUG/jCUas7q8K7B fhyEsTpww7uzeVQ6SugpvAm/O7TprxZI0H0HxZ0+u9xalQ97HVOSNs7+mjM8gM8PNkKVl+rr2hV 2PCbaRBVEae+1ouMzUaIq4ISsALEiCuBCRVoTKHzUZYcJ X-Gm-Gg: ASbGncshR2+LCc2VUDf377GD27bokH3QsEwYKsLP23YekOG+VNLj5CCVNerURTs1uZa h8QCS93uMbFbxNsUGQ+23W4i6k57SU/IfIqxygND0xF0PdvDwOOO0slF2fI4I0fBeT0HJH1ZhC8 SwIC7sTW4++6WrEJQTLyXL3zh9K+x85FpNdBT7IsOvWRjH/J/iJQcY6p1+v7XsKuFUlznQG0SJC dmHXGdH1mKnnebfHjcC+aou8uHbfjJotFLqEzEJQa9MqgGEr4PPsRBsdanIWnc7+Cou1sUa5By9 iwGJ+cFPBvPK78GVDlO9P4pJREIKn/l8Jji/Hu3gmEcEwHbzuIH8KZCRnWkYCZJ5ICOo15zL X-Google-Smtp-Source: AGHT+IGUxgIXoqhWMyilYDNeGO44kXOLL0efPZvmQjX5rnXR0qj2CtpXUcOPo+y0OA8G4fnvoDd4mSdZF3QA X-Received: by 2002:a17:903:2f0e:b0:272:f9c3:31f7 with SMTP id d9443c01a7336-290273ffd9cmr315666495ad.50.1760522735777; Wed, 15 Oct 2025 03:05:35 -0700 (PDT) Received: from postal.iol.unh.edu (postal.iol.unh.edu. [132.177.123.84]) by smtp-relay.gmail.com with ESMTPS id d9443c01a7336-29034ef019asm14698765ad.40.2025.10.15.03.05.35 (version=TLS1_2 cipher=ECDHE-ECDSA-AES128-GCM-SHA256 bits=128/128); Wed, 15 Oct 2025 03:05:35 -0700 (PDT) X-Relaying-Domain: iol.unh.edu Date: Wed, 15 Oct 2025 03:05:35 -0700 (PDT) Message-ID: <68ef71ef.170a0220.367829.915fSMTPIN_ADDED_MISSING@mx.google.com> Received: from [172.21.0.2] (unknown [172.18.0.240]) by postal.iol.unh.edu (Postfix) with ESMTP id 118C46051830; Wed, 15 Oct 2025 06:05:35 -0400 (EDT) Subject: |SUCCESS| pw157598-157599 [PATCH] [v7,2/2] net/cpfl: added CPFL devI From: dpdklab@iol.unh.edu To: Test Report Cc: dpdk-test-reports@iol.unh.edu, Bruce Richardson In-Reply-To: <20251014102056.459175-3-venkatesh.vemula@intel.com> References: <20251014102056.459175-3-venkatesh.vemula@intel.com> Content-Type: text/plain X-BeenThere: test-report@dpdk.org X-Mailman-Version: 2.1.29 Precedence: list List-Id: automatic DPDK test reports List-Unsubscribe: , List-Archive: List-Post: List-Help: List-Subscribe: , Errors-To: test-report-bounces@dpdk.org Test-Label: iol-unit-amd64-testing Test-Status: SUCCESS http://dpdk.org/patch/157599 _Testing PASS_ Submitter: Venkatesh Vemula Date: Tuesday, October 14 2025 10:20:56 DPDK git baseline: Repo:dpdk-next-net-intel Branch: master CommitID:d2d0163cb4200ff7e450fd66eb6a92a931f06de7 157598-157599 --> testing pass Upstream job id: Generic-VM-Unit-Test-DPDK#31804 Test environment and result as below: +-------------------------------+----------------+ | Environment | dpdk_unit_test | +===============================+================+ | CentOS Stream 9 | PASS | +-------------------------------+----------------+ | CentOS Stream 10 | PASS | +-------------------------------+----------------+ | Debian GNU/Linux 12 | PASS | +-------------------------------+----------------+ | Fedora Linux 40 | PASS | +-------------------------------+----------------+ | Fedora Linux 41 | PASS | +-------------------------------+----------------+ | Fedora Linux 42 | PASS | +-------------------------------+----------------+ | Red Hat Enterprise Linux 9.5 | PASS | +-------------------------------+----------------+ | Red Hat Enterprise Linux 8.10 | PASS | +-------------------------------+----------------+ | Ubuntu 20.04 | PASS | +-------------------------------+----------------+ | Ubuntu 24.04 | PASS | +-------------------------------+----------------+ | Ubuntu 22.04 | PASS | +-------------------------------+----------------+ | Windows Server 2022 | PASS | +-------------------------------+----------------+ CentOS Stream 9 Kernel: 5.15 Compiler: gcc gcc (GCC) 11.5.0 20240719 (Red Hat 11.5.0-11) CentOS Stream 10 Kernel: 5.15 Compiler: gcc gcc (GCC) 14.2.1 20250110 (Red Hat 14.2.1-8) Debian GNU/Linux 12 Kernel: 5.15 Compiler: gcc gcc (Debian 12.2.0-14+deb12u1) 12.2.0 Fedora Linux 40 Kernel: 5.15 Compiler: gcc gcc (GCC) 14.2.1 20240912 (Red Hat 14.2.1-3) Fedora Linux 41 Kernel: 5.15 Compiler: gcc gcc (GCC) 14.3.1 20250523 (Red Hat 14.3.1-1) Fedora Linux 42 Kernel: 5.15 Compiler: clang gcc (GCC) 15.2.1 20250808 (Red Hat 15.2.1-1) Red Hat Enterprise Linux 9.5 Kernel: 5.15 Compiler: gcc gcc (GCC) 11.5.0 20240719 (Red Hat 11.5.0-2) Red Hat Enterprise Linux 8.10 Kernel: 5.15 Compiler: gcc gcc (GCC) 8.5.0 20210514 (Red Hat 8.5.0-22) Ubuntu 20.04 Kernel: 5.15 Compiler: gcc gcc (Ubuntu 9.4.0-1ubuntu1~20.04.2) 9.4.0 Ubuntu 24.04 Kernel: 5.15 Compiler: gcc gcc (Ubuntu 13.3.0-6ubuntu2~24.04) 13.3.0 Ubuntu 22.04 Kernel: 5.15 Compiler: gcc gcc (Ubuntu 11.4.0-1ubuntu1~22.04) 11.4.0 Windows Server 2022 Kernel: 10.0.20348.2031 Compiler: clang 15.0.7, gcc 14.1.0 (MinGW), and MSVC VS 19.39.33521 To view detailed results, visit: https://lab.dpdk.org/results/dashboard/patchsets/34282/ UNH-IOL DPDK Community Lab To manage your email subscriptions, visit: https://lab.dpdk.org/results/dashboard/preferences/subscriptions/