From mboxrd@z Thu Jan 1 00:00:00 1970 Return-Path: Received: from mails.dpdk.org (mails.dpdk.org [217.70.189.124]) by inbox.dpdk.org (Postfix) with ESMTP id 0A52748942 for ; Wed, 15 Oct 2025 12:09:52 +0200 (CEST) Received: from mails.dpdk.org (localhost [127.0.0.1]) by mails.dpdk.org (Postfix) with ESMTP id 04EA540A82; Wed, 15 Oct 2025 12:09:52 +0200 (CEST) Received: from mail-pl1-f225.google.com (mail-pl1-f225.google.com [209.85.214.225]) by mails.dpdk.org (Postfix) with ESMTP id CF43740A82 for ; Wed, 15 Oct 2025 12:09:50 +0200 (CEST) Received: by mail-pl1-f225.google.com with SMTP id d9443c01a7336-27c369f8986so58334665ad.3 for ; Wed, 15 Oct 2025 03:09:50 -0700 (PDT) DKIM-Signature: v=1; a=rsa-sha256; c=relaxed/relaxed; d=iol.unh.edu; s=unh-iol; t=1760522990; x=1761127790; darn=dpdk.org; h=references:in-reply-to:cc:to:from:subject:message-id:date:from:to :cc:subject:date:message-id:reply-to; bh=6gNPvgTRLC/wvfwzM2WpkSxW3zyZD4mrpxYtl9emjnM=; b=D+iE2TZGpNJSx0aZaP5C9CmO0CxXIEKb8ivxzyfzhaBbHFI17aVp5EHJlRUEH8vtTY cZBqRKpZDjUjRB17s0DfRjfJ+k3KTXFbzRkf4sx9xqDxDDjd8DJePoWx4elsr2L7jOBc SyQfI1cwe52SXxBV6IA7FsH1S13RQypYmbVXI= X-Google-DKIM-Signature: v=1; a=rsa-sha256; c=relaxed/relaxed; d=1e100.net; s=20230601; t=1760522990; x=1761127790; h=references:in-reply-to:cc:to:from:subject:message-id:date :x-gm-message-state:from:to:cc:subject:date:message-id:reply-to; bh=6gNPvgTRLC/wvfwzM2WpkSxW3zyZD4mrpxYtl9emjnM=; b=uG5Bgy8EElDRVAVHKyqVG0ebONrq6bSM5Mm9rjtrn1N8DbwDHW7lbgPuAenL6kJThs DOvtMsEVJsc5dwSfYj6vRAlx9QmwfGvzvMHwhJbYmkwUGfJdy4Rhxvm9noJ1mrN6XXRD o3of78j2xP8jMamIqtU4u9lrDdqh4ZyZxt0Uy/Xx4W3qI/K3r5gpucpyfZ79/NOZMcMR tGt92M05hbfODloJeLNBbJpwy2I08/x8eHQLaF6CZMTvK9JMJ0ZyPiH3kT4NxozaGTRN +4rjGPovCusqmScRn1oIgjST5NT1vqF1U48E2TQbqE1BPWNhkyQW0UHyiwVrpHCKwJvz 0VtA== X-Gm-Message-State: AOJu0Yy/aY9cHM2QlzqvLlkL7qOsfCNfJnn80JQHpbHU/RMnHBAYJu1a aTpkYnz/shp7wgnSXD4/20c0sEEPirB3eidMhGGnbaRa72LPw++m/YLPczr2YEgcOy+MN0g+Gmh YBCzzrba088Y2QfDcSey92mPSS4Czv3tCn/lVUnPJWxCM X-Gm-Gg: ASbGncsAhl5Rfpirs7yTsBJOtO1cwnQJpdZrk2G+THLVU3iQnHdGPZiL+uEtxV2zy01 UtpMZBA0Hu51mJXX9eZG8qVKFSRPIPe6n3EbWmcLSQiBFn4UbYkiAnML1IUd9AjWklAss+wtNbJ O7WlEXm+sMP8J1Fem2ECg9ccONpUGgV5f3eIDPE97fmEnxsRpAvySbZMY3oXusLyC2/Gp8JHgwa ZyRNPS93jrJaO0Qf9rmBmGLGlTlSQjZkipTN+Wuvodv6VpPhMfyWcjy7Mua39JBZvmkegtCvWbn LSuPr4PibSY9FiwTDLMX4lDiIcOanHcWz91IxQQ6VNL00ZMSNZ8/pGk8ok/SUFzyNUE+WooP X-Google-Smtp-Source: AGHT+IGvumwhop6W7vzxaSSzr/GYhTNjVUfVrfxSbyiWt4mgyhy0B3MUSLVrhK/OYAf8bn6PxTXNooqcAiJM X-Received: by 2002:a17:903:1ae4:b0:27d:69de:edd3 with SMTP id d9443c01a7336-29027374b2cmr343794705ad.20.1760522989922; Wed, 15 Oct 2025 03:09:49 -0700 (PDT) Received: from postal.iol.unh.edu (postal.iol.unh.edu. [132.177.123.84]) by smtp-relay.gmail.com with ESMTPS id d9443c01a7336-29034df0dd6sm16322745ad.8.2025.10.15.03.09.49 (version=TLS1_2 cipher=ECDHE-ECDSA-AES128-GCM-SHA256 bits=128/128); Wed, 15 Oct 2025 03:09:49 -0700 (PDT) X-Relaying-Domain: iol.unh.edu Date: Wed, 15 Oct 2025 03:09:49 -0700 (PDT) Message-ID: <68ef72ed.170a0220.fd5d.173eSMTPIN_ADDED_MISSING@mx.google.com> Received: from [172.21.0.2] (unknown [172.18.0.240]) by postal.iol.unh.edu (Postfix) with ESMTP id 56C4B6051830; Wed, 15 Oct 2025 06:09:49 -0400 (EDT) Subject: |SUCCESS| pw157598-157599 [PATCH] [v7,2/2] net/cpfl: added CPFL devI From: dpdklab@iol.unh.edu To: Test Report Cc: dpdk-test-reports@iol.unh.edu, Bruce Richardson In-Reply-To: <20251014102056.459175-3-venkatesh.vemula@intel.com> References: <20251014102056.459175-3-venkatesh.vemula@intel.com> Content-Type: text/plain X-BeenThere: test-report@dpdk.org X-Mailman-Version: 2.1.29 Precedence: list List-Id: automatic DPDK test reports List-Unsubscribe: , List-Archive: List-Post: List-Help: List-Subscribe: , Errors-To: test-report-bounces@dpdk.org Test-Label: iol-unit-amd64-testing Test-Status: SUCCESS http://dpdk.org/patch/157599 _Testing PASS_ Submitter: Venkatesh Vemula Date: Tuesday, October 14 2025 10:20:56 DPDK git baseline: Repo:dpdk-next-net-intel Branch: master CommitID:d2d0163cb4200ff7e450fd66eb6a92a931f06de7 157598-157599 --> testing pass Upstream job id: Generic-VM-Unit-Test-DPDK#31805 Test environment and result as below: +-------------------------------+----------------+ | Environment | dpdk_unit_test | +===============================+================+ | CentOS Stream 9 | PASS | +-------------------------------+----------------+ | CentOS Stream 10 | PASS | +-------------------------------+----------------+ | Debian GNU/Linux 12 | PASS | +-------------------------------+----------------+ | Fedora Linux 40 | PASS | +-------------------------------+----------------+ | Fedora Linux 41 | PASS | +-------------------------------+----------------+ | Fedora Linux 42 | PASS | +-------------------------------+----------------+ | Red Hat Enterprise Linux 9.5 | PASS | +-------------------------------+----------------+ | Red Hat Enterprise Linux 8.10 | PASS | +-------------------------------+----------------+ | Ubuntu 20.04 | PASS | +-------------------------------+----------------+ | Ubuntu 24.04 | PASS | +-------------------------------+----------------+ | Ubuntu 22.04 | PASS | +-------------------------------+----------------+ | Windows Server 2022 | PASS | +-------------------------------+----------------+ CentOS Stream 9 Kernel: 5.15 Compiler: gcc gcc (GCC) 11.5.0 20240719 (Red Hat 11.5.0-11) CentOS Stream 10 Kernel: 5.15 Compiler: gcc gcc (GCC) 14.2.1 20250110 (Red Hat 14.2.1-8) Debian GNU/Linux 12 Kernel: 5.15 Compiler: gcc gcc (Debian 12.2.0-14+deb12u1) 12.2.0 Fedora Linux 40 Kernel: 5.15 Compiler: gcc gcc (GCC) 14.2.1 20240912 (Red Hat 14.2.1-3) Fedora Linux 41 Kernel: 5.15 Compiler: gcc gcc (GCC) 14.3.1 20250523 (Red Hat 14.3.1-1) Fedora Linux 42 Kernel: 5.15 Compiler: clang gcc (GCC) 15.2.1 20250808 (Red Hat 15.2.1-1) Red Hat Enterprise Linux 9.5 Kernel: 5.15 Compiler: gcc gcc (GCC) 11.5.0 20240719 (Red Hat 11.5.0-2) Red Hat Enterprise Linux 8.10 Kernel: 5.15 Compiler: gcc gcc (GCC) 8.5.0 20210514 (Red Hat 8.5.0-22) Ubuntu 20.04 Kernel: 5.15 Compiler: gcc gcc (Ubuntu 9.4.0-1ubuntu1~20.04.2) 9.4.0 Ubuntu 24.04 Kernel: 5.15 Compiler: gcc gcc (Ubuntu 13.3.0-6ubuntu2~24.04) 13.3.0 Ubuntu 22.04 Kernel: 5.15 Compiler: gcc gcc (Ubuntu 11.4.0-1ubuntu1~22.04) 11.4.0 Windows Server 2022 Kernel: 10.0.20348.2031 Compiler: clang 15.0.7, gcc 14.1.0 (MinGW), and MSVC VS 19.39.33521 To view detailed results, visit: https://lab.dpdk.org/results/dashboard/patchsets/34282/ UNH-IOL DPDK Community Lab To manage your email subscriptions, visit: https://lab.dpdk.org/results/dashboard/preferences/subscriptions/