From mboxrd@z Thu Jan 1 00:00:00 1970 Return-Path: Received: from mails.dpdk.org (mails.dpdk.org [217.70.189.124]) by inbox.dpdk.org (Postfix) with ESMTP id A312B48942 for ; Wed, 15 Oct 2025 13:50:18 +0200 (CEST) Received: from mails.dpdk.org (localhost [127.0.0.1]) by mails.dpdk.org (Postfix) with ESMTP id 88F9340273; Wed, 15 Oct 2025 13:50:18 +0200 (CEST) Received: from mail-yw1-f228.google.com (mail-yw1-f228.google.com [209.85.128.228]) by mails.dpdk.org (Postfix) with ESMTP id D57E940273 for ; Wed, 15 Oct 2025 13:50:16 +0200 (CEST) Received: by mail-yw1-f228.google.com with SMTP id 00721157ae682-74f6974175dso70829647b3.3 for ; Wed, 15 Oct 2025 04:50:16 -0700 (PDT) DKIM-Signature: v=1; a=rsa-sha256; c=relaxed/relaxed; d=iol.unh.edu; s=unh-iol; t=1760529016; x=1761133816; darn=dpdk.org; h=cc:to:from:subject:message-id:date:from:to:cc:subject:date :message-id:reply-to; bh=oqtNHwqb9kx3icRKkJNlSgbk/8bfnFNzHz7gMCGOkUE=; b=XK5n6OkZt2qHEGYwtymArEpxEYiYvQM8+eI4YtJrSgWJNc60B1u8EqwWJoj97ZdMxW dopgzuXP87G+ckl+fX7DAlEwmjm6c6SRqeVJNyxpMw7ibZolQRgX7KbFHPfgsC0LVrmE 3x1QNH6zN0PHMhloHCb+U65Y7UvwuyDsHch4w= X-Google-DKIM-Signature: v=1; a=rsa-sha256; c=relaxed/relaxed; d=1e100.net; s=20230601; t=1760529016; x=1761133816; h=cc:to:from:subject:message-id:date:x-gm-message-state:from:to:cc :subject:date:message-id:reply-to; bh=oqtNHwqb9kx3icRKkJNlSgbk/8bfnFNzHz7gMCGOkUE=; b=eYm3M5YJOoLVW/1g7EkNOzlbsTD7IrA6qX5Ge6IUTCdzbEtfM57jqGHwAbS3x4taLR 4TuYzUgqNN9zFHXI/xNzGwEEb9sgXuArUYiJXSF9S6DF3EB7SINAneIYL8sXnH9j9WRC +KR7JV1U2m4X2ndMtAAQM2El9UvwtSUvpGkHDR3aK1roe9YczsoD23u1gqCvcftnocVZ UytPIaD/qkIKjhsQgznERAr6E3Shfq3Rf46dbBSEVFK64zqHy6NGE/LypTjFJnigmX9A IU9SVdq8FPF5it6zNAB1bdeyCYhgL3ndoabvktdtsYy7mmVz73GMQmUUqb+LVzA2bnr8 xKBQ== X-Gm-Message-State: AOJu0YwCXeLdYbIzFQz5+csxlzZrfzrHRTFOYvkJWWxmdNAjI2DpiQn8 /RjgHLuyKW9TX70Wcbf1mHgxiKgSpMKEkp/t2WXN+Ehutf1rU5WEjrK3pySoXvCN/WF91ksoQL+ 2B++xiHu4fMW062U1Sjte3vTIFdW4N1YKbA37Kr+UKCTovpBx++EyVFOSmbc2 X-Gm-Gg: ASbGnctZ8fSxH4KLu802p3++299jBXjOsZLhcImqNTUgTZ9l/oh1CvjkmCKg1pS7jyu PhdSREhvfTNQPDEPJ8llL1jgbUAWZlZ2+ouN/wJb5O75o8R/0N+m/VnozcxEyQ5MiAMgn8W5yEi Lq6aZyTmkAkV+dG3/92eL9WxdJ6hmzRjCSTZPyOMfKNTgJuxAheXEwhJWLxD/gkmWUFbT9HGBqT cNb6tOyJnghg4oDTi3y461iGJbFFmMKjpyt5CQ0lUlJZuk/pm93EFx4aEtdLvLf26v2/utRuit3 1aGtDz7qUShQkenUsjGWG55dzRs8vly7CL2+tTagjzCsRTirZQ== X-Google-Smtp-Source: AGHT+IF5eTvixxKWGG6TERQtPl0evji8I456pGK1WTe5c6lwzl9QM/kGQw2GKfA1ID34UhzNcXymOunprSZu X-Received: by 2002:a05:690c:dc8:b0:780:be5b:3435 with SMTP id 00721157ae682-780e17a978bmr295983057b3.44.1760529015875; Wed, 15 Oct 2025 04:50:15 -0700 (PDT) Received: from postal.iol.unh.edu (postal.iol.unh.edu. [2606:4100:3880:1234::84]) by smtp-relay.gmail.com with ESMTPS id 00721157ae682-78106fac206sm10489017b3.17.2025.10.15.04.50.15 (version=TLS1_2 cipher=ECDHE-ECDSA-AES128-GCM-SHA256 bits=128/128); Wed, 15 Oct 2025 04:50:15 -0700 (PDT) X-Relaying-Domain: iol.unh.edu Date: Wed, 15 Oct 2025 04:50:15 -0700 (PDT) Message-ID: <68ef8a77.050a0220.205bf7.6513SMTPIN_ADDED_MISSING@mx.google.com> Received: from [172.21.0.2] (unknown [172.18.0.240]) by postal.iol.unh.edu (Postfix) with ESMTP id 4582C6051830; Wed, 15 Oct 2025 07:50:15 -0400 (EDT) Subject: |SUCCESS| [GIT MASTER] d2d0163cb4200ff7e450fd66eb6a92a931f06de7 From: dpdklab@iol.unh.edu To: Test Report Cc: dpdk-test-reports@iol.unh.edu, Bruce Richardson Content-Type: text/plain X-BeenThere: test-report@dpdk.org X-Mailman-Version: 2.1.29 Precedence: list List-Id: automatic DPDK test reports List-Unsubscribe: , List-Archive: List-Post: List-Help: List-Subscribe: , Errors-To: test-report-bounces@dpdk.org _Testing PASS_ Branch: dpdk-next-net-intel d2d0163cb4200ff7e450fd66eb6a92a931f06de7 --> testing pass Upstream job id: Generic-DPDK-Compile-Meson#434506 Test environment and result as below: +-------------------------------+--------------------+-------------------+------------------+ | Environment | dpdk_meson_compile | dpdk_compile_spdk | dpdk_compile_ovs | +===============================+====================+===================+==================+ | Ubuntu 20.04 | PASS | SKIPPED | SKIPPED | +-------------------------------+--------------------+-------------------+------------------+ | FreeBSD 14.2 | PASS | SKIPPED | SKIPPED | +-------------------------------+--------------------+-------------------+------------------+ | CentOS Stream 9 | PASS | PASS | SKIPPED | +-------------------------------+--------------------+-------------------+------------------+ | CentOS Stream 10 | PASS | SKIPPED | SKIPPED | +-------------------------------+--------------------+-------------------+------------------+ | Debian GNU/Linux 12 | PASS | PASS | SKIPPED | +-------------------------------+--------------------+-------------------+------------------+ | Fedora Linux 42 | PASS | PASS | PASS | +-------------------------------+--------------------+-------------------+------------------+ | openSUSE Leap 15.6 | PASS | SKIPPED | SKIPPED | +-------------------------------+--------------------+-------------------+------------------+ | Red Hat Enterprise Linux 8.10 | PASS | SKIPPED | SKIPPED | +-------------------------------+--------------------+-------------------+------------------+ | Red Hat Enterprise Linux 9.5 | PASS | SKIPPED | SKIPPED | +-------------------------------+--------------------+-------------------+------------------+ | Ubuntu 22.04 | PASS | PASS | SKIPPED | +-------------------------------+--------------------+-------------------+------------------+ | Ubuntu 24.04 | PASS | PASS | PASS | +-------------------------------+--------------------+-------------------+------------------+ | Alpine Linux 3.22.0 | PASS | SKIPPED | SKIPPED | +-------------------------------+--------------------+-------------------+------------------+ Ubuntu 20.04 Kernel: 4.19 Compiler: gcc gcc (Ubuntu 9.4.0-1ubuntu1~20.04.2) 9.4.0 FreeBSD 14.2 Kernel: 14.2-RELEASE Compiler: clang 18.1.6 CentOS Stream 9 Kernel: 5.15 Compiler: gcc gcc (GCC) 11.5.0 20240719 (Red Hat 11.5.0-11) CentOS Stream 10 Kernel: 5.15 Compiler: gcc gcc (GCC) 14.2.1 20250110 (Red Hat 14.2.1-8) Debian GNU/Linux 12 Kernel: 5.15 Compiler: gcc gcc (Debian 12.2.0-14+deb12u1) 12.2.0 Fedora Linux 42 Kernel: 5.15 Compiler: clang gcc (GCC) 15.2.1 20250808 (Red Hat 15.2.1-1) openSUSE Leap 15.6 Kernel: 5.15 Compiler: gcc gcc (SUSE Linux) 7.5.0 Red Hat Enterprise Linux 8.10 Kernel: 5.15 Compiler: gcc gcc (GCC) 8.5.0 20210514 (Red Hat 8.5.0-22) Red Hat Enterprise Linux 9.5 Kernel: 5.15 Compiler: gcc gcc (GCC) 11.5.0 20240719 (Red Hat 11.5.0-2) Ubuntu 22.04 Kernel: 5.15 Compiler: gcc gcc (Ubuntu 11.4.0-1ubuntu1~22.04) 11.4.0 Ubuntu 24.04 Kernel: 5.15 Compiler: gcc gcc (Ubuntu 13.3.0-6ubuntu2~24.04) 13.3.0 Alpine Linux 3.22.0 Kernel: 5.15 Compiler: gcc gcc (Alpine 14.2.0) 14.2.0 To view detailed results, visit: https://lab.dpdk.org/results/dashboard/tarballs/35217/ UNH-IOL DPDK Community Lab To manage your email subscriptions, visit: https://lab.dpdk.org/results/dashboard/preferences/subscriptions/