From mboxrd@z Thu Jan 1 00:00:00 1970 Return-Path: Received: from mails.dpdk.org (mails.dpdk.org [217.70.189.124]) by inbox.dpdk.org (Postfix) with ESMTP id 2FAA048942 for ; Wed, 15 Oct 2025 13:53:45 +0200 (CEST) Received: from mails.dpdk.org (localhost [127.0.0.1]) by mails.dpdk.org (Postfix) with ESMTP id 2744C40273; Wed, 15 Oct 2025 13:53:45 +0200 (CEST) Received: from mail-il1-f225.google.com (mail-il1-f225.google.com [209.85.166.225]) by mails.dpdk.org (Postfix) with ESMTP id 81A1340273 for ; Wed, 15 Oct 2025 13:53:43 +0200 (CEST) Received: by mail-il1-f225.google.com with SMTP id e9e14a558f8ab-430a9e92d2aso10354375ab.1 for ; Wed, 15 Oct 2025 04:53:43 -0700 (PDT) DKIM-Signature: v=1; a=rsa-sha256; c=relaxed/relaxed; d=iol.unh.edu; s=unh-iol; t=1760529223; x=1761134023; darn=dpdk.org; h=cc:to:from:subject:message-id:date:from:to:cc:subject:date :message-id:reply-to; bh=w6Z2EFYSFLf+3eX4O2u0dFJA4/yF1+AHupfOczmK3Bg=; b=GCUVpKbipw2tIXv6LNXn4Hj/nL/sw9vJg1Cn9OwtCBmrgMsHU5BpVH3SCS2VWVEJSi QepqgVnNEKPHMrbkRqJ5KDpkq+4Wn9XC5RFj4vztsUoyCJ+zGtkHt7INLZAXX48pHW7b qVIgIEU1LT62hX8ig5xfvMcipsZyIc0pRek9k= X-Google-DKIM-Signature: v=1; a=rsa-sha256; c=relaxed/relaxed; d=1e100.net; s=20230601; t=1760529223; x=1761134023; h=cc:to:from:subject:message-id:date:x-gm-message-state:from:to:cc :subject:date:message-id:reply-to; bh=w6Z2EFYSFLf+3eX4O2u0dFJA4/yF1+AHupfOczmK3Bg=; b=qFrH/2O3IXOKEW5gg5hGAa22jgOmlz+MGUhQP2ugmoVEwN32UwgqbZdXkrLKbDynyk fFA5UGw7lmtWW6mZeYTI+JIvcNXhRoKCjPPySOV8lJ+pZ2An7C8UzBO6Yd9Q3HXc0RvV Iz1K19g1bCQkzvnta3j4bcpmXPwWjY/svXsmkmVW8ENQfmG2siCEtQePH2+GzT2xJ/Qq rdxqAo0oPY/6S/w2kZMuI7YMR1qH/tYRwdGaC2OUmKEac93C1Fa2QEVYKliHUhBsOMYL 2gsp/m93gp/t0I5rHIz7HZAalCkSEyOsP7IPsFkmOesG8tj6Y40rpIlGgezf6joTKcvz ZBFw== X-Gm-Message-State: AOJu0YxsZSJzp9hll11sRFFjYsQ1dvxlm6lnAAOqgQ8FvCho0wL2pBP/ qWGJNDu6crHm2K5UeubEWNksExE8Jz7fPnmNkvOgTw2HiuMTnzLrGyCC0mpI268phc0QcJ9xYw1 cwQgt3D0XsQLXWg3DNjTsSlgZNjSCDhY9oYww X-Gm-Gg: ASbGncueY3vuoJpJl6of7UC1kA/mofcE6B78MWGwS2ngX+5JvsK8ZxaQ9f8LkfZt/AO zLDeWg8524ZhrVqDqd6vRlctKLZG2lD7RwPqvBpRpLBRJhOIAwXOPdsGp5xSSMrainWfsTg2NT4 4yvTK8fOkLQ79I9wQ5u+qILgky+R2os4TILTMi0OmHyOgcS2OYjI3f597vVxHnh6y6Zb1qK1zyb wveV0yFhpPj5zmGK3O8RU4n+O5tvQYfIMJFt282ZXimA4gU+MCUQxstOnzWwCtGfpHwZEeZ5g2b l/rFA0HY43ZxzwljIIyO3ZlR7FoOT1mGZG40SeTP471zNAywY/7JG1u+D6voH0lxCsulF0dW X-Google-Smtp-Source: AGHT+IFOJFAfcWhZodMDX0+gFYpGFi+qV1wyU2/C7xZG/T6hmRBYRr1ywsO/81923+2EoUirfx2rl+Az5Fmv X-Received: by 2002:a05:6e02:1c0e:b0:430:a65c:d7ce with SMTP id e9e14a558f8ab-430a65cdaa2mr56656405ab.22.1760529222793; Wed, 15 Oct 2025 04:53:42 -0700 (PDT) Received: from postal.iol.unh.edu (postal.iol.unh.edu. [132.177.123.84]) by smtp-relay.gmail.com with ESMTPS id 8926c6da1cb9f-58f6daf41f9sm1248122173.16.2025.10.15.04.53.42 (version=TLS1_2 cipher=ECDHE-ECDSA-AES128-GCM-SHA256 bits=128/128); Wed, 15 Oct 2025 04:53:42 -0700 (PDT) X-Relaying-Domain: iol.unh.edu Date: Wed, 15 Oct 2025 04:53:42 -0700 (PDT) Message-ID: <68ef8b46.050a0220.37a899.e049SMTPIN_ADDED_MISSING@mx.google.com> Received: from [172.21.0.3] (unknown [172.18.0.240]) by postal.iol.unh.edu (Postfix) with ESMTP id 570F66051830; Wed, 15 Oct 2025 07:53:42 -0400 (EDT) Subject: |SUCCESS| [GIT MASTER] b287e404643aeab5bb5db084c142789df187844e From: dpdklab@iol.unh.edu To: Test Report Cc: dpdk-test-reports@iol.unh.edu, Xueming Li , Christian Ehrhardt , Kevin Traynor , Luca Boccassi Content-Type: text/plain X-BeenThere: test-report@dpdk.org X-Mailman-Version: 2.1.29 Precedence: list List-Id: automatic DPDK test reports List-Unsubscribe: , List-Archive: List-Post: List-Help: List-Subscribe: , Errors-To: test-report-bounces@dpdk.org _Testing PASS_ Branch: tags/v24.11 b287e404643aeab5bb5db084c142789df187844e --> testing pass Upstream job id: Generic-Unit-Test-DPDK#381497 Test environment and result as below: +------------------------------+--------------+----------------+---------------------------+------------------------------+ | Environment | lpm_autotest | dpdk_unit_test | cryptodev_sw_zuc_autotest | cryptodev_sw_snow3g_autotest | +==============================+==============+================+===========================+==============================+ | Ubuntu 20.04 | PASS | PASS | SKIPPED | SKIPPED | +------------------------------+--------------+----------------+---------------------------+------------------------------+ | Debian GNU/Linux 12 | SKIPPED | PASS | SKIPPED | SKIPPED | +------------------------------+--------------+----------------+---------------------------+------------------------------+ | Fedora Linux 40 | SKIPPED | PASS | SKIPPED | SKIPPED | +------------------------------+--------------+----------------+---------------------------+------------------------------+ | CentOS Stream 9 | SKIPPED | PASS | SKIPPED | SKIPPED | +------------------------------+--------------+----------------+---------------------------+------------------------------+ | CentOS Stream 10 | SKIPPED | PASS | SKIPPED | SKIPPED | +------------------------------+--------------+----------------+---------------------------+------------------------------+ | Fedora Linux 42 | SKIPPED | PASS | SKIPPED | SKIPPED | +------------------------------+--------------+----------------+---------------------------+------------------------------+ | Fedora Linux 41 | SKIPPED | PASS | SKIPPED | SKIPPED | +------------------------------+--------------+----------------+---------------------------+------------------------------+ | Red Hat Enterprise Linux 9.5 | SKIPPED | PASS | SKIPPED | SKIPPED | +------------------------------+--------------+----------------+---------------------------+------------------------------+ | Ubuntu 22.04 | SKIPPED | PASS | SKIPPED | SKIPPED | +------------------------------+--------------+----------------+---------------------------+------------------------------+ | Ubuntu 24.04 | SKIPPED | PASS | SKIPPED | SKIPPED | +------------------------------+--------------+----------------+---------------------------+------------------------------+ | Debian 12 (arm) | SKIPPED | SKIPPED | PASS | PASS | +------------------------------+--------------+----------------+---------------------------+------------------------------+ Ubuntu 20.04 Kernel: 5.4 Compiler: gcc gcc (Ubuntu 9.4.0-1ubuntu1~20.04.2) 9.4.0 Debian GNU/Linux 12 Kernel: 5.4 Compiler: gcc gcc (Debian 12.2.0-14+deb12u1) 12.2.0 Fedora Linux 40 Kernel: 5.4 Compiler: gcc gcc (GCC) 14.2.1 20240912 (Red Hat 14.2.1-3) CentOS Stream 9 Kernel: 5.4 Compiler: gcc gcc (GCC) 11.5.0 20240719 (Red Hat 11.5.0-11) CentOS Stream 10 Kernel: 5.4 Compiler: gcc gcc (GCC) 14.2.1 20250110 (Red Hat 14.2.1-8) Fedora Linux 42 Kernel: 5.4 Compiler: gcc gcc (GCC) 15.2.1 20250808 (Red Hat 15.2.1-1) Fedora Linux 41 Kernel: 5.4 Compiler: gcc gcc (GCC) 14.3.1 20250523 (Red Hat 14.3.1-1) Red Hat Enterprise Linux 9.5 Kernel: 5.4 Compiler: gcc gcc (GCC) 11.5.0 20240719 (Red Hat 11.5.0-2) Ubuntu 22.04 Kernel: 5.4 Compiler: gcc gcc (Ubuntu 11.4.0-1ubuntu1~22.04) 11.4.0 Ubuntu 24.04 Kernel: 5.4 Compiler: gcc gcc (Ubuntu 13.3.0-6ubuntu2~24.04) 13.3.0 Debian 12 (arm) Kernel: Depends on container host Compiler: gcc (Debian 12.2.0-14) 12.2.0 To view detailed results, visit: https://lab.dpdk.org/results/dashboard/tarballs/35210/ UNH-IOL DPDK Community Lab To manage your email subscriptions, visit: https://lab.dpdk.org/results/dashboard/preferences/subscriptions/