automatic DPDK test reports
 help / color / mirror / Atom feed
From: dpdklab@iol.unh.edu
To: Test Report <test-report@dpdk.org>
Cc: dpdk-test-reports@iol.unh.edu,
	Bruce Richardson <bruce.richardson@intel.com>
Subject: |SUCCESS| pw157654-157660 [PATCH] [v2,7/7] net/ice: reformat the Rx
Date: Wed, 15 Oct 2025 05:11:13 -0700 (PDT)	[thread overview]
Message-ID: <68ef8f61.170a0220.2a410a.be54SMTPIN_ADDED_MISSING@mx.google.com> (raw)
In-Reply-To: <20251015100723.1603296-8-ciara.loftus@intel.com>

Test-Label: iol-unit-amd64-testing
Test-Status: SUCCESS
http://dpdk.org/patch/157660

_Testing PASS_

Submitter: Ciara Loftus <ciara.loftus@intel.com>
Date: Wednesday, October 15 2025 10:07:23 
DPDK git baseline: Repo:dpdk-next-net-intel
  Branch: master
  CommitID:d2d0163cb4200ff7e450fd66eb6a92a931f06de7

157654-157660 --> testing pass

Upstream job id: Generic-VM-Unit-Test-DPDK#31808

Test environment and result as below:

+-------------------------------+----------------+
|          Environment          | dpdk_unit_test |
+===============================+================+
| CentOS Stream 9               | PASS           |
+-------------------------------+----------------+
| CentOS Stream 10              | PASS           |
+-------------------------------+----------------+
| Fedora Linux 40               | PASS           |
+-------------------------------+----------------+
| Fedora Linux 42               | PASS           |
+-------------------------------+----------------+
| Fedora Linux 41               | PASS           |
+-------------------------------+----------------+
| Debian GNU/Linux 12           | PASS           |
+-------------------------------+----------------+
| Red Hat Enterprise Linux 8.10 | PASS           |
+-------------------------------+----------------+
| Ubuntu 20.04                  | PASS           |
+-------------------------------+----------------+
| Red Hat Enterprise Linux 9.5  | PASS           |
+-------------------------------+----------------+
| Ubuntu 22.04                  | PASS           |
+-------------------------------+----------------+
| Ubuntu 24.04                  | PASS           |
+-------------------------------+----------------+
| Windows Server 2022           | PASS           |
+-------------------------------+----------------+


CentOS Stream 9
	Kernel: 5.15
	Compiler: gcc gcc (GCC) 11.5.0 20240719 (Red Hat 11.5.0-11)

CentOS Stream 10
	Kernel: 5.15
	Compiler: gcc gcc (GCC) 14.2.1 20250110 (Red Hat 14.2.1-8)

Fedora Linux 40
	Kernel: 5.15
	Compiler: clang gcc (GCC) 14.2.1 20240912 (Red Hat 14.2.1-3)

Fedora Linux 42
	Kernel: 5.15
	Compiler: clang gcc (GCC) 15.2.1 20250808 (Red Hat 15.2.1-1)

Fedora Linux 41
	Kernel: 5.15
	Compiler: gcc gcc (GCC) 14.3.1 20250523 (Red Hat 14.3.1-1)

Debian GNU/Linux 12
	Kernel: 5.15
	Compiler: gcc gcc (Debian 12.2.0-14+deb12u1) 12.2.0

Red Hat Enterprise Linux 8.10
	Kernel: 5.15
	Compiler: gcc gcc (GCC) 8.5.0 20210514 (Red Hat 8.5.0-22)

Ubuntu 20.04
	Kernel: 5.15
	Compiler: gcc gcc (Ubuntu 9.4.0-1ubuntu1~20.04.2) 9.4.0

Red Hat Enterprise Linux 9.5
	Kernel: 5.15
	Compiler: gcc gcc (GCC) 11.5.0 20240719 (Red Hat 11.5.0-2)

Ubuntu 22.04
	Kernel: 5.15
	Compiler: gcc gcc (Ubuntu 11.4.0-1ubuntu1~22.04) 11.4.0

Ubuntu 24.04
	Kernel: 5.15
	Compiler: gcc gcc (Ubuntu 13.3.0-6ubuntu2~24.04) 13.3.0

Windows Server 2022
	Kernel: 10.0.20348.2031
	Compiler: clang 15.0.7, gcc 14.1.0 (MinGW), and MSVC VS 19.39.33521

To view detailed results, visit:
https://lab.dpdk.org/results/dashboard/patchsets/34284/

UNH-IOL DPDK Community Lab

To manage your email subscriptions, visit: 
https://lab.dpdk.org/results/dashboard/preferences/subscriptions/

  parent reply	other threads:[~2025-10-15 12:11 UTC|newest]

Thread overview: 25+ messages / expand[flat|nested]  mbox.gz  Atom feed  top
     [not found] <20251015100723.1603296-8-ciara.loftus@intel.com>
2025-10-15  9:45 ` |SUCCESS| pw157654-157660 [PATCH v2 7/7] net/ice: reformat the Rx path infos array qemudev
2025-10-15  9:50 ` qemudev
2025-10-15 10:08 ` |SUCCESS| pw157660 " checkpatch
2025-10-15 10:34 ` |PENDING| pw157654-157660 [PATCH] [v2,7/7] net/ice: reformat the Rx dpdklab
2025-10-15 10:37 ` |SUCCESS| " dpdklab
2025-10-15 10:41 ` dpdklab
2025-10-15 10:47 ` dpdklab
2025-10-15 10:52 ` |PENDING| " dpdklab
2025-10-15 10:58 ` dpdklab
2025-10-15 11:02 ` dpdklab
2025-10-15 11:10 ` |SUCCESS| " dpdklab
2025-10-15 11:24 ` dpdklab
2025-10-15 11:41 ` dpdklab
2025-10-15 11:41 ` dpdklab
2025-10-15 11:51 ` |SUCCESS| pw157660 [PATCH v2 7/7] net/ice: reformat the Rx path infos array 0-day Robot
2025-10-15 11:51 ` 0-day Robot
2025-10-15 11:52 ` |SUCCESS| pw157654-157660 [PATCH] [v2,7/7] net/ice: reformat the Rx dpdklab
2025-10-15 11:59 ` dpdklab
2025-10-15 12:01 ` dpdklab
2025-10-15 12:11 ` dpdklab [this message]
2025-10-15 12:16 ` dpdklab
2025-10-15 12:22 ` dpdklab
2025-10-15 12:52 ` dpdklab
2025-10-15 15:38 ` dpdklab
2025-10-15 19:58 ` dpdklab

Reply instructions:

You may reply publicly to this message via plain-text email
using any one of the following methods:

* Save the following mbox file, import it into your mail client,
  and reply-to-all from there: mbox

  Avoid top-posting and favor interleaved quoting:
  https://en.wikipedia.org/wiki/Posting_style#Interleaved_style

* Reply using the --to, --cc, and --in-reply-to
  switches of git-send-email(1):

  git send-email \
    --in-reply-to=68ef8f61.170a0220.2a410a.be54SMTPIN_ADDED_MISSING@mx.google.com \
    --to=dpdklab@iol.unh.edu \
    --cc=bruce.richardson@intel.com \
    --cc=dpdk-test-reports@iol.unh.edu \
    --cc=test-report@dpdk.org \
    /path/to/YOUR_REPLY

  https://kernel.org/pub/software/scm/git/docs/git-send-email.html

* If your mail client supports setting the In-Reply-To header
  via mailto: links, try the mailto: link
Be sure your reply has a Subject: header at the top and a blank line before the message body.
This is a public inbox, see mirroring instructions
for how to clone and mirror all data and code used for this inbox;
as well as URLs for NNTP newsgroup(s).