From mboxrd@z Thu Jan 1 00:00:00 1970 Return-Path: Received: from mails.dpdk.org (mails.dpdk.org [217.70.189.124]) by inbox.dpdk.org (Postfix) with ESMTP id 7CDA848942 for ; Wed, 15 Oct 2025 14:11:15 +0200 (CEST) Received: from mails.dpdk.org (localhost [127.0.0.1]) by mails.dpdk.org (Postfix) with ESMTP id 79AEA40E40; Wed, 15 Oct 2025 14:11:15 +0200 (CEST) Received: from mail-pf1-f228.google.com (mail-pf1-f228.google.com [209.85.210.228]) by mails.dpdk.org (Postfix) with ESMTP id 3E73B40E44 for ; Wed, 15 Oct 2025 14:11:14 +0200 (CEST) Received: by mail-pf1-f228.google.com with SMTP id d2e1a72fcca58-794e300e20dso708306b3a.1 for ; Wed, 15 Oct 2025 05:11:14 -0700 (PDT) DKIM-Signature: v=1; a=rsa-sha256; c=relaxed/relaxed; d=iol.unh.edu; s=unh-iol; t=1760530273; x=1761135073; darn=dpdk.org; h=references:in-reply-to:cc:to:from:subject:message-id:date:from:to :cc:subject:date:message-id:reply-to; bh=aEOAdroiPoushqojhDeTSEAGQ/vVHcU/W2oIsrycwZQ=; b=B0L6XCN4yRFUHX/2yOErxBVkR5pLiwwEye4XDRUhSyTx9oxG3zkjgVmnR+AAAXLXUY RmRRUtBcgbNEeWhnXJocVdKqzyRliTaM0h2v7awC9dDa2YWYryg6VUt6FLQT1twkXcxL 3fESBL30b45w0/DIRVRPy12D13YYGaCVz9ows= X-Google-DKIM-Signature: v=1; a=rsa-sha256; c=relaxed/relaxed; d=1e100.net; s=20230601; t=1760530273; x=1761135073; h=references:in-reply-to:cc:to:from:subject:message-id:date :x-gm-message-state:from:to:cc:subject:date:message-id:reply-to; bh=aEOAdroiPoushqojhDeTSEAGQ/vVHcU/W2oIsrycwZQ=; b=RZ0J9D+ZbWBnyzvtPCttnwcNLLlNyIEcruhHyy/0tmYNmh+qXnahPVYwuoIqdf/fQU bRBxZyu7+Om6YsQiZAlKbnLHHcpyQ1GJiuHJS1CZzQimkSKNli9TSE3hVi2MJBtEXBBs +SLhlOMw+attMu7REs4slZqroPAjVmTWU7RABBY+olPwzwtSIaBolVs3tv7daF+ETNQQ V7lYmAraCvwmLDI+4av5/lBNloD1MfmtytWfjNJPh57B/S5dgf1jk4EKIvcL2QB28kLS B5BBLJCkq7hKf0Qom3Xb1RnLqPOl8DGDPHnxE3EeeNEcS7Upw8DRhzTsgIC4hWxiPlXf /tYQ== X-Gm-Message-State: AOJu0Ywjid22DhFif2EbUfEKXyNgBetD+fsp1J927mv8zinh8vNLt8kR Bb+1t7OHi1ojUjh3zdgR69lEh1U3vOzyALI/ZJNaO8jRkoyd9qANpJ0i2dheGoe4BhLsMeeLtHM 8LOHjxI7gabjZJWjP6GyJ2zhg+EDuYW1F9mTktoQIjCenO6jYZIH+1A4zaDfb X-Gm-Gg: ASbGncu6VQ7MDArEsMKFNnR51z5rXjVgrj1h9NL89frzFY+g8Xz9bC00Hu42qJawgpF LWhuVjUppTd4tZ/+9CTj5Ip3EZF/DxQ338KanpKTYu+rj9wjbGnBHtkXp6coYw2PDDJTEgBDa9w Ocex43VMaLZv9T9/Wk8ltcCWJzSQxXE3NPDkfV8ALlWDz4eKTMPcPBfxBptJsfQgby1wgmnHcbj 7bhE0Qq8OvM/goPhLnLLcb4+888CJbRUzfRDDjt7Eq8E4R+4lbm+aLp4PnW+EmOoD5asCrKF7MJ R9j9i3wuTZ7RMCI5LBCbKqqiGFVUZVnUbSRVWtkW71bMVE5bWg== X-Google-Smtp-Source: AGHT+IGIUS84YwiBRGIdgwqeyxqbXyhxIx1j/cjCWoZBxkTlZddA0IlLwV7RSaI6tvUzPDYalRr4zyzuMbqL X-Received: by 2002:a17:90b:33c8:b0:32e:8ff9:d124 with SMTP id 98e67ed59e1d1-33b5171dc83mr35013887a91.15.1760530273398; Wed, 15 Oct 2025 05:11:13 -0700 (PDT) Received: from postal.iol.unh.edu (postal.iol.unh.edu. [2606:4100:3880:1234::84]) by smtp-relay.gmail.com with ESMTPS id 98e67ed59e1d1-33b626cfe3dsm1543584a91.5.2025.10.15.05.11.13 (version=TLS1_2 cipher=ECDHE-ECDSA-AES128-GCM-SHA256 bits=128/128); Wed, 15 Oct 2025 05:11:13 -0700 (PDT) X-Relaying-Domain: iol.unh.edu Date: Wed, 15 Oct 2025 05:11:13 -0700 (PDT) Message-ID: <68ef8f61.170a0220.2a410a.be54SMTPIN_ADDED_MISSING@mx.google.com> Received: from [172.21.0.2] (unknown [172.18.0.240]) by postal.iol.unh.edu (Postfix) with ESMTP id 897B46050A61; Wed, 15 Oct 2025 08:11:12 -0400 (EDT) Subject: |SUCCESS| pw157654-157660 [PATCH] [v2,7/7] net/ice: reformat the Rx From: dpdklab@iol.unh.edu To: Test Report Cc: dpdk-test-reports@iol.unh.edu, Bruce Richardson In-Reply-To: <20251015100723.1603296-8-ciara.loftus@intel.com> References: <20251015100723.1603296-8-ciara.loftus@intel.com> Content-Type: text/plain X-BeenThere: test-report@dpdk.org X-Mailman-Version: 2.1.29 Precedence: list List-Id: automatic DPDK test reports List-Unsubscribe: , List-Archive: List-Post: List-Help: List-Subscribe: , Errors-To: test-report-bounces@dpdk.org Test-Label: iol-unit-amd64-testing Test-Status: SUCCESS http://dpdk.org/patch/157660 _Testing PASS_ Submitter: Ciara Loftus Date: Wednesday, October 15 2025 10:07:23 DPDK git baseline: Repo:dpdk-next-net-intel Branch: master CommitID:d2d0163cb4200ff7e450fd66eb6a92a931f06de7 157654-157660 --> testing pass Upstream job id: Generic-VM-Unit-Test-DPDK#31808 Test environment and result as below: +-------------------------------+----------------+ | Environment | dpdk_unit_test | +===============================+================+ | CentOS Stream 9 | PASS | +-------------------------------+----------------+ | CentOS Stream 10 | PASS | +-------------------------------+----------------+ | Fedora Linux 40 | PASS | +-------------------------------+----------------+ | Fedora Linux 42 | PASS | +-------------------------------+----------------+ | Fedora Linux 41 | PASS | +-------------------------------+----------------+ | Debian GNU/Linux 12 | PASS | +-------------------------------+----------------+ | Red Hat Enterprise Linux 8.10 | PASS | +-------------------------------+----------------+ | Ubuntu 20.04 | PASS | +-------------------------------+----------------+ | Red Hat Enterprise Linux 9.5 | PASS | +-------------------------------+----------------+ | Ubuntu 22.04 | PASS | +-------------------------------+----------------+ | Ubuntu 24.04 | PASS | +-------------------------------+----------------+ | Windows Server 2022 | PASS | +-------------------------------+----------------+ CentOS Stream 9 Kernel: 5.15 Compiler: gcc gcc (GCC) 11.5.0 20240719 (Red Hat 11.5.0-11) CentOS Stream 10 Kernel: 5.15 Compiler: gcc gcc (GCC) 14.2.1 20250110 (Red Hat 14.2.1-8) Fedora Linux 40 Kernel: 5.15 Compiler: clang gcc (GCC) 14.2.1 20240912 (Red Hat 14.2.1-3) Fedora Linux 42 Kernel: 5.15 Compiler: clang gcc (GCC) 15.2.1 20250808 (Red Hat 15.2.1-1) Fedora Linux 41 Kernel: 5.15 Compiler: gcc gcc (GCC) 14.3.1 20250523 (Red Hat 14.3.1-1) Debian GNU/Linux 12 Kernel: 5.15 Compiler: gcc gcc (Debian 12.2.0-14+deb12u1) 12.2.0 Red Hat Enterprise Linux 8.10 Kernel: 5.15 Compiler: gcc gcc (GCC) 8.5.0 20210514 (Red Hat 8.5.0-22) Ubuntu 20.04 Kernel: 5.15 Compiler: gcc gcc (Ubuntu 9.4.0-1ubuntu1~20.04.2) 9.4.0 Red Hat Enterprise Linux 9.5 Kernel: 5.15 Compiler: gcc gcc (GCC) 11.5.0 20240719 (Red Hat 11.5.0-2) Ubuntu 22.04 Kernel: 5.15 Compiler: gcc gcc (Ubuntu 11.4.0-1ubuntu1~22.04) 11.4.0 Ubuntu 24.04 Kernel: 5.15 Compiler: gcc gcc (Ubuntu 13.3.0-6ubuntu2~24.04) 13.3.0 Windows Server 2022 Kernel: 10.0.20348.2031 Compiler: clang 15.0.7, gcc 14.1.0 (MinGW), and MSVC VS 19.39.33521 To view detailed results, visit: https://lab.dpdk.org/results/dashboard/patchsets/34284/ UNH-IOL DPDK Community Lab To manage your email subscriptions, visit: https://lab.dpdk.org/results/dashboard/preferences/subscriptions/