From mboxrd@z Thu Jan 1 00:00:00 1970 Return-Path: Received: from mails.dpdk.org (mails.dpdk.org [217.70.189.124]) by inbox.dpdk.org (Postfix) with ESMTP id EB61E48942 for ; Wed, 15 Oct 2025 14:16:24 +0200 (CEST) Received: from mails.dpdk.org (localhost [127.0.0.1]) by mails.dpdk.org (Postfix) with ESMTP id E701740A6C; Wed, 15 Oct 2025 14:16:24 +0200 (CEST) Received: from mail-ot1-f100.google.com (mail-ot1-f100.google.com [209.85.210.100]) by mails.dpdk.org (Postfix) with ESMTP id C341840A6C for ; Wed, 15 Oct 2025 14:16:23 +0200 (CEST) Received: by mail-ot1-f100.google.com with SMTP id 46e09a7af769-79d36a6298dso2255964a34.0 for ; Wed, 15 Oct 2025 05:16:23 -0700 (PDT) DKIM-Signature: v=1; a=rsa-sha256; c=relaxed/relaxed; d=iol.unh.edu; s=unh-iol; t=1760530583; x=1761135383; darn=dpdk.org; h=references:in-reply-to:cc:to:from:subject:message-id:date:from:to :cc:subject:date:message-id:reply-to; bh=+Ekptt3vzsZ1/aSZR3WitxT0zuDJu4e4/64Ry+bPhjo=; b=COttZj4gy0/o8icOANY1FlxZ8+JWaiX3jYwxWPo7FgsZ4CpaZfbLxC15Zsv1RoRZNN m6HF1NwSSCp+J6+J2f3d73h/7vUnQJvF9NPmOYe6D5SmN0epUfnLdyNG8AEZyKGP+gwj KVppkJShQ6JaCRQqkwtLLGXQ1yw89smuHmPmY= X-Google-DKIM-Signature: v=1; a=rsa-sha256; c=relaxed/relaxed; d=1e100.net; s=20230601; t=1760530583; x=1761135383; h=references:in-reply-to:cc:to:from:subject:message-id:date :x-gm-message-state:from:to:cc:subject:date:message-id:reply-to; bh=+Ekptt3vzsZ1/aSZR3WitxT0zuDJu4e4/64Ry+bPhjo=; b=p4IfNQXmvZjt8a3lpUYCv/r9PUCsKic3hm5xtBdbRI+Z0C2nK7RM0q1YDhoNNdXp1g bvq5Bvo49YD7FhLp0+zTd/j8mrHK1G7FDXCguWCf/OBPzxZy9j+vATqPBuiLsy3/y9Ze ENeZzS7Wda3hB64HcKjyVsyJ4xxshVzikg9+gauYxVDgKK8zPE5Pce5KqXMs52XGA6Xf zq2WJVU5ppvbAiNbf75mNZm8Renfm/wjxBpCxegKrdB+AM9ZR47P13aMLfaotffveZEI C1tXmVgk8jMTNIr+YWWcvAxNbRHDz/ltQrt+5Q09KOB/aCj5nYahubzhgyc1nxsDHexq QiEA== X-Gm-Message-State: AOJu0YyPrggkxHdLJthz/586BmCeiHp9q8pSRAMRXMfpGvy0zaGMmF7R JIORnKJz4z8FhSTXBbeBhQJb1BJTxeHhGdwj+sTRXH6p1cff3EuFyQ2g6kigu3JuwnOccZNhaDL NH0y1ZlMOcUvIR9d6Epk4TBA9t2bzZVqtsScn3rM7srKwlNyva3iWFgnVYZw1 X-Gm-Gg: ASbGncsQR65+/E3QmVfLSsK/RAW/IULROh9lo5UryL6uZf8vlZ72qpsHpJ3ZxvwkXYT 1lDL2Wtedk19VZqPclud8/NTErBABLkcz97KstCaKGHlyL6U5GX/cWv3WiNpXigizVM9dPRcQ1j SJgsMZRMB+qnmVvosF7ZJAjJmHbF5p7t/kbAi85Bqj60KxSjRO6//KXIuOm+7Czxr+82P1rf13D WtVZ8QBwgTKnHxxWhR1Ectz4Aud/ojdymhHf/jZp5e1G3eKItZbnevm1+p7/sU0KDiDqa4Xiyv9 q5jiQPEDtUl4iCzrBHec4VdCdE0rdR35dodq56KIW3is5gt2fA== X-Google-Smtp-Source: AGHT+IHImahsOwphyd5I69QL/kYBQBBr2PyLFxzwW/kDOYtW8nVJIH9IR+9ILgJ1zpMnFcL1NwjSk3EqTwHg X-Received: by 2002:a05:6808:3447:b0:43f:5d93:3e3d with SMTP id 5614622812f47-4417b3bbdc4mr12548065b6e.35.1760530582700; Wed, 15 Oct 2025 05:16:22 -0700 (PDT) Received: from postal.iol.unh.edu (postal.iol.unh.edu. [2606:4100:3880:1234::84]) by smtp-relay.gmail.com with ESMTPS id 46e09a7af769-7c0f90fbadbsm1312787a34.7.2025.10.15.05.16.22 (version=TLS1_2 cipher=ECDHE-ECDSA-AES128-GCM-SHA256 bits=128/128); Wed, 15 Oct 2025 05:16:22 -0700 (PDT) X-Relaying-Domain: iol.unh.edu Date: Wed, 15 Oct 2025 05:16:22 -0700 (PDT) Message-ID: <68ef9096.050a0220.65232.2546SMTPIN_ADDED_MISSING@mx.google.com> Received: from [172.21.0.2] (unknown [172.18.0.240]) by postal.iol.unh.edu (Postfix) with ESMTP id 2E0FF6050A61; Wed, 15 Oct 2025 08:16:22 -0400 (EDT) Subject: |SUCCESS| pw157654-157660 [PATCH] [v2,7/7] net/ice: reformat the Rx From: dpdklab@iol.unh.edu To: Test Report Cc: dpdk-test-reports@iol.unh.edu, Bruce Richardson In-Reply-To: <20251015100723.1603296-8-ciara.loftus@intel.com> References: <20251015100723.1603296-8-ciara.loftus@intel.com> Content-Type: text/plain X-BeenThere: test-report@dpdk.org X-Mailman-Version: 2.1.29 Precedence: list List-Id: automatic DPDK test reports List-Unsubscribe: , List-Archive: List-Post: List-Help: List-Subscribe: , Errors-To: test-report-bounces@dpdk.org Test-Label: iol-unit-amd64-testing Test-Status: SUCCESS http://dpdk.org/patch/157660 _Testing PASS_ Submitter: Ciara Loftus Date: Wednesday, October 15 2025 10:07:23 DPDK git baseline: Repo:dpdk-next-net-intel Branch: master CommitID:d2d0163cb4200ff7e450fd66eb6a92a931f06de7 157654-157660 --> testing pass Upstream job id: Generic-VM-Unit-Test-DPDK#31809 Test environment and result as below: +-------------------------------+----------------+ | Environment | dpdk_unit_test | +===============================+================+ | CentOS Stream 9 | PASS | +-------------------------------+----------------+ | CentOS Stream 10 | PASS | +-------------------------------+----------------+ | Fedora Linux 40 | PASS | +-------------------------------+----------------+ | Fedora Linux 42 | PASS | +-------------------------------+----------------+ | Fedora Linux 41 | PASS | +-------------------------------+----------------+ | Debian GNU/Linux 12 | PASS | +-------------------------------+----------------+ | Red Hat Enterprise Linux 8.10 | PASS | +-------------------------------+----------------+ | Ubuntu 20.04 | PASS | +-------------------------------+----------------+ | Red Hat Enterprise Linux 9.5 | PASS | +-------------------------------+----------------+ | Ubuntu 22.04 | PASS | +-------------------------------+----------------+ | Ubuntu 24.04 | PASS | +-------------------------------+----------------+ | Windows Server 2022 | PASS | +-------------------------------+----------------+ CentOS Stream 9 Kernel: 5.15 Compiler: gcc gcc (GCC) 11.5.0 20240719 (Red Hat 11.5.0-11) CentOS Stream 10 Kernel: 5.15 Compiler: gcc gcc (GCC) 14.2.1 20250110 (Red Hat 14.2.1-8) Fedora Linux 40 Kernel: 5.15 Compiler: clang gcc (GCC) 14.2.1 20240912 (Red Hat 14.2.1-3) Fedora Linux 42 Kernel: 5.15 Compiler: clang gcc (GCC) 15.2.1 20250808 (Red Hat 15.2.1-1) Fedora Linux 41 Kernel: 5.15 Compiler: gcc gcc (GCC) 14.3.1 20250523 (Red Hat 14.3.1-1) Debian GNU/Linux 12 Kernel: 5.15 Compiler: gcc gcc (Debian 12.2.0-14+deb12u1) 12.2.0 Red Hat Enterprise Linux 8.10 Kernel: 5.15 Compiler: gcc gcc (GCC) 8.5.0 20210514 (Red Hat 8.5.0-22) Ubuntu 20.04 Kernel: 5.15 Compiler: gcc gcc (Ubuntu 9.4.0-1ubuntu1~20.04.2) 9.4.0 Red Hat Enterprise Linux 9.5 Kernel: 5.15 Compiler: gcc gcc (GCC) 11.5.0 20240719 (Red Hat 11.5.0-2) Ubuntu 22.04 Kernel: 5.15 Compiler: gcc gcc (Ubuntu 11.4.0-1ubuntu1~22.04) 11.4.0 Ubuntu 24.04 Kernel: 5.15 Compiler: gcc gcc (Ubuntu 13.3.0-6ubuntu2~24.04) 13.3.0 Windows Server 2022 Kernel: 10.0.20348.2031 Compiler: clang 15.0.7, gcc 14.1.0 (MinGW), and MSVC VS 19.39.33521 To view detailed results, visit: https://lab.dpdk.org/results/dashboard/patchsets/34284/ UNH-IOL DPDK Community Lab To manage your email subscriptions, visit: https://lab.dpdk.org/results/dashboard/preferences/subscriptions/