From mboxrd@z Thu Jan 1 00:00:00 1970 Return-Path: Received: from mails.dpdk.org (mails.dpdk.org [217.70.189.124]) by inbox.dpdk.org (Postfix) with ESMTP id A34AE48942 for ; Wed, 15 Oct 2025 14:42:05 +0200 (CEST) Received: from mails.dpdk.org (localhost [127.0.0.1]) by mails.dpdk.org (Postfix) with ESMTP id 8D97A40273; Wed, 15 Oct 2025 14:42:05 +0200 (CEST) Received: from mail-qv1-f98.google.com (mail-qv1-f98.google.com [209.85.219.98]) by mails.dpdk.org (Postfix) with ESMTP id B11A540273 for ; Wed, 15 Oct 2025 14:42:04 +0200 (CEST) Received: by mail-qv1-f98.google.com with SMTP id 6a1803df08f44-7946137e7a2so98578456d6.0 for ; Wed, 15 Oct 2025 05:42:04 -0700 (PDT) DKIM-Signature: v=1; a=rsa-sha256; c=relaxed/relaxed; d=iol.unh.edu; s=unh-iol; t=1760532124; x=1761136924; darn=dpdk.org; h=references:in-reply-to:cc:to:from:subject:message-id:date:from:to :cc:subject:date:message-id:reply-to; bh=9fozQq6cZ8RWS7ayuNbB63fU7SFT2Rls8u6L5H4f+zA=; b=cU1YoOdp7ELg2jVIhMIsueTxt9K4jloJQEVSJzfocQBl0WsCoLCjTxmkGuJJpr8MTB D8H/Er/tHyAl6eq0VwLngrsspTChaI2qP5vToNxkdXZtGsWsBRb9SrFXewtnnJeyRJiT 4+345I0zOhHwRyKLVqVF3hIv2manqDsCqtU+E= X-Google-DKIM-Signature: v=1; a=rsa-sha256; c=relaxed/relaxed; d=1e100.net; s=20230601; t=1760532124; x=1761136924; h=references:in-reply-to:cc:to:from:subject:message-id:date :x-gm-message-state:from:to:cc:subject:date:message-id:reply-to; bh=9fozQq6cZ8RWS7ayuNbB63fU7SFT2Rls8u6L5H4f+zA=; b=wsoS24b1i1GgP02+jWUQuC37kIj/ruS1XLdsa1TjGFUqrQKZMaWlkdAXGKteKF5DRC vtxSb4kmBVnKp4+lbnuYd/LFqci8HvWOmKvEM0uBYVhgnErLf6h6ZH2LSs17U8JCRlVm ByKqQuJysKdDtDsj7p7E9MgRZFM2418Wi1c4osTDLT4uIJeBmBEUWgtuwAfj2KByCh/V 5HDjXYnkDl15sDrFKjRV/Kn+1Ba6ysu+v7rTCo/7ObP+ytWozNIQJfbg7h9nrf0z0RN1 LyImejLHQ5b51Z0EWMBNh2kBALlBoMGoCbPX8+JyD45z4boKlMJT/pkf8hH1aTxFhJDO TlWw== X-Gm-Message-State: AOJu0Yxb5fYl4cgT+FqYRN3DKTRYAZLm7MCePQX8Qr8FBEDDc1SVc2wc AHdVJEa2WSvAapCphqdOTy5W9UJWU7RVvZgdZTsverXRQ2/qeAxfVLf0yOJB+dhMGEsuA1bOLJ+ 0Iii5m32w4MoeW1ucMjm6s6PDuJQQVuVe5hSDShmfIwa3 X-Gm-Gg: ASbGncu+CK8ayYY/bIasxX0u2HEDg/FwEoqpUjZT8wL87bLmJOWFg+WJMLNnJ7CH/8T fNX8MtBi/QEZSgiRsEubCJjo4TxQEn0ccA1uXOzEnYtgixJoo9C5xGr8ZVl8mioNyNrXeoEcaaO k7JmhfBO87NA2Hty0ahJxGJOlvw5/SpC6tns+wJ57dZyOAnvds29BvxZ68o6hCjnPXWRiEtLtUY Q4+HWSIoMjrWBy3xtOn7px2Kz+hcFGJy4pcN8kBlLc5gDUil1/3bdSsr18vwBgycbMa9f4zbmYe SlgeDldwJY/K4XmWBzQlI42YF/2C9ET6b7jc9bAGChkf/LZI6J50L/FPstIaNd4D5d7Jko0V X-Google-Smtp-Source: AGHT+IHU+uipAgaUV6yQzR34eyht1oEi0P1mdzE5u1VxclMPz7+F1c0Q00i/yjpz1vxyG7MgRcnMOwyXZm9P X-Received: by 2002:a05:6214:1303:b0:782:3e4c:9ea0 with SMTP id 6a1803df08f44-87b2f032e1emr359292896d6.59.1760532123899; Wed, 15 Oct 2025 05:42:03 -0700 (PDT) Received: from postal.iol.unh.edu (postal.iol.unh.edu. [132.177.123.84]) by smtp-relay.gmail.com with ESMTPS id 6a1803df08f44-87c01221002sm2341206d6.9.2025.10.15.05.42.03 (version=TLS1_2 cipher=ECDHE-ECDSA-AES128-GCM-SHA256 bits=128/128); Wed, 15 Oct 2025 05:42:03 -0700 (PDT) X-Relaying-Domain: iol.unh.edu Date: Wed, 15 Oct 2025 05:42:03 -0700 (PDT) Message-ID: <68ef969b.050a0220.2253ea.b55bSMTPIN_ADDED_MISSING@mx.google.com> Received: from [172.21.0.2] (unknown [172.18.0.240]) by postal.iol.unh.edu (Postfix) with ESMTP id 9590A6050A61; Wed, 15 Oct 2025 08:42:03 -0400 (EDT) Subject: |SUCCESS| pw157578-157597 [PATCH] [21/21] net/ena: upgrade driver ve From: dpdklab@iol.unh.edu To: Test Report Cc: dpdk-test-reports@iol.unh.edu In-Reply-To: <20251015071730.1286-1-shaibran@amazon.com> References: <20251015071730.1286-1-shaibran@amazon.com> Content-Type: text/plain X-BeenThere: test-report@dpdk.org X-Mailman-Version: 2.1.29 Precedence: list List-Id: automatic DPDK test reports List-Unsubscribe: , List-Archive: List-Post: List-Help: List-Subscribe: , Errors-To: test-report-bounces@dpdk.org Test-Label: iol-compile-arm64-testing Test-Status: SUCCESS http://dpdk.org/patch/157597 _Testing PASS_ Submitter: Shai Brandes Date: Wednesday, October 15 2025 07:17:30 DPDK git baseline: Repo:dpdk Branch: master CommitID:7cacb5b3f6cc89785f9383ac9544e61dc971897d 157578-157597 --> testing pass Upstream job id: Generic-DPDK-Compile-Meson#434394 Test environment and result as below: +------------------------------+--------------------+ | Environment | dpdk_meson_compile | +==============================+====================+ | Ubuntu 20.04 | PASS | +------------------------------+--------------------+ | Red Hat Enterprise Linux 9.5 | PASS | +------------------------------+--------------------+ | Debian GNU/Linux 12 | PASS | +------------------------------+--------------------+ | Fedora Linux 42 | PASS | +------------------------------+--------------------+ | CentOS Stream 10 | PASS | +------------------------------+--------------------+ | CentOS Stream 9 | PASS | +------------------------------+--------------------+ | Ubuntu 24.04 | PASS | +------------------------------+--------------------+ | Ubuntu 22.04 | PASS | +------------------------------+--------------------+ Ubuntu 20.04 Kernel: 5.15 Compiler: aarch64-linux-gnu-gcc gcc (Ubuntu 9.4.0-1ubuntu1~20.04.2) 9.4.0 Red Hat Enterprise Linux 9.5 Kernel: 5.4 Compiler: gcc gcc (GCC) 11.5.0 20240719 (Red Hat 11.5.0-2) Debian GNU/Linux 12 Kernel: 5.4 Compiler: gcc gcc (Debian 12.2.0-14+deb12u1) 12.2.0 Fedora Linux 42 Kernel: 5.4 Compiler: gcc gcc (GCC) 15.2.1 20250808 (Red Hat 15.2.1-1) CentOS Stream 10 Kernel: 5.4 Compiler: gcc gcc (GCC) 14.2.1 20250110 (Red Hat 14.2.1-8) CentOS Stream 9 Kernel: 5.4 Compiler: gcc gcc (GCC) 11.5.0 20240719 (Red Hat 11.5.0-11) Ubuntu 24.04 Kernel: 5.4 Compiler: gcc gcc (Ubuntu 13.3.0-6ubuntu2~24.04) 13.3.0 Ubuntu 22.04 Kernel: 5.4 Compiler: gcc gcc (Ubuntu 11.4.0-1ubuntu1~22.04) 11.4.0 To view detailed results, visit: https://lab.dpdk.org/results/dashboard/patchsets/34281/ UNH-IOL DPDK Community Lab To manage your email subscriptions, visit: https://lab.dpdk.org/results/dashboard/preferences/subscriptions/