From mboxrd@z Thu Jan 1 00:00:00 1970 Return-Path: Received: from mails.dpdk.org (mails.dpdk.org [217.70.189.124]) by inbox.dpdk.org (Postfix) with ESMTP id E290548942 for ; Wed, 15 Oct 2025 14:49:27 +0200 (CEST) Received: from mails.dpdk.org (localhost [127.0.0.1]) by mails.dpdk.org (Postfix) with ESMTP id BFC0E40273; Wed, 15 Oct 2025 14:49:27 +0200 (CEST) Received: from mail-pl1-f227.google.com (mail-pl1-f227.google.com [209.85.214.227]) by mails.dpdk.org (Postfix) with ESMTP id D2D6C40273 for ; Wed, 15 Oct 2025 14:49:25 +0200 (CEST) Received: by mail-pl1-f227.google.com with SMTP id d9443c01a7336-27d2c35c459so46147285ad.0 for ; Wed, 15 Oct 2025 05:49:25 -0700 (PDT) DKIM-Signature: v=1; a=rsa-sha256; c=relaxed/relaxed; d=iol.unh.edu; s=unh-iol; t=1760532565; x=1761137365; darn=dpdk.org; h=cc:to:from:subject:message-id:date:from:to:cc:subject:date :message-id:reply-to; bh=8bMoK/Xm1pLZxIGjWT69Ll1Cq6MkKB6e0Z3WJgtjHlg=; b=Ac7eC91HpgdrmkwEw2mwN8j7Z7yR+ubNJ7Zoycm9LWiHvY401U+Y0nvEuCS3HKr3uZ s1PMVYj5l773+XQn3fqFycRtawalv+x8FcAAa6CPPnnLe8E7KNpLYTcPzRTgXbIJ+nKo serKwXPb726uDnd1T+Qif9SfE4dfrIYNkwRNM= X-Google-DKIM-Signature: v=1; a=rsa-sha256; c=relaxed/relaxed; d=1e100.net; s=20230601; t=1760532565; x=1761137365; h=cc:to:from:subject:message-id:date:x-gm-message-state:from:to:cc :subject:date:message-id:reply-to; bh=8bMoK/Xm1pLZxIGjWT69Ll1Cq6MkKB6e0Z3WJgtjHlg=; b=mtxGDt2G8ge89OTejRQ1m7aDCUGSRSUDynudivF69KGw8Dgt92Eql1NuBw0JiVmUNK 1dB7LwMbw6aqDcDXTdMxW1aadriozXjgBHGmOnH3wIX5pf+CmTEMW7Qo17p61GkY8x4Y wge+s0JK20jvCdnN1nykg3cqusimzsZhV/MPW4lFWzsD54Kgy55xS1azPv6vL389yoB8 dovgAAsNfHxV36Bl/UehSk4HsdQT8CNin25/PPf9sYqcwR3FNaZn2Y80sdM7aSEaRBEL uajlmi8pvuWmBTM7fIpo7PvV5r18hf72borR3NvZkoPbeXxn7gaaXIPtHRbKsL3jK6Vn vgIQ== X-Gm-Message-State: AOJu0Yw3Ekcw3qtSm0ZRnBRnBycvlaIPDCNnOZcf9ajBG4rnbFpYy4NV QLziWPA2U1J/FlXyGFfSlKZZzveapZELYL5VI08F0eHUG4xpiqq/I/Cu8ZEoNB0s1ykhK6D7NRj wzCLgT66BhowkgEM9WO5h/vHs3fbbZ9/Xo+yWOAOfEgv5 X-Gm-Gg: ASbGncv5oLtdonErVTHUWQl3/LCvsmLG420l6gyC+NGWGKcD7vpCeoyp4mu03mxYi9Y myR1aSLwvDVNCUlgi6uMrU2sXRYSRNeTaEJZQUdtzOBv2dMQIpxRLwUknMexs74i4q2PDltC1XP gDwQHBnydUvWINwD66HqhklDnMGi90ULV6UzJL+gYnTiUleEBbYKH5K76C+UhjFyq+UZkFFytBX ZcHXrGTaqUjI+QRoQHlXTYGAzn74w2W/Eu34bx7zSx5i+06mASi2Nr5qPoLA4oQvJIqDpEE1If7 t9henhyf8WaxFpIhNOwcTz5pKmqvA7b0J/044bcIcXqPr6S7Z0ZSoXdDxb+Toyy1ayMZGcCw X-Google-Smtp-Source: AGHT+IG0Wq2pyWDvQbwid6PirM7XcwH8JWXKwnILarmTCyG22Br+V+uWXIyXVcS3KRg/QqH3UEZbGdkGmcDi X-Received: by 2002:a17:902:cec2:b0:25c:2a4c:1ca3 with SMTP id d9443c01a7336-290273448c7mr371768775ad.30.1760532564948; Wed, 15 Oct 2025 05:49:24 -0700 (PDT) Received: from postal.iol.unh.edu (postal.iol.unh.edu. [132.177.123.84]) by smtp-relay.gmail.com with ESMTPS id 98e67ed59e1d1-33b61a1d3a0sm1473147a91.1.2025.10.15.05.49.24 (version=TLS1_2 cipher=ECDHE-ECDSA-AES128-GCM-SHA256 bits=128/128); Wed, 15 Oct 2025 05:49:24 -0700 (PDT) X-Relaying-Domain: iol.unh.edu Date: Wed, 15 Oct 2025 05:49:24 -0700 (PDT) Message-ID: <68ef9854.170a0220.91df5.97c1SMTPIN_ADDED_MISSING@mx.google.com> Received: from [172.21.0.4] (unknown [172.18.0.240]) by postal.iol.unh.edu (Postfix) with ESMTP id 3554B6050A61; Wed, 15 Oct 2025 08:49:24 -0400 (EDT) Subject: |SUCCESS| [GIT MASTER] d2d0163cb4200ff7e450fd66eb6a92a931f06de7 From: dpdklab@iol.unh.edu To: Test Report Cc: dpdk-test-reports@iol.unh.edu, Bruce Richardson Content-Type: text/plain X-BeenThere: test-report@dpdk.org X-Mailman-Version: 2.1.29 Precedence: list List-Id: automatic DPDK test reports List-Unsubscribe: , List-Archive: List-Post: List-Help: List-Subscribe: , Errors-To: test-report-bounces@dpdk.org _Testing PASS_ Branch: dpdk-next-net-intel d2d0163cb4200ff7e450fd66eb6a92a931f06de7 --> testing pass Upstream job id: Windows-Compile-DPDK-VS#7203 Test environment and result as below: +-------------------------------+--------------------+-------------------+------------------+-------------------+ | Environment | dpdk_meson_compile | dpdk_compile_spdk | dpdk_compile_ovs | dpdk_msvc_compile | +===============================+====================+===================+==================+===================+ | Ubuntu 20.04 | PASS | SKIPPED | SKIPPED | SKIPPED | +-------------------------------+--------------------+-------------------+------------------+-------------------+ | FreeBSD 14.2 | PASS | SKIPPED | SKIPPED | SKIPPED | +-------------------------------+--------------------+-------------------+------------------+-------------------+ | CentOS Stream 9 | PASS | PASS | SKIPPED | SKIPPED | +-------------------------------+--------------------+-------------------+------------------+-------------------+ | CentOS Stream 10 | PASS | SKIPPED | SKIPPED | SKIPPED | +-------------------------------+--------------------+-------------------+------------------+-------------------+ | Debian GNU/Linux 12 | PASS | PASS | SKIPPED | SKIPPED | +-------------------------------+--------------------+-------------------+------------------+-------------------+ | Fedora Linux 42 | PASS | PASS | PASS | SKIPPED | +-------------------------------+--------------------+-------------------+------------------+-------------------+ | openSUSE Leap 15.6 | PASS | SKIPPED | SKIPPED | SKIPPED | +-------------------------------+--------------------+-------------------+------------------+-------------------+ | Red Hat Enterprise Linux 8.10 | PASS | SKIPPED | SKIPPED | SKIPPED | +-------------------------------+--------------------+-------------------+------------------+-------------------+ | Red Hat Enterprise Linux 9.5 | PASS | SKIPPED | SKIPPED | SKIPPED | +-------------------------------+--------------------+-------------------+------------------+-------------------+ | Ubuntu 22.04 | PASS | PASS | SKIPPED | SKIPPED | +-------------------------------+--------------------+-------------------+------------------+-------------------+ | Ubuntu 24.04 | PASS | PASS | PASS | SKIPPED | +-------------------------------+--------------------+-------------------+------------------+-------------------+ | Alpine Linux 3.22.0 | PASS | SKIPPED | SKIPPED | SKIPPED | +-------------------------------+--------------------+-------------------+------------------+-------------------+ | Windows Server 2022 | SKIPPED | SKIPPED | SKIPPED | PASS | +-------------------------------+--------------------+-------------------+------------------+-------------------+ Ubuntu 20.04 Kernel: 4.19 Compiler: gcc gcc (Ubuntu 9.4.0-1ubuntu1~20.04.2) 9.4.0 FreeBSD 14.2 Kernel: 14.2-RELEASE Compiler: clang 18.1.6 CentOS Stream 9 Kernel: 5.15 Compiler: gcc gcc (GCC) 11.5.0 20240719 (Red Hat 11.5.0-11) CentOS Stream 10 Kernel: 5.15 Compiler: gcc gcc (GCC) 14.2.1 20250110 (Red Hat 14.2.1-8) Debian GNU/Linux 12 Kernel: 5.15 Compiler: gcc gcc (Debian 12.2.0-14+deb12u1) 12.2.0 Fedora Linux 42 Kernel: 5.15 Compiler: clang gcc (GCC) 15.2.1 20250808 (Red Hat 15.2.1-1) openSUSE Leap 15.6 Kernel: 5.15 Compiler: gcc gcc (SUSE Linux) 7.5.0 Red Hat Enterprise Linux 8.10 Kernel: 5.15 Compiler: gcc gcc (GCC) 8.5.0 20210514 (Red Hat 8.5.0-22) Red Hat Enterprise Linux 9.5 Kernel: 5.15 Compiler: gcc gcc (GCC) 11.5.0 20240719 (Red Hat 11.5.0-2) Ubuntu 22.04 Kernel: 5.15 Compiler: gcc gcc (Ubuntu 11.4.0-1ubuntu1~22.04) 11.4.0 Ubuntu 24.04 Kernel: 5.15 Compiler: gcc gcc (Ubuntu 13.3.0-6ubuntu2~24.04) 13.3.0 Alpine Linux 3.22.0 Kernel: 5.15 Compiler: gcc gcc (Alpine 14.2.0) 14.2.0 Windows Server 2022 Kernel: 10.0.20348.2031 Compiler: clang 15.0.7, gcc 14.1.0 (MinGW), and MSVC VS 19.39.33521 To view detailed results, visit: https://lab.dpdk.org/results/dashboard/tarballs/35217/ UNH-IOL DPDK Community Lab To manage your email subscriptions, visit: https://lab.dpdk.org/results/dashboard/preferences/subscriptions/