From mboxrd@z Thu Jan 1 00:00:00 1970 Return-Path: Received: from mails.dpdk.org (mails.dpdk.org [217.70.189.124]) by inbox.dpdk.org (Postfix) with ESMTP id 39A3448942 for ; Wed, 15 Oct 2025 14:52:41 +0200 (CEST) Received: from mails.dpdk.org (localhost [127.0.0.1]) by mails.dpdk.org (Postfix) with ESMTP id 339FA40273; Wed, 15 Oct 2025 14:52:41 +0200 (CEST) Received: from mail-pg1-f225.google.com (mail-pg1-f225.google.com [209.85.215.225]) by mails.dpdk.org (Postfix) with ESMTP id 31A3940273 for ; Wed, 15 Oct 2025 14:52:40 +0200 (CEST) Received: by mail-pg1-f225.google.com with SMTP id 41be03b00d2f7-b608df6d2a0so5130133a12.1 for ; Wed, 15 Oct 2025 05:52:40 -0700 (PDT) DKIM-Signature: v=1; a=rsa-sha256; c=relaxed/relaxed; d=iol.unh.edu; s=unh-iol; t=1760532759; x=1761137559; darn=dpdk.org; h=references:in-reply-to:cc:to:from:subject:message-id:date:from:to :cc:subject:date:message-id:reply-to; bh=Q3RFhTUjbJN7eAsZQgyZwvAoo9mbiwohl1uwWC6Gh8M=; b=KAE9P/1LjiBb5zcaNCIndzoe6uTDbxVhNmnYbGkQBE8B2Vu7gJVVdhdHMhWA3RfvPc aMHCTBsqkVRumIJoyBvk2UOY5xy8PqEduPKwqhiDoiwTCPBj5U6Xx964yzKoYQS/d/1T IH8TwPsf098HOdrLO12TUT/IaKbAU57SQ0hXo= X-Google-DKIM-Signature: v=1; a=rsa-sha256; c=relaxed/relaxed; d=1e100.net; s=20230601; t=1760532759; x=1761137559; h=references:in-reply-to:cc:to:from:subject:message-id:date :x-gm-message-state:from:to:cc:subject:date:message-id:reply-to; bh=Q3RFhTUjbJN7eAsZQgyZwvAoo9mbiwohl1uwWC6Gh8M=; b=Rf/AlnndAGv23tTw5NBA5z4WUIAluuk699ZRFMsS6B4wS6nFEHd8e9gSLr1mGyZ2r6 RSodwUb/gytf4U9b5DieHV1FBqVRL5cLRLdWt/VV3Hk+E7VT/aYLnDfcyLojiTQQA2sl fq4XKSWVvWK3reWTYahK/0AvCuRT9PE7+ZHtwaICD0Z5dZybKEjYKCtVew7C88x5qgha aRl86yk1I5qX2/aSCOz0ipq3L+TS1WXgc2AM0d8DhiMWZOKZUSaYNVIGSJs+ILor63zb IkcHZR0hJwfX8blJueJ+BHKA6S2nk5JCXagVQb1Hz7a1YwtZXopAKdaZJhTYS7yZGBS5 CDSQ== X-Gm-Message-State: AOJu0YxxLQltPZJ5t497BdlRFY0tttjYKELIuGMKQTWYDazQvYWk7Chh sDvzYdaCO/Ql5P/Gd5arqEap5B+Dfil11UYMduOgahKzALySVHF9Vh2rPyqQT9wKMhecfWbmpZe Hq5ICpr+j1LcxVO56zoUPBi7aEznSi67TRLj9i8AIXM4d X-Gm-Gg: ASbGnculMWqGBY1l7h20kNjc8d7UJo/vS2awg+da+Lwh2V4yOQoAx3ADEKYwZz4eUW4 2JWWqnePix0O9OyebN8+0xQNT25yuK+k0ndiNdci9nSDOxDOnzpM3IG8Ws/Aolkj3vPwq0zkk75 U/GYbTUmuTGNI9KwqAohtXMR8kK6fUYVWRL3UpcYIrla6Ev9FgPiLIp8Jejzcny+9IXPNQ27Hj3 JsCmFxvV3tYNSxdVbqyYcCqyu6aEKDJKATs4NLVn0JutiCmJMMzkwtaDQ6gVyh52SE+jRbmBYB6 KqOGiLmwk47mwltEPXDVIkBsgQWpD69q1Bp2yhcQeNkkuTk+dbbZnOgx4J68h/9M2GUlSGz0 X-Google-Smtp-Source: AGHT+IGKlwiS2Wp5T7OELrEqRZW8ZP7box3IIsDDZSh9RZRuquw5GK3SSJ7nmuiR0ZZYnZE/uld61wwV64yO X-Received: by 2002:a17:903:18d:b0:290:567a:bb98 with SMTP id d9443c01a7336-290567abf98mr190481295ad.57.1760532759277; Wed, 15 Oct 2025 05:52:39 -0700 (PDT) Received: from postal.iol.unh.edu (postal.iol.unh.edu. [132.177.123.84]) by smtp-relay.gmail.com with ESMTPS id d9443c01a7336-29034df5c90sm16464105ad.14.2025.10.15.05.52.39 (version=TLS1_2 cipher=ECDHE-ECDSA-AES128-GCM-SHA256 bits=128/128); Wed, 15 Oct 2025 05:52:39 -0700 (PDT) X-Relaying-Domain: iol.unh.edu Date: Wed, 15 Oct 2025 05:52:39 -0700 (PDT) Message-ID: <68ef9917.170a0220.c6551.243bSMTPIN_ADDED_MISSING@mx.google.com> Received: from [172.21.0.2] (unknown [172.18.0.240]) by postal.iol.unh.edu (Postfix) with ESMTP id B0C986050A61; Wed, 15 Oct 2025 08:52:38 -0400 (EDT) Subject: |SUCCESS| pw157654-157660 [PATCH] [v2,7/7] net/ice: reformat the Rx From: dpdklab@iol.unh.edu To: Test Report Cc: dpdk-test-reports@iol.unh.edu, Bruce Richardson In-Reply-To: <20251015100723.1603296-8-ciara.loftus@intel.com> References: <20251015100723.1603296-8-ciara.loftus@intel.com> Content-Type: text/plain X-BeenThere: test-report@dpdk.org X-Mailman-Version: 2.1.29 Precedence: list List-Id: automatic DPDK test reports List-Unsubscribe: , List-Archive: List-Post: List-Help: List-Subscribe: , Errors-To: test-report-bounces@dpdk.org Test-Label: iol-compile-amd64-testing Test-Status: SUCCESS http://dpdk.org/patch/157660 _Testing PASS_ Submitter: Ciara Loftus Date: Wednesday, October 15 2025 10:07:23 DPDK git baseline: Repo:dpdk-next-net-intel Branch: master CommitID:d2d0163cb4200ff7e450fd66eb6a92a931f06de7 157654-157660 --> testing pass Upstream job id: Windows-Compile-DPDK-Native#31638 Test environment and result as below: +-------------------------------+--------------------+-------------------+------------------+-------------------+-------------------------+----------------------+ | Environment | dpdk_meson_compile | dpdk_compile_spdk | dpdk_compile_ovs | dpdk_msvc_compile | dpdk_llvm_clang_compile | dpdk_mingw64_compile | +===============================+====================+===================+==================+===================+=========================+======================+ | CentOS Stream 10 | PASS | SKIPPED | SKIPPED | SKIPPED | SKIPPED | SKIPPED | +-------------------------------+--------------------+-------------------+------------------+-------------------+-------------------------+----------------------+ | CentOS Stream 9 | PASS | PASS | SKIPPED | SKIPPED | SKIPPED | SKIPPED | +-------------------------------+--------------------+-------------------+------------------+-------------------+-------------------------+----------------------+ | openSUSE Leap 15.6 | PASS | SKIPPED | SKIPPED | SKIPPED | SKIPPED | SKIPPED | +-------------------------------+--------------------+-------------------+------------------+-------------------+-------------------------+----------------------+ | Ubuntu 20.04 | PASS | SKIPPED | SKIPPED | SKIPPED | SKIPPED | SKIPPED | +-------------------------------+--------------------+-------------------+------------------+-------------------+-------------------------+----------------------+ | Fedora Linux 42 | PASS | PASS | PASS | SKIPPED | SKIPPED | SKIPPED | +-------------------------------+--------------------+-------------------+------------------+-------------------+-------------------------+----------------------+ | Debian GNU/Linux 12 | PASS | PASS | SKIPPED | SKIPPED | SKIPPED | SKIPPED | +-------------------------------+--------------------+-------------------+------------------+-------------------+-------------------------+----------------------+ | Red Hat Enterprise Linux 8.10 | PASS | SKIPPED | SKIPPED | SKIPPED | SKIPPED | SKIPPED | +-------------------------------+--------------------+-------------------+------------------+-------------------+-------------------------+----------------------+ | Red Hat Enterprise Linux 9.5 | PASS | SKIPPED | SKIPPED | SKIPPED | SKIPPED | SKIPPED | +-------------------------------+--------------------+-------------------+------------------+-------------------+-------------------------+----------------------+ | Ubuntu 24.04 | PASS | PASS | PASS | SKIPPED | SKIPPED | SKIPPED | +-------------------------------+--------------------+-------------------+------------------+-------------------+-------------------------+----------------------+ | Ubuntu 22.04 | PASS | PASS | SKIPPED | SKIPPED | SKIPPED | SKIPPED | +-------------------------------+--------------------+-------------------+------------------+-------------------+-------------------------+----------------------+ | FreeBSD 14.2 | PASS | SKIPPED | SKIPPED | SKIPPED | SKIPPED | SKIPPED | +-------------------------------+--------------------+-------------------+------------------+-------------------+-------------------------+----------------------+ | Alpine Linux 3.22.0 | PASS | SKIPPED | SKIPPED | SKIPPED | SKIPPED | SKIPPED | +-------------------------------+--------------------+-------------------+------------------+-------------------+-------------------------+----------------------+ | Windows Server 2022 | SKIPPED | SKIPPED | SKIPPED | PASS | PASS | PASS | +-------------------------------+--------------------+-------------------+------------------+-------------------+-------------------------+----------------------+ CentOS Stream 10 Kernel: 5.15 Compiler: gcc gcc (GCC) 14.2.1 20250110 (Red Hat 14.2.1-8) CentOS Stream 9 Kernel: 5.15 Compiler: gcc gcc (GCC) 11.5.0 20240719 (Red Hat 11.5.0-11) openSUSE Leap 15.6 Kernel: 5.15 Compiler: gcc gcc (SUSE Linux) 7.5.0 Ubuntu 20.04 Kernel: 4.19 Compiler: gcc gcc (Ubuntu 9.4.0-1ubuntu1~20.04.2) 9.4.0 Fedora Linux 42 Kernel: 5.15 Compiler: gcc gcc (GCC) 15.2.1 20250808 (Red Hat 15.2.1-1) Debian GNU/Linux 12 Kernel: 5.15 Compiler: gcc gcc (Debian 12.2.0-14+deb12u1) 12.2.0 Red Hat Enterprise Linux 8.10 Kernel: 5.15 Compiler: gcc gcc (GCC) 8.5.0 20210514 (Red Hat 8.5.0-22) Red Hat Enterprise Linux 9.5 Kernel: 5.15 Compiler: gcc gcc (GCC) 11.5.0 20240719 (Red Hat 11.5.0-2) Ubuntu 24.04 Kernel: 5.15 Compiler: gcc gcc (Ubuntu 13.3.0-6ubuntu2~24.04) 13.3.0 Ubuntu 22.04 Kernel: 5.15 Compiler: gcc gcc (Ubuntu 11.4.0-1ubuntu1~22.04) 11.4.0 FreeBSD 14.2 Kernel: 14.2-RELEASE Compiler: clang 18.1.6 Alpine Linux 3.22.0 Kernel: 5.15 Compiler: gcc gcc (Alpine 14.2.0) 14.2.0 Windows Server 2022 Kernel: 10.0.20348.2031 Compiler: clang 15.0.7, gcc 14.1.0 (MinGW), and MSVC VS 19.39.33521 To view detailed results, visit: https://lab.dpdk.org/results/dashboard/patchsets/34284/ UNH-IOL DPDK Community Lab To manage your email subscriptions, visit: https://lab.dpdk.org/results/dashboard/preferences/subscriptions/