From mboxrd@z Thu Jan 1 00:00:00 1970 Return-Path: Received: from mails.dpdk.org (mails.dpdk.org [217.70.189.124]) by inbox.dpdk.org (Postfix) with ESMTP id 6E7D648945 for ; Wed, 15 Oct 2025 15:03:37 +0200 (CEST) Received: from mails.dpdk.org (localhost [127.0.0.1]) by mails.dpdk.org (Postfix) with ESMTP id 4E3E140B9F; Wed, 15 Oct 2025 15:03:37 +0200 (CEST) Received: from mail-qv1-f100.google.com (mail-qv1-f100.google.com [209.85.219.100]) by mails.dpdk.org (Postfix) with ESMTP id 58DF240273 for ; Wed, 15 Oct 2025 15:03:36 +0200 (CEST) Received: by mail-qv1-f100.google.com with SMTP id 6a1803df08f44-791875a9071so86691596d6.1 for ; Wed, 15 Oct 2025 06:03:36 -0700 (PDT) DKIM-Signature: v=1; a=rsa-sha256; c=relaxed/relaxed; d=iol.unh.edu; s=unh-iol; t=1760533416; x=1761138216; darn=dpdk.org; h=cc:to:from:subject:message-id:date:from:to:cc:subject:date :message-id:reply-to; bh=StMnzDljSBTcR0BcCccs1ycLa/5OzIW1aBEP+jYtin4=; b=fm5AwAT2I2WencKuReJ3HoeyJi5h0+fFHwtFafcdiZ6vKLHuJXl4Sx6p08gCubNvME /OXLNEJfuZIF3bjvs1dIC7gm0bsrYHcNfw79JPA8sDW2A3k0NE0Ng/AYfLeWCvjRsHGp fSrm7qt3ePAupzE5iMLVfSH6o4gfICt6/50ug= X-Google-DKIM-Signature: v=1; a=rsa-sha256; c=relaxed/relaxed; d=1e100.net; s=20230601; t=1760533416; x=1761138216; h=cc:to:from:subject:message-id:date:x-gm-message-state:from:to:cc :subject:date:message-id:reply-to; bh=StMnzDljSBTcR0BcCccs1ycLa/5OzIW1aBEP+jYtin4=; b=CNFJvLDWddELsga20Gx79yfmS386ToyQoh36NWZNXo2sDz9BlVRESpBrAkWU1o+jIp QIAIoRuZucn1jbV17KnQCy9nuxo7p3ulYhPjLkA/r4FNnCxcV3sDQnaEJc6pPqfT8KiU m5TX//hXrXrmZjt6GByRyqwbkKduc5jiyS0JvJ1PLD+5X8CJqkIiz/It3ctcYzWOhujv O/Dme0Gfp4Ko7FkSpvXUIUqaZgFFm/SFgrqSl+UFIHzucDpOLP9JO5/mEWiCvGah5Yad V85qmdvX9qfvr0788vL4QMzndfzMYkwpwInf5JXAC9oM5gazCnTdBGkkE6gLEPaRco4R TG7Q== X-Gm-Message-State: AOJu0YzxDTgJlgXPbMpCzH7EEYI6FR7Lvys5OLj4mgFSsXxZRWy+dEUd 31BDrvNp5MzRvGD+s8wDB4H6us1vl13jS0WMsL1ZhIsPzz5kpjs46f/RcosIHZYSaaPK7/CDv7h gUuOInrucirhDQ+kfdpr8QK5LtEU8gYzDAgHGVuHkTsTJ X-Gm-Gg: ASbGncsK2xEoyquDV8iwZzUyJLcv0tJ9m3iEEHtxQyVKN+3qtTnX3m2rlXr8uusM9Dp MBzaDq85IIpjuBNtbmGdiPdJotqroM6qZIEvDlkqYgUESEQUuHdINKJYKXjP/hFRPgiE/HE8iRB RvTS+6ydyzDHThC082NrZXpYgzpw0+i6hHHQGzflDPQ5nYVmrJLQUq8vCXYHeB/XeGOwADPp+2A HfN8PSQlJg8LGNGwV8x6dexM8Cxce17u54RPd+5XBhYyH0hXGSuB+lDHTcfgXPDhdO5xY57cOVk 4SoHALhnl0icQbMHgHWQ1CvL+RGxwuvb1AjB4b0vgkzZZITIu2IqqJRR/fqmSao8ZU7Z5s3C X-Google-Smtp-Source: AGHT+IG39POj/+l5iAx+Q7lPInc+pAIxcXOmoj8BoUKS4KCdlt1KVbGvxlVrPOEHPHrtThgktc5baZw7CItv X-Received: by 2002:ad4:5d66:0:b0:768:f173:a0a1 with SMTP id 6a1803df08f44-87b2ef1d66bmr390291456d6.42.1760533415621; Wed, 15 Oct 2025 06:03:35 -0700 (PDT) Received: from postal.iol.unh.edu (postal.iol.unh.edu. [132.177.123.84]) by smtp-relay.gmail.com with ESMTPS id 6a1803df08f44-87c010dcb29sm2321516d6.0.2025.10.15.06.03.35 (version=TLS1_2 cipher=ECDHE-ECDSA-AES128-GCM-SHA256 bits=128/128); Wed, 15 Oct 2025 06:03:35 -0700 (PDT) X-Relaying-Domain: iol.unh.edu Date: Wed, 15 Oct 2025 06:03:35 -0700 (PDT) Message-ID: <68ef9ba7.050a0220.39fd92.af8cSMTPIN_ADDED_MISSING@mx.google.com> Received: from [172.21.0.2] (unknown [172.18.0.240]) by postal.iol.unh.edu (Postfix) with ESMTP id 53C746050A61; Wed, 15 Oct 2025 09:03:35 -0400 (EDT) Subject: |SUCCESS| [GIT MASTER] d2d0163cb4200ff7e450fd66eb6a92a931f06de7 From: dpdklab@iol.unh.edu To: Test Report Cc: dpdk-test-reports@iol.unh.edu, Bruce Richardson Content-Type: text/plain X-BeenThere: test-report@dpdk.org X-Mailman-Version: 2.1.29 Precedence: list List-Id: automatic DPDK test reports List-Unsubscribe: , List-Archive: List-Post: List-Help: List-Subscribe: , Errors-To: test-report-bounces@dpdk.org _Testing PASS_ Branch: dpdk-next-net-intel d2d0163cb4200ff7e450fd66eb6a92a931f06de7 --> testing pass Upstream job id: Generic-VM-Unit-Test-DPDK#31810 Test environment and result as below: +-------------------------------+----------------+ | Environment | dpdk_unit_test | +===============================+================+ | CentOS Stream 9 | PASS | +-------------------------------+----------------+ | Debian GNU/Linux 12 | PASS | +-------------------------------+----------------+ | Fedora Linux 41 | PASS | +-------------------------------+----------------+ | Fedora Linux 40 | PASS | +-------------------------------+----------------+ | CentOS Stream 10 | PASS | +-------------------------------+----------------+ | Fedora Linux 42 | PASS | +-------------------------------+----------------+ | Red Hat Enterprise Linux 8.10 | PASS | +-------------------------------+----------------+ | Red Hat Enterprise Linux 9.5 | PASS | +-------------------------------+----------------+ | Ubuntu 20.04 | PASS | +-------------------------------+----------------+ | Ubuntu 24.04 | PASS | +-------------------------------+----------------+ | Ubuntu 22.04 | PASS | +-------------------------------+----------------+ | Windows Server 2022 | PASS | +-------------------------------+----------------+ CentOS Stream 9 Kernel: 5.15 Compiler: gcc gcc (GCC) 11.5.0 20240719 (Red Hat 11.5.0-11) Debian GNU/Linux 12 Kernel: 5.15 Compiler: gcc gcc (Debian 12.2.0-14+deb12u1) 12.2.0 Fedora Linux 41 Kernel: 5.15 Compiler: gcc gcc (GCC) 14.3.1 20250523 (Red Hat 14.3.1-1) Fedora Linux 40 Kernel: 5.15 Compiler: gcc gcc (GCC) 14.2.1 20240912 (Red Hat 14.2.1-3) CentOS Stream 10 Kernel: 5.15 Compiler: gcc gcc (GCC) 14.2.1 20250110 (Red Hat 14.2.1-8) Fedora Linux 42 Kernel: 5.15 Compiler: gcc gcc (GCC) 15.2.1 20250808 (Red Hat 15.2.1-1) Red Hat Enterprise Linux 8.10 Kernel: 5.15 Compiler: gcc gcc (GCC) 8.5.0 20210514 (Red Hat 8.5.0-22) Red Hat Enterprise Linux 9.5 Kernel: 5.15 Compiler: gcc gcc (GCC) 11.5.0 20240719 (Red Hat 11.5.0-2) Ubuntu 20.04 Kernel: 5.15 Compiler: gcc gcc (Ubuntu 9.4.0-1ubuntu1~20.04.2) 9.4.0 Ubuntu 24.04 Kernel: 5.15 Compiler: gcc gcc (Ubuntu 13.3.0-6ubuntu2~24.04) 13.3.0 Ubuntu 22.04 Kernel: 5.15 Compiler: gcc gcc (Ubuntu 11.4.0-1ubuntu1~22.04) 11.4.0 Windows Server 2022 Kernel: 10.0.20348.2031 Compiler: clang 15.0.7, gcc 14.1.0 (MinGW), and MSVC VS 19.39.33521 To view detailed results, visit: https://lab.dpdk.org/results/dashboard/tarballs/35217/ UNH-IOL DPDK Community Lab To manage your email subscriptions, visit: https://lab.dpdk.org/results/dashboard/preferences/subscriptions/