From mboxrd@z Thu Jan 1 00:00:00 1970 Return-Path: Received: from mails.dpdk.org (mails.dpdk.org [217.70.189.124]) by inbox.dpdk.org (Postfix) with ESMTP id 7792248945 for ; Wed, 15 Oct 2025 15:04:30 +0200 (CEST) Received: from mails.dpdk.org (localhost [127.0.0.1]) by mails.dpdk.org (Postfix) with ESMTP id 72F6D40273; Wed, 15 Oct 2025 15:04:30 +0200 (CEST) Received: from mail-pf1-f225.google.com (mail-pf1-f225.google.com [209.85.210.225]) by mails.dpdk.org (Postfix) with ESMTP id 143B640273 for ; Wed, 15 Oct 2025 15:04:29 +0200 (CEST) Received: by mail-pf1-f225.google.com with SMTP id d2e1a72fcca58-76e4fc419a9so5959913b3a.0 for ; Wed, 15 Oct 2025 06:04:29 -0700 (PDT) DKIM-Signature: v=1; a=rsa-sha256; c=relaxed/relaxed; d=iol.unh.edu; s=unh-iol; t=1760533468; x=1761138268; darn=dpdk.org; h=references:in-reply-to:cc:to:from:subject:message-id:date:from:to :cc:subject:date:message-id:reply-to; bh=zmHAi2MF54Jdty2lrFgf9zNQjr8VWxooxVu0qECudLU=; b=g1kngBjhY7/+mfEw7WT9qm4mNikxeCs85lumGbnsDVINy0dqc2Bug8HaO/QrH5Oump 3qdWSOlteWCDZFX0OtG9TIDBmwFfKXfz92esHgeajlCJe+t1A7DYuxJjsY4/AVTdEM31 J8LUWhctrtWZeIJsPwuSGGr0B0/QfaIO13CLc= X-Google-DKIM-Signature: v=1; a=rsa-sha256; c=relaxed/relaxed; d=1e100.net; s=20230601; t=1760533468; x=1761138268; h=references:in-reply-to:cc:to:from:subject:message-id:date :x-gm-message-state:from:to:cc:subject:date:message-id:reply-to; bh=zmHAi2MF54Jdty2lrFgf9zNQjr8VWxooxVu0qECudLU=; b=k6I4QhCfophTwerf90KOQCkHBodXdcGRcEhE/6DbUzxuZf6dDsuo07Jm/G9X6ji6a5 BOUAJZTfH6B+nI9veoZXpNymEfuZsf7MUDShUOehQvzSF3TJSxV5ZZRAQEaNKcqpCHCb 1khlqvra9NsujwNQHMGEFKPNxVgZBPDV/WdeeDdejAAPsBPULghPJwYkkVgSWKe/KJDo cDcGvGg1bWTJbdCtxIb2D/TNllE+ayRYAbwJmYaEkcVPcfPDXofml3uYlHO2SqVmvFvR IXGN/dxsR0Yjvvkd0cHqe7//zPu3liXQ5IjqzjIxeqJL4Q/donPGJAvxgi61NQobAYDL L5BA== X-Gm-Message-State: AOJu0YwOPx1bsZydHrRG53IggBHCQtMNoBBQzmAstPVMsSICdBu9ksR1 KPgSjB2mrKXD5dK0Po2BB+hf1uFU+Kkt41Gd1ukU8cDiMtkdS67TKTlOrFsRUq17JqjhXHIgY7a xAkXhcBhoxZBtilKoVNuOmStEpLvHI6oJ4NVn7QUhgogfDvCSnv5qt5l3v/lp X-Gm-Gg: ASbGncuAVvA1VHV6rFrZMWCcCrK6dhTyRXbkkb1R75NFZROjSPCJn2ywLv6PsnxLgSK 4ztHjZIv36voNKvrcCI3KHPnQLC754zq7oB4gPOqMzwYbgx09ju1f+X2qJXbawvaBVX8oaFfO8K AhMcbg6gvG1MDf6rG1jqXMiMUP+GNlocpRlkX0PqiezcUKEOfXpm58VY/ee1mCFFb2UMBMuUJVI 5E/vORFm/xNgdLGe/2YfRNmQd1La6/dlflWPAZ2FSrSQIuheimmHy1Smt9gjRAiCFoWLPdu9AHV SVw1KhGp+m8tcwnf8FKbgZ/zIgB0fN1OkZ5oFPqmZCUcb5Sd8Q== X-Google-Smtp-Source: AGHT+IEao9vCqd+UUxBoTOywQJhytjzgyzozWQBKZ0yhT3H7oO0N11fAU80cVE6mrHPYx1YMN0c0CaTugfre X-Received: by 2002:a17:902:f68d:b0:25e:5d83:2ddd with SMTP id d9443c01a7336-290273ffe3dmr402533125ad.45.1760533468121; Wed, 15 Oct 2025 06:04:28 -0700 (PDT) Received: from postal.iol.unh.edu (postal.iol.unh.edu. [2606:4100:3880:1234::84]) by smtp-relay.gmail.com with ESMTPS id d9443c01a7336-29034eec515sm16515065ad.44.2025.10.15.06.04.28 (version=TLS1_2 cipher=ECDHE-ECDSA-AES128-GCM-SHA256 bits=128/128); Wed, 15 Oct 2025 06:04:28 -0700 (PDT) X-Relaying-Domain: iol.unh.edu Date: Wed, 15 Oct 2025 06:04:28 -0700 (PDT) Message-ID: <68ef9bdc.170a0220.39a2cf.0f83SMTPIN_ADDED_MISSING@mx.google.com> Received: from [172.21.0.2] (unknown [172.18.0.240]) by postal.iol.unh.edu (Postfix) with ESMTP id 9C5F96050A61; Wed, 15 Oct 2025 09:04:27 -0400 (EDT) Subject: |SUCCESS| pw157598-157599 [PATCH] [v7,2/2] net/cpfl: added CPFL devI From: dpdklab@iol.unh.edu To: Test Report Cc: dpdk-test-reports@iol.unh.edu, Bruce Richardson In-Reply-To: <20251014102056.459175-3-venkatesh.vemula@intel.com> References: <20251014102056.459175-3-venkatesh.vemula@intel.com> Content-Type: text/plain X-BeenThere: test-report@dpdk.org X-Mailman-Version: 2.1.29 Precedence: list List-Id: automatic DPDK test reports List-Unsubscribe: , List-Archive: List-Post: List-Help: List-Subscribe: , Errors-To: test-report-bounces@dpdk.org Test-Label: iol-compile-arm64-testing Test-Status: SUCCESS http://dpdk.org/patch/157599 _Testing PASS_ Submitter: Venkatesh Vemula Date: Tuesday, October 14 2025 10:20:56 DPDK git baseline: Repo:dpdk-next-net-intel Branch: master CommitID:d2d0163cb4200ff7e450fd66eb6a92a931f06de7 157598-157599 --> testing pass Upstream job id: Generic-DPDK-Compile-Meson#434408 Test environment and result as below: +------------------------------+--------------------+ | Environment | dpdk_meson_compile | +==============================+====================+ | Red Hat Enterprise Linux 9.5 | PASS | +------------------------------+--------------------+ | Ubuntu 20.04 | PASS | +------------------------------+--------------------+ | Debian GNU/Linux 12 | PASS | +------------------------------+--------------------+ | Fedora Linux 42 | PASS | +------------------------------+--------------------+ | Ubuntu 22.04 | PASS | +------------------------------+--------------------+ | CentOS Stream 9 | PASS | +------------------------------+--------------------+ | CentOS Stream 10 | PASS | +------------------------------+--------------------+ | Ubuntu 24.04 | PASS | +------------------------------+--------------------+ Red Hat Enterprise Linux 9.5 Kernel: 5.4 Compiler: gcc gcc (GCC) 11.5.0 20240719 (Red Hat 11.5.0-2) Ubuntu 20.04 Kernel: 5.15 Compiler: aarch64-linux-gnu-gcc gcc (Ubuntu 9.4.0-1ubuntu1~20.04.2) 9.4.0 Debian GNU/Linux 12 Kernel: 5.4 Compiler: gcc gcc (Debian 12.2.0-14+deb12u1) 12.2.0 Fedora Linux 42 Kernel: 5.4 Compiler: gcc gcc (GCC) 15.2.1 20250808 (Red Hat 15.2.1-1) Ubuntu 22.04 Kernel: 5.4 Compiler: gcc gcc (Ubuntu 11.4.0-1ubuntu1~22.04) 11.4.0 CentOS Stream 9 Kernel: 5.4 Compiler: gcc gcc (GCC) 11.5.0 20240719 (Red Hat 11.5.0-11) CentOS Stream 10 Kernel: 5.4 Compiler: gcc gcc (GCC) 14.2.1 20250110 (Red Hat 14.2.1-8) Ubuntu 24.04 Kernel: 5.4 Compiler: gcc gcc (Ubuntu 13.3.0-6ubuntu2~24.04) 13.3.0 To view detailed results, visit: https://lab.dpdk.org/results/dashboard/patchsets/34282/ UNH-IOL DPDK Community Lab To manage your email subscriptions, visit: https://lab.dpdk.org/results/dashboard/preferences/subscriptions/