From mboxrd@z Thu Jan 1 00:00:00 1970 Return-Path: Received: from mails.dpdk.org (mails.dpdk.org [217.70.189.124]) by inbox.dpdk.org (Postfix) with ESMTP id 89F9248945 for ; Wed, 15 Oct 2025 15:04:54 +0200 (CEST) Received: from mails.dpdk.org (localhost [127.0.0.1]) by mails.dpdk.org (Postfix) with ESMTP id 84D7140273; Wed, 15 Oct 2025 15:04:54 +0200 (CEST) Received: from mail-pg1-f228.google.com (mail-pg1-f228.google.com [209.85.215.228]) by mails.dpdk.org (Postfix) with ESMTP id 558B040273 for ; Wed, 15 Oct 2025 15:04:53 +0200 (CEST) Received: by mail-pg1-f228.google.com with SMTP id 41be03b00d2f7-b608df6d2a0so5139674a12.1 for ; Wed, 15 Oct 2025 06:04:53 -0700 (PDT) DKIM-Signature: v=1; a=rsa-sha256; c=relaxed/relaxed; d=iol.unh.edu; s=unh-iol; t=1760533492; x=1761138292; darn=dpdk.org; h=references:in-reply-to:cc:to:from:subject:message-id:date:from:to :cc:subject:date:message-id:reply-to; bh=SjXvDubaEmTCAeJDAlXgAVjKEOOdBO2wG4uufefPBCA=; b=GQi54eGQ6FAGGI/tCbeKSAXNQAJA7YXb2EiMsAXOGKc2VwjUoAP7vu3xTq6gqExtP1 JAgqzra0j+RZ8t0zBVUdS7X8ozUplHiTbk6m1G/FXdP7I+SNzk1sBEvZfIJVwSao5mgP 3UfCxbcnBHInqgJxU0vlPMJS3klQ+mJUXcZV8= X-Google-DKIM-Signature: v=1; a=rsa-sha256; c=relaxed/relaxed; d=1e100.net; s=20230601; t=1760533492; x=1761138292; h=references:in-reply-to:cc:to:from:subject:message-id:date :x-gm-message-state:from:to:cc:subject:date:message-id:reply-to; bh=SjXvDubaEmTCAeJDAlXgAVjKEOOdBO2wG4uufefPBCA=; b=cCEKuJbmHYWSbjmA7vVyBGpWI8IH18gUb2qsuMis+2XzvtLg2ifY8uEK0kPkVwd7r2 714ZGPhIhpkSKVEl+T0bgcqKdmhFQUDQuIzFx1gPOVLsJzhDEuFo+JPOY2cN0A+Hx5xx QZDJBrf7wkDuENl6aPaSR/MBGslCapwuz6nOqXySpCW1YO4WJmJvb00vawvslqHVqpP0 dGSV1pT9nVB6ZmCUqlxMX32GpacuvgMnvw3fzIqsbUiJj5c6L7hqW/gQcM/elE5FUmE+ EFhzKgUTe79lyjfW9ZabMe8oTTKSvpGYYq31KuWsEgtAtZxzftX3+CsD146iYjeWY7pZ LIfg== X-Gm-Message-State: AOJu0YyLDwYHfe73lSOc0wdD4vOU+yy1OhXigZtHEqTc331ZFWOZOWPu 2kjlI9KIwrX+4EBuwx3WX9G/yX0xOfuITaEEhnuohaoi7oqtgAsWlB6ETrXcrV+0xakkL8X+8Ts 1y+xTMQ413AQd0e+/PN9izbz+HEH+UjUUlE8uus4MBvSn X-Gm-Gg: ASbGncv+bSUAsaIYkVQNf9gNKysCub+6ovBc0+yrKAPokmN+9X3jMlgFu41fLMSRU+p 188TVe0Q7gTa5O9eyGGU/rUiJW3Z5Y5HNTmbFsrTKCFZ9+Z/Jd6uCwwTSNMbEX7J0uk4YFyS3wi 1IkWINMQKv1JuRiV4DX2yV7cJgF746l9cd74dOaoAQvEumBnFx/7QY1frtV5cTSpQVfYIpnTPPs crmQsZI99g8HsLdoNNr5GOxvl4IasO7EXCe91tN9fYC+bCt9emnOwQFWb2yIG7uHyMooI3tjtpB GDXVclkRp+fwyO78AU/+QSTSk76mD34dp6nV6e0tNc9U8xkHvzWJoYzc86Y8V4Yjqpvdn4/H X-Google-Smtp-Source: AGHT+IFkEgTvPdXesFLr767I4lbZxTC8gWNmzYdWJ71jJeqEEQD260mnmEn9Vk5B+vdLWPFuW8O4+AzeRgM2 X-Received: by 2002:a17:903:1b64:b0:28b:4ca5:d522 with SMTP id d9443c01a7336-290273ecb07mr362063195ad.39.1760533492293; Wed, 15 Oct 2025 06:04:52 -0700 (PDT) Received: from postal.iol.unh.edu (postal.iol.unh.edu. [132.177.123.84]) by smtp-relay.gmail.com with ESMTPS id d9443c01a7336-29034e02b83sm14907025ad.10.2025.10.15.06.04.52 (version=TLS1_2 cipher=ECDHE-ECDSA-AES128-GCM-SHA256 bits=128/128); Wed, 15 Oct 2025 06:04:52 -0700 (PDT) X-Relaying-Domain: iol.unh.edu Date: Wed, 15 Oct 2025 06:04:52 -0700 (PDT) Message-ID: <68ef9bf4.170a0220.19130e.9506SMTPIN_ADDED_MISSING@mx.google.com> Received: from [172.21.0.3] (unknown [172.18.0.240]) by postal.iol.unh.edu (Postfix) with ESMTP id BD55F6050A61; Wed, 15 Oct 2025 09:04:51 -0400 (EDT) Subject: |SUCCESS| pw157576 [PATCH] app/crypto-perf: add ECDSA P192/P224/P521 From: dpdklab@iol.unh.edu To: Test Report Cc: dpdk-test-reports@iol.unh.edu, Akhil Goyal In-Reply-To: <20251015062758.1096015-1-rchiluka@marvell.com> References: <20251015062758.1096015-1-rchiluka@marvell.com> Content-Type: text/plain X-BeenThere: test-report@dpdk.org X-Mailman-Version: 2.1.29 Precedence: list List-Id: automatic DPDK test reports List-Unsubscribe: , List-Archive: List-Post: List-Help: List-Subscribe: , Errors-To: test-report-bounces@dpdk.org Test-Label: iol-compile-arm64-testing Test-Status: SUCCESS http://dpdk.org/patch/157576 _Testing PASS_ Submitter: Rupesh Chiluka Date: Wednesday, October 15 2025 06:27:58 DPDK git baseline: Repo:dpdk-next-crypto Branch: master CommitID:2aa7141a4e2c78e3cce03dbd613532a2166123c1 157576 --> testing pass Upstream job id: Generic-DPDK-Compile-Meson#434372 Test environment and result as below: +------------------------------+--------------------+ | Environment | dpdk_meson_compile | +==============================+====================+ | Red Hat Enterprise Linux 9.5 | PASS | +------------------------------+--------------------+ | Ubuntu 20.04 | PASS | +------------------------------+--------------------+ | Debian GNU/Linux 12 | PASS | +------------------------------+--------------------+ | Fedora Linux 42 | PASS | +------------------------------+--------------------+ | Ubuntu 22.04 | PASS | +------------------------------+--------------------+ | Ubuntu 24.04 | PASS | +------------------------------+--------------------+ | CentOS Stream 9 | PASS | +------------------------------+--------------------+ | CentOS Stream 10 | PASS | +------------------------------+--------------------+ Red Hat Enterprise Linux 9.5 Kernel: 5.4 Compiler: gcc gcc (GCC) 11.5.0 20240719 (Red Hat 11.5.0-2) Ubuntu 20.04 Kernel: 5.15 Compiler: aarch64-linux-gnu-gcc gcc (Ubuntu 9.4.0-1ubuntu1~20.04.2) 9.4.0 Debian GNU/Linux 12 Kernel: 5.4 Compiler: gcc gcc (Debian 12.2.0-14+deb12u1) 12.2.0 Fedora Linux 42 Kernel: 5.4 Compiler: gcc gcc (GCC) 15.2.1 20250808 (Red Hat 15.2.1-1) Ubuntu 22.04 Kernel: 5.4 Compiler: gcc gcc (Ubuntu 11.4.0-1ubuntu1~22.04) 11.4.0 Ubuntu 24.04 Kernel: 5.4 Compiler: gcc gcc (Ubuntu 13.3.0-6ubuntu2~24.04) 13.3.0 CentOS Stream 9 Kernel: 5.4 Compiler: gcc gcc (GCC) 11.5.0 20240719 (Red Hat 11.5.0-11) CentOS Stream 10 Kernel: 5.4 Compiler: gcc gcc (GCC) 14.2.1 20250110 (Red Hat 14.2.1-8) To view detailed results, visit: https://lab.dpdk.org/results/dashboard/patchsets/34280/ UNH-IOL DPDK Community Lab To manage your email subscriptions, visit: https://lab.dpdk.org/results/dashboard/preferences/subscriptions/