From mboxrd@z Thu Jan 1 00:00:00 1970 Return-Path: Received: from mails.dpdk.org (mails.dpdk.org [217.70.189.124]) by inbox.dpdk.org (Postfix) with ESMTP id 99BDC48945 for ; Wed, 15 Oct 2025 15:05:14 +0200 (CEST) Received: from mails.dpdk.org (localhost [127.0.0.1]) by mails.dpdk.org (Postfix) with ESMTP id 9524740273; Wed, 15 Oct 2025 15:05:14 +0200 (CEST) Received: from mail-yx1-f99.google.com (mail-yx1-f99.google.com [74.125.224.99]) by mails.dpdk.org (Postfix) with ESMTP id 6E34340273 for ; Wed, 15 Oct 2025 15:05:13 +0200 (CEST) Received: by mail-yx1-f99.google.com with SMTP id 956f58d0204a3-63d97bcb898so465645d50.0 for ; Wed, 15 Oct 2025 06:05:13 -0700 (PDT) DKIM-Signature: v=1; a=rsa-sha256; c=relaxed/relaxed; d=iol.unh.edu; s=unh-iol; t=1760533513; x=1761138313; darn=dpdk.org; h=references:in-reply-to:cc:to:from:subject:message-id:date:from:to :cc:subject:date:message-id:reply-to; bh=cXixkQj8L8J+l2VaD5CiVpb/NBoGMaWfTo9lxW0VXqs=; b=TQmEIYLG5Vm7cs+XSrgitGdHwerrXWk+9UXD9i+jG3XEu4djuBJ6KJ2VCLell3XgYv 1SZLDs4cyIzfV/V7IbV7zns1B3+aD9KvR071Fjw44Bo4KmmzCxU/h+PLKbVZ0+hjZTls TA2KGpmyPdHv3nAeHTwYFP6mtGE0lFK/PxMJg= X-Google-DKIM-Signature: v=1; a=rsa-sha256; c=relaxed/relaxed; d=1e100.net; s=20230601; t=1760533513; x=1761138313; h=references:in-reply-to:cc:to:from:subject:message-id:date :x-gm-message-state:from:to:cc:subject:date:message-id:reply-to; bh=cXixkQj8L8J+l2VaD5CiVpb/NBoGMaWfTo9lxW0VXqs=; b=nGz8ltPUMrf61XwJqu0bQQfppJH7YdRGhe1uPjpFQ9Mhe6EFQ+n+5claDuZ1b1oA8d wAmj9B16SlPwJKujhMrvqDMsLWsP2vUv+I+YFJKh57VhlhH16+WEREtGFcX2z7SIL3mS MmJhZau2yamwdBQRlvvbr4KmALTVrOO6NSwWYIWqXqwRqAclPEhCexQmHX1N+E691SzK msBbnzQXu44iQqN1ETlSNtlWKuXTIiPLCbfsRFAH813S8Ca9zk+L2U7MrwOQhkamuDsC HZODFcnw6EBY1oYUzsWZKg5hsdtEzf64LRguRWh5Gwy5rrZzN+kUmhj5oOhgwR+uG+Pf lOVw== X-Gm-Message-State: AOJu0YwcOdRMt1tKMzv3HXoyiGEujtA26Z8fNvWA6W6z0+KYOr7RvSPe lfvxlwQc+TtHw6ny7vk+/sSIz9NN6fk/qwJTXGdRFhbzRfryLEvImvYeLYOewhjwUhjs83WJZrf ZFGAyOWDaqQusL0WP/5VeNmHTrJK41X6JFwwlWrtSpjgu58hbWPn/97CPBmQ2 X-Gm-Gg: ASbGncv0SXnUTkHasT2cICQrAz2r4VHlqqmG/6ncwLhkYnFmDucdNxtjpV72MuqLwr9 9AnaU5+CMZR7Dh1ZqM9fnNYR8tmgI5WLbHUgy+nQ4s/0dMRYbZPciOZwzCvt/7N8inBGcQWBII9 3IFst5/LxbDARJwooFUrL7U1LUoOSrEYKHpkF+ZpSmjkaBoAcANEOb7NViAjrKbBjmTjFyJk+1+ VdgG1/3tJGX6RsyX0ajvGFZ+qxEJ7sqkc398iXnEFaWeUZN+Czy9gyCSt2bMOXb7OTNdt4qnpVr K/Dpkg/usRF1OqPcuVy4dtI68LDLgBkfxNnGunPjVT5EIWPa2A== X-Google-Smtp-Source: AGHT+IG9sKp3L2TmgL4tdcxXQo/mbtp4OkowKLTskiq+WTAVdmMJJ1w5ANu8Gh1cw0nuPoiNa0BrkYY9XxZj X-Received: by 2002:a05:690e:6:b0:635:4ed0:5721 with SMTP id 956f58d0204a3-63ccc512260mr18458395d50.25.1760533512372; Wed, 15 Oct 2025 06:05:12 -0700 (PDT) Received: from postal.iol.unh.edu (postal.iol.unh.edu. [2606:4100:3880:1234::84]) by smtp-relay.gmail.com with ESMTPS id 956f58d0204a3-63cd95e76dcsm1051034d50.14.2025.10.15.06.05.12 (version=TLS1_2 cipher=ECDHE-ECDSA-AES128-GCM-SHA256 bits=128/128); Wed, 15 Oct 2025 06:05:12 -0700 (PDT) X-Relaying-Domain: iol.unh.edu Date: Wed, 15 Oct 2025 06:05:12 -0700 (PDT) Message-ID: <68ef9c08.530a0220.2a9069.462aSMTPIN_ADDED_MISSING@mx.google.com> Received: from [172.21.0.2] (unknown [172.18.0.240]) by postal.iol.unh.edu (Postfix) with ESMTP id 043616050A61; Wed, 15 Oct 2025 09:05:12 -0400 (EDT) Subject: |SUCCESS| pw157576 [PATCH] app/crypto-perf: add ECDSA P192/P224/P521 From: dpdklab@iol.unh.edu To: Test Report Cc: dpdk-test-reports@iol.unh.edu, Akhil Goyal In-Reply-To: <20251015062758.1096015-1-rchiluka@marvell.com> References: <20251015062758.1096015-1-rchiluka@marvell.com> Content-Type: text/plain X-BeenThere: test-report@dpdk.org X-Mailman-Version: 2.1.29 Precedence: list List-Id: automatic DPDK test reports List-Unsubscribe: , List-Archive: List-Post: List-Help: List-Subscribe: , Errors-To: test-report-bounces@dpdk.org Test-Label: iol-compile-arm64-testing Test-Status: SUCCESS http://dpdk.org/patch/157576 _Testing PASS_ Submitter: Rupesh Chiluka Date: Wednesday, October 15 2025 06:27:58 DPDK git baseline: Repo:dpdk-next-crypto Branch: master CommitID:2aa7141a4e2c78e3cce03dbd613532a2166123c1 157576 --> testing pass Upstream job id: Generic-DPDK-Compile-Meson#434373 Test environment and result as below: +------------------------------+--------------------+ | Environment | dpdk_meson_compile | +==============================+====================+ | Red Hat Enterprise Linux 9.5 | PASS | +------------------------------+--------------------+ | Ubuntu 20.04 | PASS | +------------------------------+--------------------+ | Debian GNU/Linux 12 | PASS | +------------------------------+--------------------+ | Fedora Linux 42 | PASS | +------------------------------+--------------------+ | Ubuntu 22.04 | PASS | +------------------------------+--------------------+ | Ubuntu 24.04 | PASS | +------------------------------+--------------------+ | CentOS Stream 9 | PASS | +------------------------------+--------------------+ | CentOS Stream 10 | PASS | +------------------------------+--------------------+ Red Hat Enterprise Linux 9.5 Kernel: 5.4 Compiler: gcc gcc (GCC) 11.5.0 20240719 (Red Hat 11.5.0-2) Ubuntu 20.04 Kernel: 5.15 Compiler: aarch64-linux-gnu-gcc gcc (Ubuntu 9.4.0-1ubuntu1~20.04.2) 9.4.0 Debian GNU/Linux 12 Kernel: 5.4 Compiler: gcc gcc (Debian 12.2.0-14+deb12u1) 12.2.0 Fedora Linux 42 Kernel: 5.4 Compiler: gcc gcc (GCC) 15.2.1 20250808 (Red Hat 15.2.1-1) Ubuntu 22.04 Kernel: 5.4 Compiler: gcc gcc (Ubuntu 11.4.0-1ubuntu1~22.04) 11.4.0 Ubuntu 24.04 Kernel: 5.4 Compiler: gcc gcc (Ubuntu 13.3.0-6ubuntu2~24.04) 13.3.0 CentOS Stream 9 Kernel: 5.4 Compiler: gcc gcc (GCC) 11.5.0 20240719 (Red Hat 11.5.0-11) CentOS Stream 10 Kernel: 5.4 Compiler: gcc gcc (GCC) 14.2.1 20250110 (Red Hat 14.2.1-8) To view detailed results, visit: https://lab.dpdk.org/results/dashboard/patchsets/34280/ UNH-IOL DPDK Community Lab To manage your email subscriptions, visit: https://lab.dpdk.org/results/dashboard/preferences/subscriptions/