From mboxrd@z Thu Jan 1 00:00:00 1970 Return-Path: Received: from mails.dpdk.org (mails.dpdk.org [217.70.189.124]) by inbox.dpdk.org (Postfix) with ESMTP id 4259648942 for ; Wed, 15 Oct 2025 15:10:01 +0200 (CEST) Received: from mails.dpdk.org (localhost [127.0.0.1]) by mails.dpdk.org (Postfix) with ESMTP id 1382340273; Wed, 15 Oct 2025 15:10:01 +0200 (CEST) Received: from mail-pl1-f228.google.com (mail-pl1-f228.google.com [209.85.214.228]) by mails.dpdk.org (Postfix) with ESMTP id A554E40273 for ; Wed, 15 Oct 2025 15:09:59 +0200 (CEST) Received: by mail-pl1-f228.google.com with SMTP id d9443c01a7336-28832ad6f64so73625025ad.1 for ; Wed, 15 Oct 2025 06:09:59 -0700 (PDT) DKIM-Signature: v=1; a=rsa-sha256; c=relaxed/relaxed; d=iol.unh.edu; s=unh-iol; t=1760533799; x=1761138599; darn=dpdk.org; h=references:in-reply-to:cc:to:from:subject:message-id:date:from:to :cc:subject:date:message-id:reply-to; bh=jaD2lsO+WJNXOfxAITqK966zwahn5WWbZWp5Uj/YHDQ=; b=VNogkJfv0SY12Vf0yaTxPAOHEMFjLn50DWOXwk166VZLAq8c4ILpvnTqV4KRkDAaOw oFuqTrOQLP1I1tGEQoTMZA8zftReIX9T5gIELb2afD/bA2f9GCapDS6vyCn3euRE3bCa bE0BdG5OIuS9Ugjuuj/NYVVANNYS1FmoXdbjQ= X-Google-DKIM-Signature: v=1; a=rsa-sha256; c=relaxed/relaxed; d=1e100.net; s=20230601; t=1760533799; x=1761138599; h=references:in-reply-to:cc:to:from:subject:message-id:date :x-gm-message-state:from:to:cc:subject:date:message-id:reply-to; bh=jaD2lsO+WJNXOfxAITqK966zwahn5WWbZWp5Uj/YHDQ=; b=d8fM1pqJnkZD6aI/9ue21qd14eQAcPxt1Fd4PEqiQI597CG9vkWYCTCmSr/9nfA1fn UHeSZaiAW16Wrh1jgpgzwZOoHU+K5xV62Bkx0WNe6kaiE/JyLMvbbg3TT+jOddDJAcg0 sCEEZObQsJsVbeoHGnzZD8tkIhnAEOKIwWC1Pjxo+iGbqr1slVnEGM0GgNwFnSgqEI6r xbrSSX6dnrSctVEeXBo2WWikjNDxm+/V33jutTY5WE0uaBta0GbVnMqHnwCSxCuV5jur YfS6+cpHqtBtss9ulv2WDGj9//7r5M7+O//uBscMS6nXaNjxPGUwtDNM7+7Wo3dlwF91 j1Vw== X-Gm-Message-State: AOJu0YwCNCPPVsOrzn4olFu7eoUHBJBiuXUrDQ1NwXAt+VMACFb5qZWV ca5AL2zAJ7wc3CHKcqpuOsP3qOV4LNcO8C63EweSg94WtiHntbsBELp8RAb0Mp8HhCDIqZ6+UWC E+3l49J0PDWhVHTE1vhn72+uQzJ6uIArVblj+HSn4pZtF X-Gm-Gg: ASbGncvF/mn7LsGWfetdnn8APmZvJlHB2+3vv8DH2phelyd/8XDAXwUedAzbLn3UOD3 5LIa8VcE5/cpCw+BDi4Ft06OomyLP3N/7zoMPFyhB2vp+52ra0yK+MhIcsaV9lzkfXiM+9QHSJw RzQvADFFEU9RP8uTg2H07QIVTNfH+kvUKqwW3hr/jKEdn+AUjquIPIZ4xJxjT43HMIu/aVCqtOr YiUMndRIB4td993Uw0RkN9JbhNl7sQ+9XJMCq6Qeg026NwI8L4J+/XKt7tht4N9RJhWvfLSke1P E5JCcpO1JKC5uChGMiYJCfArxEKYjAkWMRN7XwueyFZC5H8/x8YpfLcrB+WDHohtozAomJTR X-Google-Smtp-Source: AGHT+IGfLuDeyCCbvu4ODJo3cyE8CZKb405HB5z0Qey7oBwknNzfbv+2BxuMuxgNRsUYclULwX6PTm8Aqnga X-Received: by 2002:a17:903:2412:b0:27d:c542:fe25 with SMTP id d9443c01a7336-290272e3d3emr364581685ad.41.1760533797246; Wed, 15 Oct 2025 06:09:57 -0700 (PDT) Received: from postal.iol.unh.edu (postal.iol.unh.edu. [132.177.123.84]) by smtp-relay.gmail.com with ESMTPS id d9443c01a7336-29034f2dbc0sm15997705ad.53.2025.10.15.06.09.57 (version=TLS1_2 cipher=ECDHE-ECDSA-AES128-GCM-SHA256 bits=128/128); Wed, 15 Oct 2025 06:09:57 -0700 (PDT) X-Relaying-Domain: iol.unh.edu Date: Wed, 15 Oct 2025 06:09:57 -0700 (PDT) Message-ID: <68ef9d25.170a0220.160eee.f7b3SMTPIN_ADDED_MISSING@mx.google.com> Received: from [172.21.0.2] (unknown [172.18.0.240]) by postal.iol.unh.edu (Postfix) with ESMTP id A90786050A61; Wed, 15 Oct 2025 09:09:56 -0400 (EDT) Subject: |SUCCESS| pw157661-157680 [PATCH] [v2,20/20] net/ena: upgrade driver From: dpdklab@iol.unh.edu To: Test Report Cc: dpdk-test-reports@iol.unh.edu In-Reply-To: <20251015121436.3219-1-shaibran@amazon.com> References: <20251015121436.3219-1-shaibran@amazon.com> Content-Type: text/plain X-BeenThere: test-report@dpdk.org X-Mailman-Version: 2.1.29 Precedence: list List-Id: automatic DPDK test reports List-Unsubscribe: , List-Archive: List-Post: List-Help: List-Subscribe: , Errors-To: test-report-bounces@dpdk.org Test-Label: iol-unit-amd64-testing Test-Status: SUCCESS http://dpdk.org/patch/157680 _Testing PASS_ Submitter: Shai Brandes Date: Wednesday, October 15 2025 12:14:36 DPDK git baseline: Repo:dpdk Branch: master CommitID:c4b0762fce81ba6edfec0d935cf23342f78018e3 157661-157680 --> testing pass Upstream job id: Generic-Unit-Test-DPDK#381706 Test environment and result as below: +-------------------------------+----------------+ | Environment | dpdk_unit_test | +===============================+================+ | CentOS Stream 9 | PASS | +-------------------------------+----------------+ | CentOS Stream 10 | PASS | +-------------------------------+----------------+ | Fedora Linux 40 | PASS | +-------------------------------+----------------+ | Debian GNU/Linux 12 | PASS | +-------------------------------+----------------+ | Fedora Linux 42 | PASS | +-------------------------------+----------------+ | Fedora Linux 41 | PASS | +-------------------------------+----------------+ | Red Hat Enterprise Linux 8.10 | PASS | +-------------------------------+----------------+ | Ubuntu 24.04 | PASS | +-------------------------------+----------------+ | Ubuntu 22.04 | PASS | +-------------------------------+----------------+ | Red Hat Enterprise Linux 9.5 | PASS | +-------------------------------+----------------+ | Ubuntu 20.04 | PASS | +-------------------------------+----------------+ CentOS Stream 9 Kernel: 5.15 Compiler: gcc gcc (GCC) 11.5.0 20240719 (Red Hat 11.5.0-11) CentOS Stream 10 Kernel: 5.15 Compiler: gcc gcc (GCC) 14.2.1 20250110 (Red Hat 14.2.1-8) Fedora Linux 40 Kernel: 5.15 Compiler: gcc gcc (GCC) 14.2.1 20240912 (Red Hat 14.2.1-3) Debian GNU/Linux 12 Kernel: 5.15 Compiler: gcc gcc (Debian 12.2.0-14+deb12u1) 12.2.0 Fedora Linux 42 Kernel: 5.15 Compiler: gcc gcc (GCC) 15.2.1 20250808 (Red Hat 15.2.1-1) Fedora Linux 41 Kernel: 5.15 Compiler: gcc gcc (GCC) 14.3.1 20250523 (Red Hat 14.3.1-1) Red Hat Enterprise Linux 8.10 Kernel: 5.15 Compiler: gcc gcc (GCC) 8.5.0 20210514 (Red Hat 8.5.0-22) Ubuntu 24.04 Kernel: 5.15 Compiler: gcc gcc (Ubuntu 13.3.0-6ubuntu2~24.04) 13.3.0 Ubuntu 22.04 Kernel: 5.15 Compiler: gcc gcc (Ubuntu 11.4.0-1ubuntu1~22.04) 11.4.0 Red Hat Enterprise Linux 9.5 Kernel: 5.15 Compiler: gcc gcc (GCC) 11.5.0 20240719 (Red Hat 11.5.0-2) Ubuntu 20.04 Kernel: 5.15 Compiler: gcc gcc (Ubuntu 9.4.0-1ubuntu1~20.04.2) 9.4.0 To view detailed results, visit: https://lab.dpdk.org/results/dashboard/patchsets/34285/ UNH-IOL DPDK Community Lab To manage your email subscriptions, visit: https://lab.dpdk.org/results/dashboard/preferences/subscriptions/