From mboxrd@z Thu Jan 1 00:00:00 1970 Return-Path: Received: from mails.dpdk.org (mails.dpdk.org [217.70.189.124]) by inbox.dpdk.org (Postfix) with ESMTP id 2BC9D48942 for ; Wed, 15 Oct 2025 15:10:20 +0200 (CEST) Received: from mails.dpdk.org (localhost [127.0.0.1]) by mails.dpdk.org (Postfix) with ESMTP id 25E374060C; Wed, 15 Oct 2025 15:10:20 +0200 (CEST) Received: from mail-io1-f100.google.com (mail-io1-f100.google.com [209.85.166.100]) by mails.dpdk.org (Postfix) with ESMTP id 40DA04060C for ; Wed, 15 Oct 2025 15:10:19 +0200 (CEST) Received: by mail-io1-f100.google.com with SMTP id ca18e2360f4ac-9032edd72c1so729418039f.3 for ; Wed, 15 Oct 2025 06:10:19 -0700 (PDT) DKIM-Signature: v=1; a=rsa-sha256; c=relaxed/relaxed; d=iol.unh.edu; s=unh-iol; t=1760533818; x=1761138618; darn=dpdk.org; h=cc:to:from:subject:message-id:date:from:to:cc:subject:date :message-id:reply-to; bh=3TIbroksktWfn+JU+vYzHcj6lG4xiMHv9dQdIGi38RY=; b=Arw+laM7dLqphsrOMlYRGISKaOb7NKptg6Oa2oHvCE0Pe0NUuyXAQdwO0jdxc4oDFQ deQMdyoQautt7fPU605D3FHI8qE4SjllqwD4p9M3KmP3XJ1ZNf9TJzKV7eiFJ+n2U2Ym KkEk7maoPEIrLtNtTjEZK/zGffF0qjSnN1OXU= X-Google-DKIM-Signature: v=1; a=rsa-sha256; c=relaxed/relaxed; d=1e100.net; s=20230601; t=1760533818; x=1761138618; h=cc:to:from:subject:message-id:date:x-gm-message-state:from:to:cc :subject:date:message-id:reply-to; bh=3TIbroksktWfn+JU+vYzHcj6lG4xiMHv9dQdIGi38RY=; b=oBUNB9WyXweMV0e4gf/Zn4jn/IODVYUMi2VT5pTFrt+V6UCfVj6iZr9IdwR+aUHDAD jiorNRj40T9v3rSXXEBx7l/hCjGradGjohIhdtWp5eTFLDozfS/GRN1baTr0Ew7U5g9V vWsKz1ZaWHNG2oWvjOXi1LXPPOm3NlbHs51dlJAc8CiqNCS2f4J8n2OpsZsRGwuv4h27 JXvW62lkKfSNrDLA1CYVKVJbR5o5FPTuBiyuKqGxUa81ii3/kgeEmAH17E1T7mZQLK9Z k4H7Rl0HU8kRx9DCersFf4jJJn+CNWbwRPqyWju/LOQ+u3lQ9EoqU6cMlRO+0OoetnPj aB+w== X-Gm-Message-State: AOJu0Yz9ETY4NmsHNXL1Zne6mUDMMcT4lJAL6VdL6hKiF1mCTVYMZPRP LYeUjyvlFiMiaJEB/1JXgJ4ffOi/JSmdlUXOAsHn52ptKbwLBoGTJTxuUOrUQp0BSL2YiG08wug FMaP6iLqcDFwg1QIoJcavu3/xSyTdsQqq7+Y4uQQADzNM X-Gm-Gg: ASbGncvrEShqTCgFLv0UFlxsQHfoLhjpk8ce7ySftUKjhzM8IcwDwrKfr+G9B4RuDWi qIYw9NMQs0yUVmmXCgmcLrDiR1xZinPrEF3ixumYZVtuB5zl3zIrN4OnjSd49ieNdo9j4s3RGIJ R6Loi221/qKkLbTxS8DAAw6My9mbtJ2bMnZKFvMtJdXGmWIYC1PBzOmYT5ky+YiT3AntcK68j0p ihukmJFapZCvltJffWiZazFmq7nk6qJi5eVLaknYsrOFb+jLe+GdMufoiLsgGBlhUVV7tKss+/i 1lpjp+Fm69AtdGuj/IeQwb71KIOeElMj/s1owAsI9bg2DnxeUqVMY/X8Pg+KSN/T60fKmyAa X-Google-Smtp-Source: AGHT+IHpJS/ZMjgsTHVNbaz3OQHsj6Q0NWdDfu3hKTEg1fOx/MofEFEBmzOIemYlc22J/Q+Xu3hAXHx4lhPH X-Received: by 2002:a05:6602:2d95:b0:93b:dc41:5cf7 with SMTP id ca18e2360f4ac-93bdc415d77mr2888149539f.11.1760533818093; Wed, 15 Oct 2025 06:10:18 -0700 (PDT) Received: from postal.iol.unh.edu (postal.iol.unh.edu. [132.177.123.84]) by smtp-relay.gmail.com with ESMTPS id ca18e2360f4ac-93e2594f67csm102179039f.6.2025.10.15.06.10.18 (version=TLS1_2 cipher=ECDHE-ECDSA-AES128-GCM-SHA256 bits=128/128); Wed, 15 Oct 2025 06:10:18 -0700 (PDT) X-Relaying-Domain: iol.unh.edu Date: Wed, 15 Oct 2025 06:10:18 -0700 (PDT) Message-ID: <68ef9d3a.6b0a0220.55359.4d35SMTPIN_ADDED_MISSING@mx.google.com> Received: from [172.21.0.4] (unknown [172.18.0.240]) by postal.iol.unh.edu (Postfix) with ESMTP id 9A2316050A61; Wed, 15 Oct 2025 09:10:17 -0400 (EDT) Subject: |SUCCESS| [GIT MASTER] d2d0163cb4200ff7e450fd66eb6a92a931f06de7 From: dpdklab@iol.unh.edu To: Test Report Cc: dpdk-test-reports@iol.unh.edu, Bruce Richardson Content-Type: text/plain X-BeenThere: test-report@dpdk.org X-Mailman-Version: 2.1.29 Precedence: list List-Id: automatic DPDK test reports List-Unsubscribe: , List-Archive: List-Post: List-Help: List-Subscribe: , Errors-To: test-report-bounces@dpdk.org _Testing PASS_ Branch: dpdk-next-net-intel d2d0163cb4200ff7e450fd66eb6a92a931f06de7 --> testing pass Upstream job id: Generic-VM-Unit-Test-DPDK#31811 Test environment and result as below: +-------------------------------+----------------+ | Environment | dpdk_unit_test | +===============================+================+ | CentOS Stream 9 | PASS | +-------------------------------+----------------+ | Debian GNU/Linux 12 | PASS | +-------------------------------+----------------+ | Fedora Linux 41 | PASS | +-------------------------------+----------------+ | Fedora Linux 40 | PASS | +-------------------------------+----------------+ | CentOS Stream 10 | PASS | +-------------------------------+----------------+ | Fedora Linux 42 | PASS | +-------------------------------+----------------+ | Red Hat Enterprise Linux 8.10 | PASS | +-------------------------------+----------------+ | Red Hat Enterprise Linux 9.5 | PASS | +-------------------------------+----------------+ | Ubuntu 20.04 | PASS | +-------------------------------+----------------+ | Ubuntu 24.04 | PASS | +-------------------------------+----------------+ | Ubuntu 22.04 | PASS | +-------------------------------+----------------+ | Windows Server 2022 | PASS | +-------------------------------+----------------+ CentOS Stream 9 Kernel: 5.15 Compiler: gcc gcc (GCC) 11.5.0 20240719 (Red Hat 11.5.0-11) Debian GNU/Linux 12 Kernel: 5.15 Compiler: gcc gcc (Debian 12.2.0-14+deb12u1) 12.2.0 Fedora Linux 41 Kernel: 5.15 Compiler: gcc gcc (GCC) 14.3.1 20250523 (Red Hat 14.3.1-1) Fedora Linux 40 Kernel: 5.15 Compiler: gcc gcc (GCC) 14.2.1 20240912 (Red Hat 14.2.1-3) CentOS Stream 10 Kernel: 5.15 Compiler: gcc gcc (GCC) 14.2.1 20250110 (Red Hat 14.2.1-8) Fedora Linux 42 Kernel: 5.15 Compiler: gcc gcc (GCC) 15.2.1 20250808 (Red Hat 15.2.1-1) Red Hat Enterprise Linux 8.10 Kernel: 5.15 Compiler: gcc gcc (GCC) 8.5.0 20210514 (Red Hat 8.5.0-22) Red Hat Enterprise Linux 9.5 Kernel: 5.15 Compiler: gcc gcc (GCC) 11.5.0 20240719 (Red Hat 11.5.0-2) Ubuntu 20.04 Kernel: 5.15 Compiler: gcc gcc (Ubuntu 9.4.0-1ubuntu1~20.04.2) 9.4.0 Ubuntu 24.04 Kernel: 5.15 Compiler: gcc gcc (Ubuntu 13.3.0-6ubuntu2~24.04) 13.3.0 Ubuntu 22.04 Kernel: 5.15 Compiler: gcc gcc (Ubuntu 11.4.0-1ubuntu1~22.04) 11.4.0 Windows Server 2022 Kernel: 10.0.20348.2031 Compiler: clang 15.0.7, gcc 14.1.0 (MinGW), and MSVC VS 19.39.33521 To view detailed results, visit: https://lab.dpdk.org/results/dashboard/tarballs/35217/ UNH-IOL DPDK Community Lab To manage your email subscriptions, visit: https://lab.dpdk.org/results/dashboard/preferences/subscriptions/